BEGIN:VCALENDAR
VERSION:2.0
PRODID:-//Tělocvičná jednota Sokol Bedřichov81704//NONSGML kigkonsult.se iCalcreator 2.41.80//
CALSCALE:GREGORIAN
UID:62626130-3238-4633-b235-323962393931
BEGIN:VEVENT
UID:35646261-6638-4536-b835-653330303033
DTSTAMP:20260422T154742Z
DESCRIPTION:3/8 Sokol Bedřichov - Slavia HK 2:1 (-15\,16\,10)
DTSTART;TZID=Europe/Berlin:20230325T130000
DTEND;TZID=Europe/Berlin:20230325T150000
LOCATION:TJ Sokol Bedřichov\, Jihlava\, Sokolovská 4656 Jihlava
SUMMARY:MCR-U14Z-1J: Sokol Bedřichov-Slavia HK
END:VEVENT
BEGIN:VEVENT
UID:39633339-3161-4465-b633-666464313862
DTSTAMP:20260422T154742Z
DESCRIPTION:6/16 Sokol Bedřichov - Orel Letohrad 0:2 (-12\,-7)
DTSTART;TZID=Europe/Berlin:20230325T164500
DTEND;TZID=Europe/Berlin:20230325T184500
LOCATION:TJ Sokol Bedřichov\, Jihlava\, Sokolovská 4656 Jihlava
SUMMARY:MCR-U14Z-1J: Sokol Bedřichov-Orel Letohrad
END:VEVENT
BEGIN:VEVENT
UID:65333233-3230-4438-a536-393739366234
DTSTAMP:20260422T154742Z
DESCRIPTION:7/18 Sokol Bedřichov - Sokol Nové Veselí 0:2 (-16\,-18)
DTSTART;TZID=Europe/Berlin:20230326T083000
DTEND;TZID=Europe/Berlin:20230326T103000
LOCATION:TJ Sokol Bedřichov\, Jihlava\, Sokolovská 4656 Jihlava
SUMMARY:MCR-U14Z-1J: Sokol Bedřichov-Sokol Nové Veselí
END:VEVENT
BEGIN:VEVENT
UID:65326138-3236-4530-a533-333232336136
DTSTAMP:20260422T154742Z
DESCRIPTION:9/24 Sokol Bedřichov - Lokomotiva Fosfa Břeclav 2:0 (16\,18)
DTSTART;TZID=Europe/Berlin:20230326T111500
DTEND;TZID=Europe/Berlin:20230326T131500
LOCATION:TJ Sokol Bedřichov\, Jihlava\, Sokolovská 4656 Jihlava
SUMMARY:MCR-U14Z-1J: Sokol Bedřichov-Lokomotiva Fosfa Břeclav
END:VEVENT
BEGIN:VEVENT
UID:30636162-6530-4538-b761-613632626261
DTSTAMP:20260422T154742Z
DESCRIPTION:1/2 Sokol Dolní Újezd - Sokol Bedřichov 0:2 (-14\,-17)
DTSTART;TZID=Europe/Berlin:20230325T090000
DTEND;TZID=Europe/Berlin:20230325T110000
LOCATION:tělocvična Základní školy\,  Dolní Újezd342
SUMMARY:MCR-U14Z-1J: Sokol Dolní Újezd-Sokol Bedřichov
END:VEVENT
BEGIN:VEVENT
UID:31613633-3535-4266-b530-303234303332
DTSTAMP:20260422T154742Z
DESCRIPTION:2/5 RÉMA Rychnov n. K. - Sokol Bedřichov 0:2 (-14\,-21)
DTSTART;TZID=Europe/Berlin:20230325T103000
DTEND;TZID=Europe/Berlin:20230325T123000
LOCATION:VOŠ a SŠ zem.\, Komenského 873 Kostelec nad Orlicí
SUMMARY:MCR-U14Z-1J: RÉMA Rychnov n. K.-Sokol Bedřichov
END:VEVENT
BEGIN:VEVENT
UID:39653237-3334-4336-a364-383038356238
DTSTAMP:20260422T154742Z
DESCRIPTION:8/22 Sokol Pardubice I. - Sokol Bedřichov 1:2 (-16\,19\,-9)
DTSTART;TZID=Europe/Berlin:20230326T100000
DTEND;TZID=Europe/Berlin:20230326T120000
LOCATION:Sokolovna\, Jiráskova 29 Pardubice - Zelené Předměstí
SUMMARY:MCR-U14Z-1J: Sokol Pardubice I.-Sokol Bedřichov
END:VEVENT
BEGIN:VEVENT
UID:62323436-3265-4066-a261-326538626364
DTSTAMP:20260422T154742Z
DESCRIPTION:4/10 Sokol Bedřichov - VO TJ Lanškroun 0:2 (-21\,-13)
DTSTART;TZID=Europe/Berlin:20230422T143000
DTEND;TZID=Europe/Berlin:20230422T163000
LOCATION:TJ Sokol Bedřichov\, Jihlava\, Sokolovská 4656 Jihlava
SUMMARY:MCR-U14Z-2E: Sokol Bedřichov-VO TJ Lanškroun
END:VEVENT
BEGIN:VEVENT
UID:35356135-3534-4930-a166-393666323963
DTSTAMP:20260422T154742Z
DESCRIPTION:9/25 Sokol Bedřichov - VK Lvi Praha 0:2 (-13\,-9)
DTSTART;TZID=Europe/Berlin:20230423T120000
DTEND;TZID=Europe/Berlin:20230423T140000
LOCATION:TJ Sokol Bedřichov\, Jihlava\, Sokolovská 4656 Jihlava
SUMMARY:MCR-U14Z-2E: Sokol Bedřichov-VK Lvi Praha
END:VEVENT
BEGIN:VEVENT
UID:37653131-3264-4765-a665-316139626130
DTSTAMP:20260422T154742Z
DESCRIPTION:10/28 Sokol Bedřichov - VK Znojmo - Přímětice 2:1 (23\,-16\,16)
DTSTART;TZID=Europe/Berlin:20230423T133000
DTEND;TZID=Europe/Berlin:20230423T153000
LOCATION:TJ Sokol Bedřichov\, Jihlava\, Sokolovská 4656 Jihlava
SUMMARY:MCR-U14Z-2E: Sokol Bedřichov-VK Znojmo - Přímětice
END:VEVENT
BEGIN:VEVENT
UID:61383131-3136-4565-a562-313832333262
DTSTAMP:20260422T154742Z
DESCRIPTION:1/1 Spartak Hořovice - Sokol Bedřichov 0:2 (-12\,-20)
DTSTART;TZID=Europe/Berlin:20230422T100000
DTEND;TZID=Europe/Berlin:20230422T120000
LOCATION:Sportovní hala\, Ke Stadionu 1385 Hořovice
SUMMARY:MCR-U14Z-2E: Spartak Hořovice-Sokol Bedřichov
END:VEVENT
BEGIN:VEVENT
UID:61643362-6338-4261-b936-643438633334
DTSTAMP:20260422T154742Z
DESCRIPTION:2/6 Baník Příbram A - Sokol Bedřichov 2:0 (18\,12)
DTSTART;TZID=Europe/Berlin:20230422T113000
DTEND;TZID=Europe/Berlin:20230422T133000
LOCATION:Tělocvična ZŠ Balbínova\, Balbínova 328 Příbram - Příbram II
SUMMARY:MCR-U14Z-2E: Baník Příbram A-Sokol Bedřichov
END:VEVENT
BEGIN:VEVENT
UID:36363033-3530-4065-a337-303330643734
DTSTAMP:20260422T154742Z
DESCRIPTION:6/15 Madeta ČB - Sokol Bedřichov 0:2 (-13\,-11)
DTSTART;TZID=Europe/Berlin:20230422T173000
DTEND;TZID=Europe/Berlin:20230422T193000
LOCATION:Sportovní hala\, Stromovka 1216 České Budějovice - České Budějovic
 e 2
SUMMARY:MCR-U14Z-2E: Madeta ČB-Sokol Bedřichov
END:VEVENT
BEGIN:VEVENT
UID:37313534-3333-4939-b964-633866323938
DTSTAMP:20260422T154742Z
DESCRIPTION:8/23 Happy Sport Opava - Sokol Bedřichov 0:2 (-14\,-17)
DTSTART;TZID=Europe/Berlin:20230423T103000
DTEND;TZID=Europe/Berlin:20230423T123000
LOCATION:Sportovní hala Slezského gymnázia v Opavě\, Zámecký okruh 461 Opav
 a - Město
SUMMARY:MCR-U14Z-2E: Happy Sport Opava-Sokol Bedřichov
END:VEVENT
END:VCALENDAR
