BEGIN:VCALENDAR
VERSION:2.0
PRODID:-//AERO Odolena Voda81741//NONSGML kigkonsult.se iCalcreator 2.41.80//
CALSCALE:GREGORIAN
UID:63393337-3934-4539-a532-376433393066
BEGIN:VEVENT
UID:63306234-3438-4264-b532-363230376361
DTSTAMP:20260422T183051Z
DESCRIPTION:4/8 AERO Odolena Voda - SK PROSEK 0:2 (-13\,-23)
DTSTART;TZID=Europe/Berlin:20230415T120000
DTEND;TZID=Europe/Berlin:20230415T140000
LOCATION:Sportovní hala\, Ke Stadionu 375 Odolena Voda
SUMMARY:MCR-U14MA: AERO Odolena Voda-SK PROSEK
END:VEVENT
BEGIN:VEVENT
UID:39656335-3336-4366-a638-636134636336
DTSTAMP:20260422T183051Z
DESCRIPTION:7/14 AERO Odolena Voda - TJ Sokol Mn. Hradiště 0:2 (-8\,-12)
DTSTART;TZID=Europe/Berlin:20230415T150000
DTEND;TZID=Europe/Berlin:20230415T170000
LOCATION:Sportovní hala\, Ke Stadionu 375 Odolena Voda
SUMMARY:MCR-U14MA: AERO Odolena Voda-TJ Sokol Mn. Hradiště
END:VEVENT
BEGIN:VEVENT
UID:33363361-6538-4132-a163-633464653830
DTSTAMP:20260422T183051Z
DESCRIPTION:1/1 TJ Slavia Hradec Králové\, z.s. - AERO Odolena Voda 0:2 (-1
 6\,-20)\nhala Pouchov\, K Sokolovně 544/19
DTSTART;TZID=Europe/Berlin:20230415T090000
DTEND;TZID=Europe/Berlin:20230415T110000
LOCATION:TJ Slavia Hradec Králové\, Víta Nejedlého 1216 Hradec Králové
SUMMARY:MCR-U14MA: TJ Slavia Hradec Králové\, z.s.-AERO Odolena Voda
END:VEVENT
BEGIN:VEVENT
UID:36626631-3965-4666-b964-396263366431
DTSTAMP:20260422T183051Z
DESCRIPTION:2/4 SK Volejbal Kolín\, z.s. - AERO Odolena Voda 2:0 (25\,21)
DTSTART;TZID=Europe/Berlin:20230415T100000
DTEND;TZID=Europe/Berlin:20230415T120000
LOCATION:hala STAV\, SOŠ Kolín\, Brankovická 1417 Kolín - Kolín V
SUMMARY:MCR-U14MA: SK Volejbal Kolín\, z.s.-AERO Odolena Voda
END:VEVENT
BEGIN:VEVENT
UID:38373366-3162-4631-b134-373637653433
DTSTAMP:20260422T183051Z
DESCRIPTION:5/10 VK Lvi Praha - AERO Odolena Voda 2:1 (20\,-19\,8)
DTSTART;TZID=Europe/Berlin:20230415T130000
DTEND;TZID=Europe/Berlin:20230415T150000
LOCATION:Sportovní hala Lužiny\, Bellušova 1877 Praha - Stodůlky
SUMMARY:MCR-U14MA: VK Lvi Praha-AERO Odolena Voda
END:VEVENT
END:VCALENDAR
