BEGIN:VCALENDAR
VERSION:2.0
PRODID:-//Beach volleyball club Chodov, zapsaný spolek81764//NONSGML kigkonsult.se iCalcreator 2.41.80//
CALSCALE:GREGORIAN
UID:39336463-6365-4430-a261-356232653564
BEGIN:VEVENT
UID:63613339-6636-4166-a138-343837393236
DTSTAMP:20260422T093658Z
DESCRIPTION:1/1 BVC Chodov - Kladno volejbal 0:2 (-12\,-9)
DTSTART;TZID=Europe/Berlin:20230325T103000
DTEND;TZID=Europe/Berlin:20230325T123000
LOCATION:Městská sportovní hala Chodov\, Tyršova 1201 Chodov
SUMMARY:MCR-U14Z-1FB: BVC Chodov-Kladno volejbal
END:VEVENT
BEGIN:VEVENT
UID:31653231-3139-4638-a234-393630323963
DTSTAMP:20260422T093658Z
DESCRIPTION:2/2 BVC Chodov - Mikulova Praha B 0:2 (-26\,-16)
DTSTART;TZID=Europe/Berlin:20230325T114500
DTEND;TZID=Europe/Berlin:20230325T134500
LOCATION:Městská sportovní hala Chodov\, Tyršova 1201 Chodov
SUMMARY:MCR-U14Z-1FB: BVC Chodov-Mikulova Praha B
END:VEVENT
BEGIN:VEVENT
UID:63383732-6363-4037-b936-333965646336
DTSTAMP:20260422T093658Z
DESCRIPTION:2/2 VK Tuchlovice - BVC Chodov 0:2 (-10\,-14)
DTSTART;TZID=Europe/Berlin:20230325T161500
DTEND;TZID=Europe/Berlin:20230325T181500
LOCATION:ZŠ Tuchlovice\, Školní 277 Tuchlovice
SUMMARY:MCR-U14Z-1FF: VK Tuchlovice-BVC Chodov
END:VEVENT
BEGIN:VEVENT
UID:39326261-3132-4538-b533-393566643866
DTSTAMP:20260422T093658Z
DESCRIPTION:3/3 SK Volejbal Ústí n. L. - BVC Chodov 2:1 (18\,-18\,11)
DTSTART;TZID=Europe/Berlin:20230325T173000
DTEND;TZID=Europe/Berlin:20230325T193000
LOCATION:Základní škola Stříbrnická\, Stříbrnická 3031 Ústí nad Labem - Sev
 erní Terasa
SUMMARY:MCR-U14Z-1FF: SK Volejbal Ústí n. L.-BVC Chodov
END:VEVENT
BEGIN:VEVENT
UID:66346234-3633-4339-a663-643165343937
DTSTAMP:20260422T093658Z
DESCRIPTION:2/2 BVC Chodov - SPIRIT Říčany 2:0 (19\,22)
DTSTART;TZID=Europe/Berlin:20230326T094500
DTEND;TZID=Europe/Berlin:20230326T114500
LOCATION:Městská sportovní hala Chodov\, Tyršova 1201 Chodov
SUMMARY:MCR-U14Z-1FH: BVC Chodov-SPIRIT Říčany
END:VEVENT
BEGIN:VEVENT
UID:62666130-6165-4433-a534-656337343264
DTSTAMP:20260422T093658Z
DESCRIPTION:1/1 Kladno volejbal - BVC Chodov 2:0 (22\,20)
DTSTART;TZID=Europe/Berlin:20230326T083000
DTEND;TZID=Europe/Berlin:20230326T103000
LOCATION:Kladenská sportovní hala\, Sportovců 817 Kladno - Rozdělov
SUMMARY:MCR-U14Z-1FH: Kladno volejbal-BVC Chodov
END:VEVENT
END:VCALENDAR
