BEGIN:VCALENDAR
VERSION:2.0
PRODID:-//TJ Slovan Varnsdorf z.s.81874//NONSGML kigkonsult.se iCalcreator 2.41.80//
CALSCALE:GREGORIAN
UID:33653135-6665-4532-b961-623963623933
BEGIN:VEVENT
UID:63383562-6338-4235-b733-383663366264
DTSTAMP:20260422T162846Z
DESCRIPTION:3/7 TJ Slovan Varnsdorf z.s. - Tělovýchovná jednota Jiskra Nový
  Bor\, z.s. 2:3 (12\,-12\,-24\,21\,-12)
DTSTART;TZID=Europe/Berlin:20231021T100000
DTEND;TZID=Europe/Berlin:20231021T120000
LOCATION:, Edisonova 2821 Varnsdorf
SUMMARY:LIB-Z-1: TJ Slovan Varnsdorf z.s.-Tělovýchovná jednota Jiskra Nový 
 Bor\, z.s.
END:VEVENT
BEGIN:VEVENT
UID:39613138-3865-4162-b136-386265323964
DTSTAMP:20260422T162846Z
DESCRIPTION:4/10 TJ Slovan Varnsdorf z.s. - Tělovýchovná jednota Jiskra Nov
 ý Bor\, z.s. 2:3 (-16\,20\,18\,-12\,-12)
DTSTART;TZID=Europe/Berlin:20231021T130000
DTEND;TZID=Europe/Berlin:20231021T150000
LOCATION:, Edisonova 2821 Varnsdorf
SUMMARY:LIB-Z-1: TJ Slovan Varnsdorf z.s.-Tělovýchovná jednota Jiskra Nový 
 Bor\, z.s.
END:VEVENT
BEGIN:VEVENT
UID:36663464-6561-4231-a165-323366336636
DTSTAMP:20260422T162846Z
DESCRIPTION:7/19 TJ Slovan Varnsdorf z.s. - Jablonec n. N. 1:3 (21\,-18\,-1
 4\,-20)
DTSTART;TZID=Europe/Berlin:20231125T100000
DTEND;TZID=Europe/Berlin:20231125T120000
LOCATION:, Edisonova 2821 Varnsdorf
SUMMARY:LIB-Z-1: TJ Slovan Varnsdorf z.s.-Jablonec n. N.
END:VEVENT
BEGIN:VEVENT
UID:34356335-3765-4764-b666-313033303638
DTSTAMP:20260422T162846Z
DESCRIPTION:8/22 TJ Slovan Varnsdorf z.s. - Jablonec n. N. 0:3 (-20\,-22\,-
 16)
DTSTART;TZID=Europe/Berlin:20231125T130000
DTEND;TZID=Europe/Berlin:20231125T150000
LOCATION:, Edisonova 2821 Varnsdorf
SUMMARY:LIB-Z-1: TJ Slovan Varnsdorf z.s.-Jablonec n. N.
END:VEVENT
BEGIN:VEVENT
UID:36613266-6362-4233-a239-626239623739
DTSTAMP:20260422T162846Z
DESCRIPTION:15/43 TJ Slovan Varnsdorf z.s. - TJ Turnov 0:3 (-14\,-16\,-21)
DTSTART;TZID=Europe/Berlin:20240210T100000
DTEND;TZID=Europe/Berlin:20240210T120000
LOCATION:, Edisonova 2821 Varnsdorf
SUMMARY:LIB-Z-1: TJ Slovan Varnsdorf z.s.-TJ Turnov
END:VEVENT
BEGIN:VEVENT
UID:39376364-3335-4865-b230-616338386235
DTSTAMP:20260422T162846Z
DESCRIPTION:16/46 TJ Slovan Varnsdorf z.s. - TJ Turnov 1:3 (26\,-21\,-17\,-
 20)
DTSTART;TZID=Europe/Berlin:20240210T130000
DTEND;TZID=Europe/Berlin:20240210T150000
LOCATION:, Edisonova 2821 Varnsdorf
SUMMARY:LIB-Z-1: TJ Slovan Varnsdorf z.s.-TJ Turnov
END:VEVENT
BEGIN:VEVENT
UID:64313732-3030-4431-b633-303331366431
DTSTAMP:20260422T162846Z
DESCRIPTION:19/55 TJ Slovan Varnsdorf z.s. - TJ Bižuterie Jablonec n/N B 2:
 3 (25\,26\,-23\,-23\,-9)\nzměna termínu-Rumburk
DTSTART;TZID=Europe/Berlin:20240302T100000
DTEND;TZID=Europe/Berlin:20240302T120000
LOCATION:, Edisonova 2821 Varnsdorf
SUMMARY:LIB-Z-1: TJ Slovan Varnsdorf z.s.-TJ Bižuterie Jablonec n/N B
END:VEVENT
BEGIN:VEVENT
UID:32333230-6437-4339-a132-386566353363
DTSTAMP:20260422T162846Z
DESCRIPTION:20/58 TJ Slovan Varnsdorf z.s. - TJ Bižuterie Jablonec n/N B 3:
 2 (23\,-14\,-22\,12\,10)\nzměna termínu-Rumburk
DTSTART;TZID=Europe/Berlin:20240302T130000
DTEND;TZID=Europe/Berlin:20240302T150000
LOCATION:, Edisonova 2821 Varnsdorf
SUMMARY:LIB-Z-1: TJ Slovan Varnsdorf z.s.-TJ Bižuterie Jablonec n/N B
END:VEVENT
BEGIN:VEVENT
UID:34633866-3433-4232-b333-323364656231
DTSTAMP:20260422T162846Z
DESCRIPTION:5/13 TJ Turnov - TJ Slovan Varnsdorf z.s. 3:0 (22\,12\,12)\nzmě
 na času
DTSTART;TZID=Europe/Berlin:20231111T090000
DTEND;TZID=Europe/Berlin:20231111T110000
LOCATION:TJ Turnov\, Skálova 207 Turnov
SUMMARY:LIB-Z-1: TJ Turnov-TJ Slovan Varnsdorf z.s.
END:VEVENT
BEGIN:VEVENT
UID:61663830-6432-4734-b934-343138306663
DTSTAMP:20260422T162846Z
DESCRIPTION:6/16 TJ Turnov - TJ Slovan Varnsdorf z.s. 3:0 (29\,24\,22)
DTSTART;TZID=Europe/Berlin:20231111T130000
DTEND;TZID=Europe/Berlin:20231111T150000
LOCATION:TJ Turnov\, Skálova 207 Turnov
SUMMARY:LIB-Z-1: TJ Turnov-TJ Slovan Varnsdorf z.s.
END:VEVENT
BEGIN:VEVENT
UID:37646632-6138-4530-a639-616562393937
DTSTAMP:20260422T162846Z
DESCRIPTION:9/25 TJ Bižuterie Jablonec n/N B - TJ Slovan Varnsdorf z.s. 3:2
  (27\,-13\,-24\,20\,10)
DTSTART;TZID=Europe/Berlin:20231202T100000
DTEND;TZID=Europe/Berlin:20231202T120000
LOCATION:Městská sportovní hala\, U Přehrady 4747 Jablonec nad Nisou
SUMMARY:LIB-Z-1: TJ Bižuterie Jablonec n/N B-TJ Slovan Varnsdorf z.s.
END:VEVENT
BEGIN:VEVENT
UID:65313463-6134-4836-a661-316133306336
DTSTAMP:20260422T162846Z
DESCRIPTION:10/28 TJ Bižuterie Jablonec n/N B - TJ Slovan Varnsdorf z.s. 3:
 1 (18\,-16\,22\,21)
DTSTART;TZID=Europe/Berlin:20231202T130000
DTEND;TZID=Europe/Berlin:20231202T150000
LOCATION:Městská sportovní hala\, U Přehrady 4747 Jablonec nad Nisou
SUMMARY:LIB-Z-1: TJ Bižuterie Jablonec n/N B-TJ Slovan Varnsdorf z.s.
END:VEVENT
BEGIN:VEVENT
UID:36363965-3430-4233-a231-663633383036
DTSTAMP:20260422T162846Z
DESCRIPTION:13/37 Tělovýchovná jednota Jiskra Nový Bor\, z.s. - TJ Slovan V
 arnsdorf z.s. 3:1 (15\,23\,-14\,23)
DTSTART;TZID=Europe/Berlin:20240203T100000
DTEND;TZID=Europe/Berlin:20240203T120000
LOCATION:Sportovní hala Františka Arnošta Nový Bor\, U hřiště 1391 Nový Bor
SUMMARY:LIB-Z-1: Tělovýchovná jednota Jiskra Nový Bor\, z.s.-TJ Slovan Varn
 sdorf z.s.
END:VEVENT
BEGIN:VEVENT
UID:66323861-6239-4434-b433-633534346439
DTSTAMP:20260422T162846Z
DESCRIPTION:14/40 Tělovýchovná jednota Jiskra Nový Bor\, z.s. - TJ Slovan V
 arnsdorf z.s. 3:1 (21\,-11\,20\,25)
DTSTART;TZID=Europe/Berlin:20240203T130000
DTEND;TZID=Europe/Berlin:20240203T150000
LOCATION:Sportovní hala Františka Arnošta Nový Bor\, U hřiště 1391 Nový Bor
SUMMARY:LIB-Z-1: Tělovýchovná jednota Jiskra Nový Bor\, z.s.-TJ Slovan Varn
 sdorf z.s.
END:VEVENT
BEGIN:VEVENT
UID:66313766-6636-4237-b335-386235333930
DTSTAMP:20260422T162846Z
DESCRIPTION:17/49 Jablonec n. N. - TJ Slovan Varnsdorf z.s. 3:2 (17\,-20\,2
 0\,-26\,5)\nzměna času
DTSTART;TZID=Europe/Berlin:20240217T090000
DTEND;TZID=Europe/Berlin:20240217T110000
LOCATION:Městská sportovní hala\, U Přehrady 4747 Jablonec nad Nisou
SUMMARY:LIB-Z-1: Jablonec n. N.-TJ Slovan Varnsdorf z.s.
END:VEVENT
BEGIN:VEVENT
UID:35396433-3134-4335-a334-633434313965
DTSTAMP:20260422T162846Z
DESCRIPTION:18/52 Jablonec n. N. - TJ Slovan Varnsdorf z.s. 3:0 (18\,25\,19
 )
DTSTART;TZID=Europe/Berlin:20240217T130000
DTEND;TZID=Europe/Berlin:20240217T150000
LOCATION:Městská sportovní hala\, U Přehrady 4747 Jablonec nad Nisou
SUMMARY:LIB-Z-1: Jablonec n. N.-TJ Slovan Varnsdorf z.s.
END:VEVENT
END:VCALENDAR
