BEGIN:VCALENDAR
VERSION:2.0
PRODID:-//TJ Zikuda Turnov "A"81899//NONSGML kigkonsult.se iCalcreator 2.41.80//
CALSCALE:GREGORIAN
UID:32653365-3531-4465-a266-373237303833
BEGIN:VEVENT
UID:32366261-3935-4136-b665-653138636632
DTSTAMP:20260423T000349Z
DESCRIPTION:4/4 TJ Turnov 'A' - Dukla Liberec 'B' 2:0 (9\,10)
DTSTART;TZID=Europe/Berlin:20230910T100000
DTEND;TZID=Europe/Berlin:20230910T120000
LOCATION:TJ Turnov\, Skálova 207 Turnov
SUMMARY:LIB-U16Z-K-A: TJ Turnov 'A'-Dukla Liberec 'B'
END:VEVENT
BEGIN:VEVENT
UID:35373466-3332-4466-b462-316230316333
DTSTAMP:20260423T000349Z
DESCRIPTION:7/7 TJ Turnov 'A' - SK ToRiK Doksy 2:0 (12\,9)
DTSTART;TZID=Europe/Berlin:20230910T110000
DTEND;TZID=Europe/Berlin:20230910T130000
LOCATION:TJ Turnov\, Skálova 207 Turnov
SUMMARY:LIB-U16Z-K-A: TJ Turnov 'A'-SK ToRiK Doksy
END:VEVENT
BEGIN:VEVENT
UID:39316532-6566-4639-b832-633364613965
DTSTAMP:20260423T000349Z
DESCRIPTION:13/13 TJ Turnov 'A' - BV Vratislavice 1:2 (13\,-19\,-11)
DTSTART;TZID=Europe/Berlin:20230910T130000
DTEND;TZID=Europe/Berlin:20230910T150000
LOCATION:TJ Turnov\, Skálova 207 Turnov
SUMMARY:LIB-U16Z-K-A: TJ Turnov 'A'-BV Vratislavice
END:VEVENT
BEGIN:VEVENT
UID:38323837-6262-4331-b537-616237616530
DTSTAMP:20260423T000349Z
DESCRIPTION:2/4 TJ Turnov 'A' - SK Ještědská Liberec 'B' 2:0 (13\,9)
DTSTART;TZID=Europe/Berlin:20231001T100000
DTEND;TZID=Europe/Berlin:20231001T120000
LOCATION:TJ Turnov\, Skálova 207 Turnov
SUMMARY:LIB-U16Z-K-G: TJ Turnov 'A'-SK Ještědská Liberec 'B'
END:VEVENT
BEGIN:VEVENT
UID:65646166-3033-4539-b230-306165346239
DTSTAMP:20260423T000349Z
DESCRIPTION:5/13 TJ Turnov 'A' - TJ Bižuterie Jablonec n/N B 2:0 (24\,17)
DTSTART;TZID=Europe/Berlin:20231001T130000
DTEND;TZID=Europe/Berlin:20231001T150000
LOCATION:TJ Turnov\, Skálova 207 Turnov
SUMMARY:LIB-U16Z-K-G: TJ Turnov 'A'-TJ Bižuterie Jablonec n/N B
END:VEVENT
BEGIN:VEVENT
UID:39353864-3765-4164-b663-386464663932
DTSTAMP:20260423T000349Z
DESCRIPTION:4/10 Liberec - TJ Turnov 'A' 2:0 (13\,17)
DTSTART;TZID=Europe/Berlin:20231001T120000
DTEND;TZID=Europe/Berlin:20231001T140000
LOCATION:Dukla Liberec\, Jeronýmova 558 Liberec - Liberec VII-Horní Růžodol
SUMMARY:LIB-U16Z-K-G: Liberec-TJ Turnov 'A'
END:VEVENT
BEGIN:VEVENT
UID:32323235-3965-4665-b136-306561396331
DTSTAMP:20260423T000349Z
DESCRIPTION:2/2 TJ Slovan Varnsdorf  'A' - TJ Turnov 'A' 2:1 (-20\,23\,7)
DTSTART;TZID=Europe/Berlin:20231105T100000
DTEND;TZID=Europe/Berlin:20231105T120000
LOCATION:Sportovní hala Varnsdorf\, Západní 2984 Varnsdorf
SUMMARY:LIB-U16Z-2L: TJ Slovan Varnsdorf  'A'-TJ Turnov 'A'
END:VEVENT
BEGIN:VEVENT
UID:32346565-6665-4136-a238-363965326665
DTSTAMP:20260423T000349Z
DESCRIPTION:4/4 Vrtule Frýdlant - TJ Turnov 'A' 2:1 (15\,-21\,11)
DTSTART;TZID=Europe/Berlin:20231105T120000
DTEND;TZID=Europe/Berlin:20231105T140000
LOCATION:Střední škola hospodářská a lesnická \, Bělíkova 1387 Frýdlant
SUMMARY:LIB-U16Z-2L: Vrtule Frýdlant-TJ Turnov 'A'
END:VEVENT
BEGIN:VEVENT
UID:35306135-6637-4236-a639-373464656635
DTSTAMP:20260423T000349Z
DESCRIPTION:5/5 TJ Jiskra Nový Bor 'A' - TJ Turnov 'A' 2:0 (21\,21)
DTSTART;TZID=Europe/Berlin:20231105T130000
DTEND;TZID=Europe/Berlin:20231105T150000
LOCATION:Sportovní hala Františka Arnošta Nový Bor\, U hřiště 1391 Nový Bor
SUMMARY:LIB-U16Z-2L: TJ Jiskra Nový Bor 'A'-TJ Turnov 'A'
END:VEVENT
BEGIN:VEVENT
UID:62646165-6234-4334-b136-356336376134
DTSTAMP:20260423T000349Z
DESCRIPTION:2/7 TJ Turnov 'A' - BV Vratislavice 0:2 (-10\,-22)
DTSTART;TZID=Europe/Berlin:20231203T100000
DTEND;TZID=Europe/Berlin:20231203T120000
LOCATION:TJ Turnov\, Skálova 207 Turnov
SUMMARY:LIB-U16Z-2-3L: TJ Turnov 'A'-BV Vratislavice
END:VEVENT
BEGIN:VEVENT
UID:39393734-6439-4533-b266-386133313031
DTSTAMP:20260423T000349Z
DESCRIPTION:3/11 TJ Turnov 'A' - TJ SLAVIA Liberec 2:1 (3\,-23\,13)
DTSTART;TZID=Europe/Berlin:20231203T110000
DTEND;TZID=Europe/Berlin:20231203T130000
LOCATION:TJ Turnov\, Skálova 207 Turnov
SUMMARY:LIB-U16Z-2-3L: TJ Turnov 'A'-TJ SLAVIA Liberec
END:VEVENT
BEGIN:VEVENT
UID:30653037-3565-4235-a161-336663386638
DTSTAMP:20260423T000349Z
DESCRIPTION:5/19 TJ Turnov 'A' - Schrödingerův institut Varnsdorf 0:2 (-14\
 ,-15)
DTSTART;TZID=Europe/Berlin:20231203T130000
DTEND;TZID=Europe/Berlin:20231203T150000
LOCATION:TJ Turnov\, Skálova 207 Turnov
SUMMARY:LIB-U16Z-2-3L: TJ Turnov 'A'-Schrödingerův institut Varnsdorf
END:VEVENT
BEGIN:VEVENT
UID:65663533-6162-4139-b438-393134656533
DTSTAMP:20260423T000349Z
DESCRIPTION:6/11 TJ Turnov 'A' - TJ Lokomotiva Česká Lípa 1:2 (-15\,23\,-8)
DTSTART;TZID=Europe/Berlin:20240107T140000
DTEND;TZID=Europe/Berlin:20240107T160000
LOCATION:TJ Turnov\, Skálova 207 Turnov
SUMMARY:LIB-U16Z-3-3L: TJ Turnov 'A'-TJ Lokomotiva Česká Lípa
END:VEVENT
BEGIN:VEVENT
UID:61613634-6230-4732-b661-613462626636
DTSTAMP:20260423T000349Z
DESCRIPTION:2/3 TJ Jiskra Nový Bor 'A' - TJ Turnov 'A' 2:0 (19\,18)
DTSTART;TZID=Europe/Berlin:20240107T100000
DTEND;TZID=Europe/Berlin:20240107T120000
LOCATION:Sportovní hala Františka Arnošta Nový Bor\, U hřiště 1391 Nový Bor
SUMMARY:LIB-U16Z-3-3L: TJ Jiskra Nový Bor 'A'-TJ Turnov 'A'
END:VEVENT
BEGIN:VEVENT
UID:36313936-3263-4736-b733-363031353436
DTSTAMP:20260423T000349Z
DESCRIPTION:4/7 BV Vratislavice - TJ Turnov 'A' 0:2 (-18\,-22)
DTSTART;TZID=Europe/Berlin:20240107T120000
DTEND;TZID=Europe/Berlin:20240107T140000
LOCATION:, Nad Školou 278 Liberec - Liberec XXX-Vratislavice nad Nisou
SUMMARY:LIB-U16Z-3-3L: BV Vratislavice-TJ Turnov 'A'
END:VEVENT
BEGIN:VEVENT
UID:38316165-3261-4238-a362-643138383939
DTSTAMP:20260423T000349Z
DESCRIPTION:1/2 TJ Turnov 'A' - TJ Bižuterie Jablonec n/N B 2:1 (-24\,25\,1
 3)
DTSTART;TZID=Europe/Berlin:20240121T090000
DTEND;TZID=Europe/Berlin:20240121T110000
LOCATION:TJ Turnov\, Skálova 207 Turnov
SUMMARY:LIB-U16Z-4-3L: TJ Turnov 'A'-TJ Bižuterie Jablonec n/N B
END:VEVENT
BEGIN:VEVENT
UID:64633761-3432-4262-b330-343434633639
DTSTAMP:20260423T000349Z
DESCRIPTION:4/8 TJ Turnov 'A' - TJ Lokomotiva Česká Lípa 2:0 (18\,16)
DTSTART;TZID=Europe/Berlin:20240121T120000
DTEND;TZID=Europe/Berlin:20240121T140000
LOCATION:TJ Turnov\, Skálova 207 Turnov
SUMMARY:LIB-U16Z-4-3L: TJ Turnov 'A'-TJ Lokomotiva Česká Lípa
END:VEVENT
BEGIN:VEVENT
UID:33316131-3038-4264-b865-316131363434
DTSTAMP:20260423T000349Z
DESCRIPTION:5/10 Sportovní klub Hodkovice nad Mohelkou z.s. - TJ Turnov 'A'
  2:0 (8\,20)
DTSTART;TZID=Europe/Berlin:20240121T130000
DTEND;TZID=Europe/Berlin:20240121T150000
LOCATION:Sportovní hala Hodkovice nad Mohelkou\, Sportovní 588 Hodkovice na
 d Mohelkou
SUMMARY:LIB-U16Z-4-3L: Sportovní klub Hodkovice nad Mohelkou z.s.-TJ Turnov
  'A'
END:VEVENT
BEGIN:VEVENT
UID:62323964-6139-4035-a363-363961336261
DTSTAMP:20260423T000349Z
DESCRIPTION:1/1 TJ Turnov 'A' - BV Vratislavice 0:2 (-15\,-14)
DTSTART;TZID=Europe/Berlin:20240210T090000
DTEND;TZID=Europe/Berlin:20240210T110000
LOCATION:TJ Turnov\, Skálova 207 Turnov
SUMMARY:LIB-U16Z-5-3L: TJ Turnov 'A'-BV Vratislavice
END:VEVENT
BEGIN:VEVENT
UID:38343263-3439-4363-b130-356438313361
DTSTAMP:20260423T000349Z
DESCRIPTION:4/7 TJ Turnov 'A' - TJ Lokomotiva Česká Lípa 2:1 (-10\,22\,14)
DTSTART;TZID=Europe/Berlin:20240210T120000
DTEND;TZID=Europe/Berlin:20240210T140000
LOCATION:TJ Turnov\, Skálova 207 Turnov
SUMMARY:LIB-U16Z-5-3L: TJ Turnov 'A'-TJ Lokomotiva Česká Lípa
END:VEVENT
BEGIN:VEVENT
UID:36646230-3565-4762-b630-373366613961
DTSTAMP:20260423T000349Z
DESCRIPTION:5/9 TJ Jiskra Nový Bor 'A' - TJ Turnov 'A' 2:0 (13\,10)
DTSTART;TZID=Europe/Berlin:20240210T130000
DTEND;TZID=Europe/Berlin:20240210T150000
LOCATION:Sportovní hala Františka Arnošta Nový Bor\, U hřiště 1391 Nový Bor
SUMMARY:LIB-U16Z-5-3L: TJ Jiskra Nový Bor 'A'-TJ Turnov 'A'
END:VEVENT
BEGIN:VEVENT
UID:37663938-6337-4133-b430-373330333338
DTSTAMP:20260423T000349Z
DESCRIPTION:1/1 TJ Turnov 'A' - TJ Lokomotiva Česká Lípa 0:2 (-14\,-23)
DTSTART;TZID=Europe/Berlin:20240310T090000
DTEND;TZID=Europe/Berlin:20240310T110000
LOCATION:TJ Turnov\, Skálova 207 Turnov
SUMMARY:LIB-U16Z-F-3L: TJ Turnov 'A'-TJ Lokomotiva Česká Lípa
END:VEVENT
BEGIN:VEVENT
UID:36316664-6232-4534-b863-646135326665
DTSTAMP:20260423T000349Z
DESCRIPTION:4/7 TJ Turnov 'A' - BV Vratislavice 0:2 (-23\,-22)
DTSTART;TZID=Europe/Berlin:20240310T120000
DTEND;TZID=Europe/Berlin:20240310T140000
LOCATION:TJ Turnov\, Skálova 207 Turnov
SUMMARY:LIB-U16Z-F-3L: TJ Turnov 'A'-BV Vratislavice
END:VEVENT
BEGIN:VEVENT
UID:31633664-6438-4266-a461-363430643362
DTSTAMP:20260423T000349Z
DESCRIPTION:5/9 TJ Jiskra Nový Bor 'A' - TJ Turnov 'A' 1:2 (-25\,10\,-13)
DTSTART;TZID=Europe/Berlin:20240310T130000
DTEND;TZID=Europe/Berlin:20240310T150000
LOCATION:Sportovní hala Františka Arnošta Nový Bor\, U hřiště 1391 Nový Bor
SUMMARY:LIB-U16Z-F-3L: TJ Jiskra Nový Bor 'A'-TJ Turnov 'A'
END:VEVENT
END:VCALENDAR
