BEGIN:VCALENDAR
VERSION:2.0
PRODID:-//TJ SLAVIA Liberec81910//NONSGML kigkonsult.se iCalcreator 2.41.80//
CALSCALE:GREGORIAN
UID:36613762-3663-4863-b162-316661623936
BEGIN:VEVENT
UID:36663262-3264-4437-b063-383339386666
DTSTAMP:20260422T162849Z
DESCRIPTION:17/17 TJ SLAVIA Liberec - TJ Lokomotiva Česká Lípa 1:2 (-18\,19
 \,-6)
DTSTART;TZID=Europe/Berlin:20230910T140000
DTEND;TZID=Europe/Berlin:20230910T160000
LOCATION:Základní škola\, Liberec\, Sokolovská \, Sokolovská 328 Liberec - 
 Liberec XIII-Nové Pavlovice
SUMMARY:LIB-U16Z-K-B: TJ SLAVIA Liberec-TJ Lokomotiva Česká Lípa
END:VEVENT
BEGIN:VEVENT
UID:64613262-3730-4964-a664-353838613731
DTSTAMP:20260422T162849Z
DESCRIPTION:5/5 Liberec - TJ SLAVIA Liberec 2:0 (4\,18)
DTSTART;TZID=Europe/Berlin:20230910T100000
DTEND;TZID=Europe/Berlin:20230910T120000
LOCATION:Dukla Liberec\, Jeronýmova 558 Liberec - Liberec VII-Horní Růžodol
SUMMARY:LIB-U16Z-K-B: Liberec-TJ SLAVIA Liberec
END:VEVENT
BEGIN:VEVENT
UID:61323530-3133-4939-b262-396265323136
DTSTAMP:20260422T162849Z
DESCRIPTION:11/11 TJ Jiskra Nový Bor 'A' - TJ SLAVIA Liberec 2:0 (11\,20)
DTSTART;TZID=Europe/Berlin:20230910T120000
DTEND;TZID=Europe/Berlin:20230910T140000
LOCATION:Sportovní hala Františka Arnošta Nový Bor\, U hřiště 1391 Nový Bor
SUMMARY:LIB-U16Z-K-B: TJ Jiskra Nový Bor 'A'-TJ SLAVIA Liberec
END:VEVENT
BEGIN:VEVENT
UID:32646266-3562-4236-b761-633639653839
DTSTAMP:20260422T162849Z
DESCRIPTION:2/6 Schrödingerův institut Varnsdorf - TJ SLAVIA Liberec 2:0 (1
 0\,10)
DTSTART;TZID=Europe/Berlin:20231001T100000
DTEND;TZID=Europe/Berlin:20231001T120000
LOCATION:, Edisonova 2821 Varnsdorf
SUMMARY:LIB-U16Z-K-J: Schrödingerův institut Varnsdorf-TJ SLAVIA Liberec
END:VEVENT
BEGIN:VEVENT
UID:63313439-3130-4461-a364-323666616262
DTSTAMP:20260422T162849Z
DESCRIPTION:3/9 Sportovní klub Hodkovice nad Mohelkou z.s. - TJ SLAVIA Libe
 rec 2:0 (21\,19)
DTSTART;TZID=Europe/Berlin:20231001T110000
DTEND;TZID=Europe/Berlin:20231001T130000
LOCATION:TJ Turnov\, Skálova 207 Turnov
SUMMARY:LIB-U16Z-K-J: Sportovní klub Hodkovice nad Mohelkou z.s.-TJ SLAVIA 
 Liberec
END:VEVENT
BEGIN:VEVENT
UID:39366564-3636-4635-b261-303632646336
DTSTAMP:20260422T162849Z
DESCRIPTION:6/18 Nový Bor - TJ SLAVIA Liberec 2:0 (10\,10)
DTSTART;TZID=Europe/Berlin:20231001T140000
DTEND;TZID=Europe/Berlin:20231001T160000
LOCATION:Sportovní hala Františka Arnošta Nový Bor\, U hřiště 1391 Nový Bor
SUMMARY:LIB-U16Z-K-J: Nový Bor-TJ SLAVIA Liberec
END:VEVENT
BEGIN:VEVENT
UID:63393030-3131-4537-b263-313661353464
DTSTAMP:20260422T162849Z
DESCRIPTION:2/2 TJ Slovan Varnsdorf 'B' - TJ SLAVIA Liberec 0:2 (-0\,-0)
DTSTART;TZID=Europe/Berlin:20231105T100000
DTEND;TZID=Europe/Berlin:20231105T120000
LOCATION:Sportovní hala Varnsdorf\, Západní 2984 Varnsdorf
SUMMARY:LIB-U16Z-4L: TJ Slovan Varnsdorf 'B'-TJ SLAVIA Liberec
END:VEVENT
BEGIN:VEVENT
UID:32643264-6166-4639-a137-333164303235
DTSTAMP:20260422T162849Z
DESCRIPTION:4/4 TJ Sokol Mnichovo Hradiště - TJ SLAVIA Liberec 1:2 (17\,-20
 \,-6)
DTSTART;TZID=Europe/Berlin:20231105T120000
DTEND;TZID=Europe/Berlin:20231105T140000
LOCATION:Sportovní hala BIOS\, Sokolovská 254 Mnichovo Hradiště
SUMMARY:LIB-U16Z-4L: TJ Sokol Mnichovo Hradiště-TJ SLAVIA Liberec
END:VEVENT
BEGIN:VEVENT
UID:65343233-6166-4837-a564-316639333235
DTSTAMP:20260422T162849Z
DESCRIPTION:6/6 TJ Bižuterie Jablonec n/N B - TJ SLAVIA Liberec 1:2 (17\,-1
 1\,-16)
DTSTART;TZID=Europe/Berlin:20231105T140000
DTEND;TZID=Europe/Berlin:20231105T160000
LOCATION:Městská sportovní hala\, U Přehrady 4747 Jablonec nad Nisou
SUMMARY:LIB-U16Z-4L: TJ Bižuterie Jablonec n/N B-TJ SLAVIA Liberec
END:VEVENT
BEGIN:VEVENT
UID:65333630-3063-4563-b331-663533653130
DTSTAMP:20260422T162849Z
DESCRIPTION:1/3 Schrödingerův institut Varnsdorf - TJ SLAVIA Liberec 2:0 (1
 1\,18)
DTSTART;TZID=Europe/Berlin:20231203T090000
DTEND;TZID=Europe/Berlin:20231203T110000
LOCATION:, Edisonova 2821 Varnsdorf
SUMMARY:LIB-U16Z-2-3L: Schrödingerův institut Varnsdorf-TJ SLAVIA Liberec
END:VEVENT
BEGIN:VEVENT
UID:64386431-3034-4264-b063-316239643734
DTSTAMP:20260422T162849Z
DESCRIPTION:3/11 TJ Turnov 'A' - TJ SLAVIA Liberec 2:1 (3\,-23\,13)
DTSTART;TZID=Europe/Berlin:20231203T110000
DTEND;TZID=Europe/Berlin:20231203T130000
LOCATION:TJ Turnov\, Skálova 207 Turnov
SUMMARY:LIB-U16Z-2-3L: TJ Turnov 'A'-TJ SLAVIA Liberec
END:VEVENT
BEGIN:VEVENT
UID:63313430-3336-4330-a139-656238656431
DTSTAMP:20260422T162849Z
DESCRIPTION:6/23 BV Vratislavice - TJ SLAVIA Liberec 2:0 (12\,6)
DTSTART;TZID=Europe/Berlin:20231203T140000
DTEND;TZID=Europe/Berlin:20231203T160000
LOCATION:, Nad Školou 278 Liberec - Liberec XXX-Vratislavice nad Nisou
SUMMARY:LIB-U16Z-2-3L: BV Vratislavice-TJ SLAVIA Liberec
END:VEVENT
BEGIN:VEVENT
UID:35643237-3339-4434-a134-333462386633
DTSTAMP:20260422T162849Z
DESCRIPTION:1/2 TJ SLAVIA Liberec - TJ Bižuterie Jablonec n/N B 0:2 (-22\,-
 22)
DTSTART;TZID=Europe/Berlin:20240107T090000
DTEND;TZID=Europe/Berlin:20240107T110000
LOCATION:Základní škola\, Liberec\, Sokolovská \, Sokolovská 328 Liberec - 
 Liberec XIII-Nové Pavlovice
SUMMARY:LIB-U16Z-3-4L: TJ SLAVIA Liberec-TJ Bižuterie Jablonec n/N B
END:VEVENT
BEGIN:VEVENT
UID:64323338-3362-4932-a463-396262323335
DTSTAMP:20260422T162849Z
DESCRIPTION:4/8 TJ SLAVIA Liberec - TJ Sokol Mnichovo Hradiště 1:2 (21\,-12
 \,-5)
DTSTART;TZID=Europe/Berlin:20240107T120000
DTEND;TZID=Europe/Berlin:20240107T140000
LOCATION:Základní škola\, Liberec\, Sokolovská \, Sokolovská 328 Liberec - 
 Liberec XIII-Nové Pavlovice
SUMMARY:LIB-U16Z-3-4L: TJ SLAVIA Liberec-TJ Sokol Mnichovo Hradiště
END:VEVENT
BEGIN:VEVENT
UID:61373263-6566-4763-b266-313365353262
DTSTAMP:20260422T162849Z
DESCRIPTION:6/12 TJ SLAVIA Liberec - SK Ještědská Liberec 'B' 2:0 (16\,17)
DTSTART;TZID=Europe/Berlin:20240107T140000
DTEND;TZID=Europe/Berlin:20240107T160000
LOCATION:Základní škola\, Liberec\, Sokolovská \, Sokolovská 328 Liberec - 
 Liberec XIII-Nové Pavlovice
SUMMARY:LIB-U16Z-3-4L: TJ SLAVIA Liberec-SK Ještědská Liberec 'B'
END:VEVENT
BEGIN:VEVENT
UID:32373730-6232-4530-a435-356337373030
DTSTAMP:20260422T162849Z
DESCRIPTION:2/3 TJ SLAVIA Liberec - Dukla Liberec 'B' 2:0 (21\,12)
DTSTART;TZID=Europe/Berlin:20240121T100000
DTEND;TZID=Europe/Berlin:20240121T120000
LOCATION:Základní škola\, Liberec\, Sokolovská \, Sokolovská 328 Liberec - 
 Liberec XIII-Nové Pavlovice
SUMMARY:LIB-U16Z-4-4L: TJ SLAVIA Liberec-Dukla Liberec 'B'
END:VEVENT
BEGIN:VEVENT
UID:32623166-3939-4434-b837-323232626266
DTSTAMP:20260422T162849Z
DESCRIPTION:4/7 TJ Sokol Mnichovo Hradiště - TJ SLAVIA Liberec 0:2 (-17\,-1
 9)
DTSTART;TZID=Europe/Berlin:20240121T120000
DTEND;TZID=Europe/Berlin:20240121T140000
LOCATION:Sportovní hala BIOS\, Sokolovská 254 Mnichovo Hradiště
SUMMARY:LIB-U16Z-4-4L: TJ Sokol Mnichovo Hradiště-TJ SLAVIA Liberec
END:VEVENT
BEGIN:VEVENT
UID:30353834-6537-4034-b963-653039363835
DTSTAMP:20260422T162849Z
DESCRIPTION:5/9 BV Vratislavice - TJ SLAVIA Liberec 2:0 (13\,3)
DTSTART;TZID=Europe/Berlin:20240121T130000
DTEND;TZID=Europe/Berlin:20240121T150000
LOCATION:, Nad Školou 278 Liberec - Liberec XXX-Vratislavice nad Nisou
SUMMARY:LIB-U16Z-4-4L: BV Vratislavice-TJ SLAVIA Liberec
END:VEVENT
BEGIN:VEVENT
UID:63373566-6434-4431-b262-373466626438
DTSTAMP:20260422T162849Z
DESCRIPTION:2/4 TJ SLAVIA Liberec - SK Ještědská Liberec 'B' 2:0 (11\,12)
DTSTART;TZID=Europe/Berlin:20240210T100000
DTEND;TZID=Europe/Berlin:20240210T120000
LOCATION:Základní škola\, Liberec\, Sokolovská \, Sokolovská 328 Liberec - 
 Liberec XIII-Nové Pavlovice
SUMMARY:LIB-U16Z-5-4L: TJ SLAVIA Liberec-SK Ještědská Liberec 'B'
END:VEVENT
BEGIN:VEVENT
UID:34643033-3638-4830-a464-306239323030
DTSTAMP:20260422T162849Z
DESCRIPTION:3/6 TJ Sokol Mnichovo Hradiště - TJ SLAVIA Liberec 0:2 (-19\,-2
 3)
DTSTART;TZID=Europe/Berlin:20240210T110000
DTEND;TZID=Europe/Berlin:20240210T130000
LOCATION:Sportovní hala BIOS\, Sokolovská 254 Mnichovo Hradiště
SUMMARY:LIB-U16Z-5-4L: TJ Sokol Mnichovo Hradiště-TJ SLAVIA Liberec
END:VEVENT
BEGIN:VEVENT
UID:38343030-3330-4264-b765-313961663335
DTSTAMP:20260422T162849Z
DESCRIPTION:6/12 TJ Bižuterie Jablonec n/N B - TJ SLAVIA Liberec 0:2 (-26\,
 -16)
DTSTART;TZID=Europe/Berlin:20240210T140000
DTEND;TZID=Europe/Berlin:20240210T160000
LOCATION:Městská sportovní hala\, U Přehrady 4747 Jablonec nad Nisou
SUMMARY:LIB-U16Z-5-4L: TJ Bižuterie Jablonec n/N B-TJ SLAVIA Liberec
END:VEVENT
BEGIN:VEVENT
UID:34636438-6530-4161-b431-626234353433
DTSTAMP:20260422T162849Z
DESCRIPTION:2/6 TJ SLAVIA Liberec - SK Ještědská Liberec 'B' 2:0 (2\,13)
DTSTART;TZID=Europe/Berlin:20240310T101000
DTEND;TZID=Europe/Berlin:20240310T121000
LOCATION:Základní škola\, Liberec\, Sokolovská \, Sokolovská 328 Liberec - 
 Liberec XIII-Nové Pavlovice
SUMMARY:LIB-U16Z-F-4L: TJ SLAVIA Liberec-SK Ještědská Liberec 'B'
END:VEVENT
BEGIN:VEVENT
UID:30356332-6134-4062-b063-333735646266
DTSTAMP:20260422T162849Z
DESCRIPTION:3/9 TJ SLAVIA Liberec - TJ Sokol Mnichovo Hradiště 1:2 (-20\,18
 \,-13)
DTSTART;TZID=Europe/Berlin:20240310T112000
DTEND;TZID=Europe/Berlin:20240310T132000
LOCATION:Základní škola\, Liberec\, Sokolovská \, Sokolovská 328 Liberec - 
 Liberec XIII-Nové Pavlovice
SUMMARY:LIB-U16Z-F-4L: TJ SLAVIA Liberec-TJ Sokol Mnichovo Hradiště
END:VEVENT
BEGIN:VEVENT
UID:64396537-3463-4533-a431-646638336366
DTSTAMP:20260422T162849Z
DESCRIPTION:5/15 TJ SLAVIA Liberec - TJ Bižuterie Jablonec n/N B 1:2 (-15\,
 17\,-6)
DTSTART;TZID=Europe/Berlin:20240310T134000
DTEND;TZID=Europe/Berlin:20240310T154000
LOCATION:Základní škola\, Liberec\, Sokolovská \, Sokolovská 328 Liberec - 
 Liberec XIII-Nové Pavlovice
SUMMARY:LIB-U16Z-F-4L: TJ SLAVIA Liberec-TJ Bižuterie Jablonec n/N B
END:VEVENT
END:VCALENDAR
