BEGIN:VCALENDAR
VERSION:2.0
PRODID:-//TJ Lokomotiva Česká Lípa, z.s.81915//NONSGML kigkonsult.se iCalcreator 2.41.80//
CALSCALE:GREGORIAN
UID:32336130-3631-4934-b535-663439613161
BEGIN:VEVENT
UID:36306237-3632-4638-a431-313234366335
DTSTAMP:20260421T125053Z
DESCRIPTION:1/3 TJ Lokomotiva Česká Lípa\, z.s. - Beach Volley Vratislavice
  n. N. z.s. 0:2 (-16\,-16)
DTSTART;TZID=Europe/Berlin:20231001T093000
DTEND;TZID=Europe/Berlin:20231001T113000
LOCATION:ZŠ Lada\, Šluknovská 2904 Česká Lípa
SUMMARY:LIB-U14M-4CI: TJ Lokomotiva Česká Lípa\, z.s.-Beach Volley Vratisla
 vice n. N. z.s.
END:VEVENT
BEGIN:VEVENT
UID:34333635-3832-4437-a161-383832623234
DTSTAMP:20260421T125053Z
DESCRIPTION:2/10 TJ Lokomotiva Česká Lípa\, z.s. - Tělovýchovná jednota SLA
 VIA Liberec\, z.s. 'B' 0:2 (-14\,-14)
DTSTART;TZID=Europe/Berlin:20231001T110000
DTEND;TZID=Europe/Berlin:20231001T130000
LOCATION:ZŠ Lada\, Šluknovská 2904 Česká Lípa
SUMMARY:LIB-U14M-4CI: TJ Lokomotiva Česká Lípa\, z.s.-Tělovýchovná jednota 
 SLAVIA Liberec\, z.s. 'B'
END:VEVENT
BEGIN:VEVENT
UID:31376331-6266-4930-a439-393239313931
DTSTAMP:20260421T125053Z
DESCRIPTION:3/13 TJ Lokomotiva Česká Lípa\, z.s. - Sokol Mn. Hradiště 0:2 (
 -15\,-15)
DTSTART;TZID=Europe/Berlin:20231001T120000
DTEND;TZID=Europe/Berlin:20231001T140000
LOCATION:ZŠ Lada\, Šluknovská 2904 Česká Lípa
SUMMARY:LIB-U14M-4CI: TJ Lokomotiva Česká Lípa\, z.s.-Sokol Mn. Hradiště
END:VEVENT
BEGIN:VEVENT
UID:31383639-6161-4166-b234-666130633539
DTSTAMP:20260421T125053Z
DESCRIPTION:5/21 TJ Lokomotiva Česká Lípa\, z.s. - VK Dukla Liberec 0:2 (-1
 6\,-22)
DTSTART;TZID=Europe/Berlin:20231022T100000
DTEND;TZID=Europe/Berlin:20231022T120000
LOCATION:ZŠ Lada\, Šluknovská 2904 Česká Lípa
SUMMARY:LIB-U14M-4CI: TJ Lokomotiva Česká Lípa\, z.s.-VK Dukla Liberec
END:VEVENT
BEGIN:VEVENT
UID:62626232-3338-4839-a162-373363306430
DTSTAMP:20260421T125053Z
DESCRIPTION:6/29 TJ Lokomotiva Česká Lípa\, z.s. - Beach Volley Vratislavic
 e n. N. z.s. 0:2 (-26\,-13)
DTSTART;TZID=Europe/Berlin:20231022T130000
DTEND;TZID=Europe/Berlin:20231022T150000
LOCATION:ZŠ Lada\, Šluknovská 2904 Česká Lípa
SUMMARY:LIB-U14M-4CI: TJ Lokomotiva Česká Lípa\, z.s.-Beach Volley Vratisla
 vice n. N. z.s.
END:VEVENT
BEGIN:VEVENT
UID:38373135-3433-4766-b162-616639336263
DTSTAMP:20260421T125053Z
DESCRIPTION:7/34 TJ Lokomotiva Česká Lípa\, z.s. - Beach Volley Vratislavic
 e n. N. z.s. 0:2 (-21\,-15)
DTSTART;TZID=Europe/Berlin:20231126T094000
DTEND;TZID=Europe/Berlin:20231126T114000
LOCATION:ZŠ Lada\, Šluknovská 2904 Česká Lípa
SUMMARY:LIB-U14M-4CI: TJ Lokomotiva Česká Lípa\, z.s.-Beach Volley Vratisla
 vice n. N. z.s.
END:VEVENT
BEGIN:VEVENT
UID:63383431-6238-4233-b339-326333363662
DTSTAMP:20260421T125053Z
DESCRIPTION:8/40 TJ Lokomotiva Česká Lípa\, z.s. - Tělovýchovná jednota SLA
 VIA Liberec\, z.s. 'A' 0:2 (-16\,-18)
DTSTART;TZID=Europe/Berlin:20231126T120000
DTEND;TZID=Europe/Berlin:20231126T140000
LOCATION:ZŠ Lada\, Šluknovská 2904 Česká Lípa
SUMMARY:LIB-U14M-4CI: TJ Lokomotiva Česká Lípa\, z.s.-Tělovýchovná jednota 
 SLAVIA Liberec\, z.s. 'A'
END:VEVENT
BEGIN:VEVENT
UID:62666537-6230-4736-a138-393134326132
DTSTAMP:20260421T125053Z
DESCRIPTION:10/50 TJ Lokomotiva Česká Lípa\, z.s. - VK Dukla Liberec 1:2 (-
 16\,24\,-10)
DTSTART;TZID=Europe/Berlin:20240107T102000
DTEND;TZID=Europe/Berlin:20240107T122000
LOCATION:ZŠ Lada\, Šluknovská 2904 Česká Lípa
SUMMARY:LIB-U14M-4CI: TJ Lokomotiva Česká Lípa\, z.s.-VK Dukla Liberec
END:VEVENT
BEGIN:VEVENT
UID:37613234-6234-4239-b839-643834366434
DTSTAMP:20260421T125053Z
DESCRIPTION:12/58 TJ Lokomotiva Česká Lípa\, z.s. - Beach Volley Vratislavi
 ce n. N. z.s. 0:2 (-17\,-17)
DTSTART;TZID=Europe/Berlin:20240107T130000
DTEND;TZID=Europe/Berlin:20240107T150000
LOCATION:ZŠ Lada\, Šluknovská 2904 Česká Lípa
SUMMARY:LIB-U14M-4CI: TJ Lokomotiva Česká Lípa\, z.s.-Beach Volley Vratisla
 vice n. N. z.s.
END:VEVENT
BEGIN:VEVENT
UID:32646662-6634-4137-b336-306338313539
DTSTAMP:20260421T125053Z
DESCRIPTION:13/65 TJ Lokomotiva Česká Lípa\, z.s. - VK Dukla Liberec 2:0 (2
 3\,20)
DTSTART;TZID=Europe/Berlin:20240310T100000
DTEND;TZID=Europe/Berlin:20240310T120000
LOCATION:ZŠ Lada\, Šluknovská 2904 Česká Lípa
SUMMARY:LIB-U14M-4CI: TJ Lokomotiva Česká Lípa\, z.s.-VK Dukla Liberec
END:VEVENT
BEGIN:VEVENT
UID:30326239-6431-4239-b936-646630373736
DTSTAMP:20260421T125053Z
DESCRIPTION:15/74 TJ Lokomotiva Česká Lípa\, z.s. - Beach Volley Vratislavi
 ce n. N. z.s. 0:2 (-20\,-17)
DTSTART;TZID=Europe/Berlin:20240310T130000
DTEND;TZID=Europe/Berlin:20240310T150000
LOCATION:ZŠ Lada\, Šluknovská 2904 Česká Lípa
SUMMARY:LIB-U14M-4CI: TJ Lokomotiva Česká Lípa\, z.s.-Beach Volley Vratisla
 vice n. N. z.s.
END:VEVENT
BEGIN:VEVENT
UID:34663535-6230-4632-b362-636339623961
DTSTAMP:20260421T125053Z
DESCRIPTION:16/79 TJ Lokomotiva Česká Lípa\, z.s. - Beach Volley Vratislavi
 ce n. N. z.s. 1:2 (-19\,23\,-10)
DTSTART;TZID=Europe/Berlin:20240407T100000
DTEND;TZID=Europe/Berlin:20240407T120000
LOCATION:ZŠ Lada\, Šluknovská 2904 Česká Lípa
SUMMARY:LIB-U14M-4CI: TJ Lokomotiva Česká Lípa\, z.s.-Beach Volley Vratisla
 vice n. N. z.s.
END:VEVENT
BEGIN:VEVENT
UID:35303435-3064-4262-b937-333463353136
DTSTAMP:20260421T125053Z
DESCRIPTION:17/85 TJ Lokomotiva Česká Lípa\, z.s. - Tělovýchovná jednota SL
 AVIA Liberec\, z.s. 'A' 0:2 (-16\,-16)
DTSTART;TZID=Europe/Berlin:20240407T130000
DTEND;TZID=Europe/Berlin:20240407T150000
LOCATION:ZŠ Lada\, Šluknovská 2904 Česká Lípa
SUMMARY:LIB-U14M-4CI: TJ Lokomotiva Česká Lípa\, z.s.-Tělovýchovná jednota 
 SLAVIA Liberec\, z.s. 'A'
END:VEVENT
BEGIN:VEVENT
UID:33393833-6631-4764-b432-663563613063
DTSTAMP:20260421T125053Z
DESCRIPTION:1/5 Tělovýchovná jednota SLAVIA Liberec\, z.s. 'A' - TJ Lokomot
 iva Česká Lípa\, z.s. 2:0 (16\,17)
DTSTART;TZID=Europe/Berlin:20231001T100000
DTEND;TZID=Europe/Berlin:20231001T120000
LOCATION:Základní škola\, Liberec\, Sokolovská \, Sokolovská 328 Liberec - 
 Liberec XIII-Nové Pavlovice
SUMMARY:LIB-U14M-4CI: Tělovýchovná jednota SLAVIA Liberec\, z.s. 'A'-TJ Lok
 omotiva Česká Lípa\, z.s.
END:VEVENT
BEGIN:VEVENT
UID:63326363-3264-4233-a636-306337386566
DTSTAMP:20260421T125053Z
DESCRIPTION:3/11 VK Dukla Liberec - TJ Lokomotiva Česká Lípa\, z.s. 1:2 (-2
 1\,20\,-12)
DTSTART;TZID=Europe/Berlin:20231001T113000
DTEND;TZID=Europe/Berlin:20231001T133000
LOCATION:Dukla Liberec\, Jeronýmova 558 Liberec - Liberec VII-Horní Růžodol
SUMMARY:LIB-U14M-4CI: VK Dukla Liberec-TJ Lokomotiva Česká Lípa\, z.s.
END:VEVENT
BEGIN:VEVENT
UID:66363635-3530-4765-b239-306534343434
DTSTAMP:20260421T125053Z
DESCRIPTION:4/16 Sokol Mn. Hradiště - TJ Lokomotiva Česká Lípa\, z.s. 2:0 (
 17\,15)
DTSTART;TZID=Europe/Berlin:20231022T090000
DTEND;TZID=Europe/Berlin:20231022T110000
LOCATION:Sportovní hala BIOS\, Sokolovská 254 Mnichovo Hradiště
SUMMARY:LIB-U14M-4CI: Sokol Mn. Hradiště-TJ Lokomotiva Česká Lípa\, z.s.
END:VEVENT
BEGIN:VEVENT
UID:30656139-3632-4162-b735-303637643866
DTSTAMP:20260421T125053Z
DESCRIPTION:5/23 Tělovýchovná jednota SLAVIA Liberec\, z.s. 'A' - TJ Lokomo
 tiva Česká Lípa\, z.s. 2:0 (22\,16)
DTSTART;TZID=Europe/Berlin:20231022T110000
DTEND;TZID=Europe/Berlin:20231022T130000
LOCATION:Základní škola\, Liberec\, Sokolovská \, Sokolovská 328 Liberec - 
 Liberec XIII-Nové Pavlovice
SUMMARY:LIB-U14M-4CI: Tělovýchovná jednota SLAVIA Liberec\, z.s. 'A'-TJ Lok
 omotiva Česká Lípa\, z.s.
END:VEVENT
BEGIN:VEVENT
UID:32363439-3535-4534-b239-333465313339
DTSTAMP:20260421T125053Z
DESCRIPTION:6/26 Tělovýchovná jednota SLAVIA Liberec\, z.s. 'B' - TJ Lokomo
 tiva Česká Lípa\, z.s. 2:0 (14\,20)
DTSTART;TZID=Europe/Berlin:20231022T120000
DTEND;TZID=Europe/Berlin:20231022T140000
LOCATION:Základní škola\, Liberec\, Sokolovská \, Sokolovská 328 Liberec - 
 Liberec XIII-Nové Pavlovice
SUMMARY:LIB-U14M-4CI: Tělovýchovná jednota SLAVIA Liberec\, z.s. 'B'-TJ Lok
 omotiva Česká Lípa\, z.s.
END:VEVENT
BEGIN:VEVENT
UID:39353834-3031-4462-b738-656130373664
DTSTAMP:20260421T125053Z
DESCRIPTION:7/31 Sokol Mn. Hradiště - TJ Lokomotiva Česká Lípa\, z.s. 2:0 (
 19\,14)
DTSTART;TZID=Europe/Berlin:20231126T090000
DTEND;TZID=Europe/Berlin:20231126T110000
LOCATION:Sportovní hala BIOS\, Sokolovská 254 Mnichovo Hradiště
SUMMARY:LIB-U14M-4CI: Sokol Mn. Hradiště-TJ Lokomotiva Česká Lípa\, z.s.
END:VEVENT
BEGIN:VEVENT
UID:63653536-6130-4237-a665-343131303966
DTSTAMP:20260421T125053Z
DESCRIPTION:8/37 Tělovýchovná jednota SLAVIA Liberec\, z.s. 'B' - TJ Lokomo
 tiva Česká Lípa\, z.s. 2:0 (17\,17)
DTSTART;TZID=Europe/Berlin:20231126T111500
DTEND;TZID=Europe/Berlin:20231126T131500
LOCATION:Základní škola\, Liberec\, Sokolovská \, Sokolovská 328 Liberec - 
 Liberec XIII-Nové Pavlovice
SUMMARY:LIB-U14M-4CI: Tělovýchovná jednota SLAVIA Liberec\, z.s. 'B'-TJ Lok
 omotiva Česká Lípa\, z.s.
END:VEVENT
BEGIN:VEVENT
UID:37346265-3161-4330-a166-353535663533
DTSTAMP:20260421T125053Z
DESCRIPTION:9/43 VK Dukla Liberec - TJ Lokomotiva Česká Lípa\, z.s. 2:0 (20
 \,17)
DTSTART;TZID=Europe/Berlin:20231126T131500
DTEND;TZID=Europe/Berlin:20231126T151500
LOCATION:Dukla Liberec\, Jeronýmova 558 Liberec - Liberec VII-Horní Růžodol
SUMMARY:LIB-U14M-4CI: VK Dukla Liberec-TJ Lokomotiva Česká Lípa\, z.s.
END:VEVENT
BEGIN:VEVENT
UID:63353030-6165-4533-b834-323936623034
DTSTAMP:20260421T125053Z
DESCRIPTION:10/48 Sokol Mn. Hradiště - TJ Lokomotiva Česká Lípa\, z.s. 2:0 
 (19\,17)
DTSTART;TZID=Europe/Berlin:20240107T094000
DTEND;TZID=Europe/Berlin:20240107T114000
LOCATION:Sportovní hala BIOS\, Sokolovská 254 Mnichovo Hradiště
SUMMARY:LIB-U14M-4CI: Sokol Mn. Hradiště-TJ Lokomotiva Česká Lípa\, z.s.
END:VEVENT
BEGIN:VEVENT
UID:65646137-3330-4231-a634-313333646538
DTSTAMP:20260421T125053Z
DESCRIPTION:11/53 Tělovýchovná jednota SLAVIA Liberec\, z.s. 'A' - TJ Lokom
 otiva Česká Lípa\, z.s. 2:0 (16\,21)
DTSTART;TZID=Europe/Berlin:20240107T110000
DTEND;TZID=Europe/Berlin:20240107T130000
LOCATION:Základní škola\, Liberec\, Sokolovská \, Sokolovská 328 Liberec - 
 Liberec XIII-Nové Pavlovice
SUMMARY:LIB-U14M-4CI: Tělovýchovná jednota SLAVIA Liberec\, z.s. 'A'-TJ Lok
 omotiva Česká Lípa\, z.s.
END:VEVENT
BEGIN:VEVENT
UID:62393963-6633-4563-a133-393839383565
DTSTAMP:20260421T125053Z
DESCRIPTION:11/55 Tělovýchovná jednota SLAVIA Liberec\, z.s. 'B' - TJ Lokom
 otiva Česká Lípa\, z.s. 2:0 (20\,15)
DTSTART;TZID=Europe/Berlin:20240107T114000
DTEND;TZID=Europe/Berlin:20240107T134000
LOCATION:Základní škola\, Liberec\, Sokolovská \, Sokolovská 328 Liberec - 
 Liberec XIII-Nové Pavlovice
SUMMARY:LIB-U14M-4CI: Tělovýchovná jednota SLAVIA Liberec\, z.s. 'B'-TJ Lok
 omotiva Česká Lípa\, z.s.
END:VEVENT
BEGIN:VEVENT
UID:36353238-3134-4133-a235-643736323334
DTSTAMP:20260421T125053Z
DESCRIPTION:13/61 Sokol Mn. Hradiště - TJ Lokomotiva Česká Lípa\, z.s. 2:0 
 (12\,16)
DTSTART;TZID=Europe/Berlin:20240310T090000
DTEND;TZID=Europe/Berlin:20240310T110000
LOCATION:Sportovní hala BIOS\, Sokolovská 254 Mnichovo Hradiště
SUMMARY:LIB-U14M-4CI: Sokol Mn. Hradiště-TJ Lokomotiva Česká Lípa\, z.s.
END:VEVENT
BEGIN:VEVENT
UID:30343964-3863-4566-b537-666538633637
DTSTAMP:20260421T125053Z
DESCRIPTION:14/68 Tělovýchovná jednota SLAVIA Liberec\, z.s. 'A' - TJ Lokom
 otiva Česká Lípa\, z.s. 2:0 (18\,14)
DTSTART;TZID=Europe/Berlin:20240310T110000
DTEND;TZID=Europe/Berlin:20240310T130000
LOCATION:Základní škola\, Liberec\, Sokolovská \, Sokolovská 328 Liberec - 
 Liberec XIII-Nové Pavlovice
SUMMARY:LIB-U14M-4CI: Tělovýchovná jednota SLAVIA Liberec\, z.s. 'A'-TJ Lok
 omotiva Česká Lípa\, z.s.
END:VEVENT
BEGIN:VEVENT
UID:61393932-3761-4430-a565-653634613464
DTSTAMP:20260421T125053Z
DESCRIPTION:15/72 Tělovýchovná jednota SLAVIA Liberec\, z.s. 'B' - TJ Lokom
 otiva Česká Lípa\, z.s. 2:0 (17\,17)
DTSTART;TZID=Europe/Berlin:20240310T120000
DTEND;TZID=Europe/Berlin:20240310T140000
LOCATION:Základní škola\, Liberec\, Sokolovská \, Sokolovská 328 Liberec - 
 Liberec XIII-Nové Pavlovice
SUMMARY:LIB-U14M-4CI: Tělovýchovná jednota SLAVIA Liberec\, z.s. 'B'-TJ Lok
 omotiva Česká Lípa\, z.s.
END:VEVENT
BEGIN:VEVENT
UID:61643133-6536-4462-a532-323733363161
DTSTAMP:20260421T125053Z
DESCRIPTION:16/76 Sokol Mn. Hradiště - TJ Lokomotiva Česká Lípa\, z.s. 2:0 
 (16\,16)
DTSTART;TZID=Europe/Berlin:20240407T090000
DTEND;TZID=Europe/Berlin:20240407T110000
LOCATION:Sportovní hala BIOS\, Sokolovská 254 Mnichovo Hradiště
SUMMARY:LIB-U14M-4CI: Sokol Mn. Hradiště-TJ Lokomotiva Česká Lípa\, z.s.
END:VEVENT
BEGIN:VEVENT
UID:39386635-3839-4037-a536-323734616133
DTSTAMP:20260421T125053Z
DESCRIPTION:17/82 Tělovýchovná jednota SLAVIA Liberec\, z.s. 'B' - TJ Lokom
 otiva Česká Lípa\, z.s. 2:0 (17\,20)
DTSTART;TZID=Europe/Berlin:20240407T120000
DTEND;TZID=Europe/Berlin:20240407T140000
LOCATION:Základní škola\, Liberec\, Sokolovská \, Sokolovská 328 Liberec - 
 Liberec XIII-Nové Pavlovice
SUMMARY:LIB-U14M-4CI: Tělovýchovná jednota SLAVIA Liberec\, z.s. 'B'-TJ Lok
 omotiva Česká Lípa\, z.s.
END:VEVENT
BEGIN:VEVENT
UID:37343265-3737-4632-b531-613439616333
DTSTAMP:20260421T125053Z
DESCRIPTION:18/88 VK Dukla Liberec - TJ Lokomotiva Česká Lípa\, z.s. 2:0 (1
 8\,20)
DTSTART;TZID=Europe/Berlin:20240407T150000
DTEND;TZID=Europe/Berlin:20240407T170000
LOCATION:Dukla Liberec\, Jeronýmova 558 Liberec - Liberec VII-Horní Růžodol
SUMMARY:LIB-U14M-4CI: VK Dukla Liberec-TJ Lokomotiva Česká Lípa\, z.s.
END:VEVENT
END:VCALENDAR
