BEGIN:VCALENDAR
VERSION:2.0
PRODID:-//Dukla Liberec81926//NONSGML kigkonsult.se iCalcreator 2.41.80//
CALSCALE:GREGORIAN
UID:63623637-3464-4636-b133-356632303365
BEGIN:VEVENT
UID:61363262-3436-4830-b961-396633323761
DTSTAMP:20260423T042835Z
DESCRIPTION:2/2 Dukla Liberec - Frýdlant 0:2 (-10\,-12)\nKurt 2
DTSTART;TZID=Europe/Berlin:20230917T090000
DTEND;TZID=Europe/Berlin:20230917T110000
LOCATION:Dukla Liberec\, Jeronýmova 558 Liberec - Liberec VII-Horní Růžodol
SUMMARY:LIB-U22Z-K-A: Dukla Liberec-Frýdlant
END:VEVENT
BEGIN:VEVENT
UID:64646461-6536-4638-a665-626536396132
DTSTAMP:20260423T042835Z
DESCRIPTION:4/4 Dukla Liberec - SK ToRiK Doksy 2:0 (10\,4)\nKurt 1
DTSTART;TZID=Europe/Berlin:20230917T110000
DTEND;TZID=Europe/Berlin:20230917T130000
LOCATION:Dukla Liberec\, Jeronýmova 558 Liberec - Liberec VII-Horní Růžodol
SUMMARY:LIB-U22Z-K-A: Dukla Liberec-SK ToRiK Doksy
END:VEVENT
BEGIN:VEVENT
UID:66616565-3139-4565-b430-383032336231
DTSTAMP:20260423T042835Z
DESCRIPTION:5/5 TJ Sokol Mnichovo Hradiště - Dukla Liberec 2:1 (-22\,19\,7)
 \nKurt 2
DTSTART;TZID=Europe/Berlin:20230917T120000
DTEND;TZID=Europe/Berlin:20230917T140000
LOCATION:Sportovní hala BIOS\, Sokolovská 254 Mnichovo Hradiště
SUMMARY:LIB-U22Z-K-A: TJ Sokol Mnichovo Hradiště-Dukla Liberec
END:VEVENT
BEGIN:VEVENT
UID:33373163-3736-4965-b838-626563656434
DTSTAMP:20260423T042835Z
DESCRIPTION:9/3 Dukla Liberec - TJ Slovan Varnsdorf 0:2 (-20\,-20)\nKurt 1
DTSTART;TZID=Europe/Berlin:20230917T143000
DTEND;TZID=Europe/Berlin:20230917T163000
LOCATION:Dukla Liberec\, Jeronýmova 558 Liberec - Liberec VII-Horní Růžodol
SUMMARY:LIB-U22Z-K-F: Dukla Liberec-TJ Slovan Varnsdorf
END:VEVENT
BEGIN:VEVENT
UID:30316461-3137-4230-b835-356663373637
DTSTAMP:20260423T042835Z
DESCRIPTION:6/1 TJ Bižuterie Jablonec n. N. 'A' - Dukla Liberec 2:0 (12\,12
 )\nKurt 2
DTSTART;TZID=Europe/Berlin:20230917T130000
DTEND;TZID=Europe/Berlin:20230917T150000
LOCATION:Městská sportovní hala\, U Přehrady 4747 Jablonec nad Nisou
SUMMARY:LIB-U22Z-K-F: TJ Bižuterie Jablonec n. N. 'A'-Dukla Liberec
END:VEVENT
BEGIN:VEVENT
UID:38383036-3731-4137-b234-303662343733
DTSTAMP:20260423T042835Z
DESCRIPTION:2/1 TJ Sokol Mnichovo Hradiště - Dukla Liberec 2:0 (4\,21)\nKur
 t 1
DTSTART;TZID=Europe/Berlin:20231008T100000
DTEND;TZID=Europe/Berlin:20231008T120000
LOCATION:Sportovní hala BIOS\, Sokolovská 254 Mnichovo Hradiště
SUMMARY:LIB-U22Z-1-3: TJ Sokol Mnichovo Hradiště-Dukla Liberec
END:VEVENT
BEGIN:VEVENT
UID:31333034-6130-4465-a336-623236636230
DTSTAMP:20260423T042835Z
DESCRIPTION:4/4 SK ToRiK Doksy - Dukla Liberec 0:2 (-6\,-10)\nKurt 2
DTSTART;TZID=Europe/Berlin:20231008T120000
DTEND;TZID=Europe/Berlin:20231008T140000
LOCATION:ZŠ K. H. Máchy Doksy\, Valdštejnská 253 Doksy
SUMMARY:LIB-U22Z-1-3: SK ToRiK Doksy-Dukla Liberec
END:VEVENT
BEGIN:VEVENT
UID:35356663-6336-4132-a632-323930326430
DTSTAMP:20260423T042835Z
DESCRIPTION:6/6 Schrödingerův institut Varnsdorf - Dukla Liberec 2:0 (9\,16
 )\nKurt 2
DTSTART;TZID=Europe/Berlin:20231008T140000
DTEND;TZID=Europe/Berlin:20231008T160000
LOCATION:, Edisonova 2821 Varnsdorf
SUMMARY:LIB-U22Z-1-3: Schrödingerův institut Varnsdorf-Dukla Liberec
END:VEVENT
BEGIN:VEVENT
UID:39363334-3836-4738-a162-653466313832
DTSTAMP:20260423T042835Z
DESCRIPTION:2/4 Dukla Liberec - TJ Slovan Varnsdorf 0:2 (-18\,-24)\nKurt 2
DTSTART;TZID=Europe/Berlin:20231112T100000
DTEND;TZID=Europe/Berlin:20231112T120000
LOCATION:Dukla Liberec\, Jeronýmova 558 Liberec - Liberec VII-Horní Růžodol
SUMMARY:LIB-U22Z-2-3: Dukla Liberec-TJ Slovan Varnsdorf
END:VEVENT
BEGIN:VEVENT
UID:61626533-3433-4336-a261-346166623235
DTSTAMP:20260423T042835Z
DESCRIPTION:1/1 TJ Sokol Mnichovo Hradiště - Dukla Liberec 2:1 (-21\,21\,7)
 \nKurt 1
DTSTART;TZID=Europe/Berlin:20231112T090000
DTEND;TZID=Europe/Berlin:20231112T110000
LOCATION:Sportovní hala BIOS\, Sokolovská 254 Mnichovo Hradiště
SUMMARY:LIB-U22Z-2-3: TJ Sokol Mnichovo Hradiště-Dukla Liberec
END:VEVENT
BEGIN:VEVENT
UID:64393765-3264-4539-a133-356464653361
DTSTAMP:20260423T042835Z
DESCRIPTION:3/6 SK ToRiK Doksy - Dukla Liberec 0:2 (-16\,-8)\nKurt 2
DTSTART;TZID=Europe/Berlin:20231112T110000
DTEND;TZID=Europe/Berlin:20231112T130000
LOCATION:ZŠ K. H. Máchy Doksy\, Valdštejnská 253 Doksy
SUMMARY:LIB-U22Z-2-3: SK ToRiK Doksy-Dukla Liberec
END:VEVENT
BEGIN:VEVENT
UID:33346161-6630-4639-a234-663838303062
DTSTAMP:20260423T042835Z
DESCRIPTION:1/2 Dukla Liberec - SK ToRiK Doksy 2:0 (11\,10)\nKurt 3
DTSTART;TZID=Europe/Berlin:20231126T090000
DTEND;TZID=Europe/Berlin:20231126T110000
LOCATION:Dukla Liberec\, Jeronýmova 558 Liberec - Liberec VII-Horní Růžodol
SUMMARY:LIB-U22Z-3-3: Dukla Liberec-SK ToRiK Doksy
END:VEVENT
BEGIN:VEVENT
UID:35393663-3736-4331-b236-313836343862
DTSTAMP:20260423T042835Z
DESCRIPTION:5/6 Dukla Liberec - TJ Bižuterie Jablonec n. N. 'B' 1:2 (16\,-2
 1\,-12)\nKurt 3
DTSTART;TZID=Europe/Berlin:20231126T130000
DTEND;TZID=Europe/Berlin:20231126T150000
LOCATION:Dukla Liberec\, Jeronýmova 558 Liberec - Liberec VII-Horní Růžodol
SUMMARY:LIB-U22Z-3-3: Dukla Liberec-TJ Bižuterie Jablonec n. N. 'B'
END:VEVENT
BEGIN:VEVENT
UID:33396239-3963-4837-a134-336535633761
DTSTAMP:20260423T042835Z
DESCRIPTION:3/3 TJ Slovan Varnsdorf - Dukla Liberec 0:2 (-22\,-20)\nKurt 2
DTSTART;TZID=Europe/Berlin:20231126T110000
DTEND;TZID=Europe/Berlin:20231126T130000
LOCATION:Sportovní hala Varnsdorf\, Západní 2984 Varnsdorf
SUMMARY:LIB-U22Z-3-3: TJ Slovan Varnsdorf-Dukla Liberec
END:VEVENT
BEGIN:VEVENT
UID:37653933-6461-4136-b861-303963353033
DTSTAMP:20260423T042835Z
DESCRIPTION:2/2 Dukla Liberec - SK ToRiK Doksy 2:0 (14\,4)\nHala TJ - Kurt 
 2
DTSTART;TZID=Europe/Berlin:20231217T100000
DTEND;TZID=Europe/Berlin:20231217T120000
LOCATION:Dukla Liberec\, Jeronýmova 558 Liberec - Liberec VII-Horní Růžodol
SUMMARY:LIB-U22Z-4-3: Dukla Liberec-SK ToRiK Doksy
END:VEVENT
BEGIN:VEVENT
UID:32383336-3739-4233-b663-303536386237
DTSTAMP:20260423T042835Z
DESCRIPTION:4/4 TJ Sokol Mnichovo Hradiště - Dukla Liberec 1:2 (-25\,23\,-1
 0)\nHala TJ - Kurt 2
DTSTART;TZID=Europe/Berlin:20231217T120000
DTEND;TZID=Europe/Berlin:20231217T140000
LOCATION:Sportovní hala BIOS\, Sokolovská 254 Mnichovo Hradiště
SUMMARY:LIB-U22Z-4-3: TJ Sokol Mnichovo Hradiště-Dukla Liberec
END:VEVENT
BEGIN:VEVENT
UID:36613134-6332-4362-a433-363861383962
DTSTAMP:20260423T042835Z
DESCRIPTION:6/5 TJ Slovan Varnsdorf - Dukla Liberec 0:2 (-23\,-19)\nHala TJ
  - Kurt 1
DTSTART;TZID=Europe/Berlin:20231217T140000
DTEND;TZID=Europe/Berlin:20231217T160000
LOCATION:Sportovní hala Varnsdorf\, Západní 2984 Varnsdorf
SUMMARY:LIB-U22Z-4-3: TJ Slovan Varnsdorf-Dukla Liberec
END:VEVENT
BEGIN:VEVENT
UID:38663964-6362-4066-a431-333535333464
DTSTAMP:20260423T042835Z
DESCRIPTION:1/1 Dukla Liberec - USK Slavia Liberec 0:2 (-24\,-15)\nKurt 1
DTSTART;TZID=Europe/Berlin:20240114T090000
DTEND;TZID=Europe/Berlin:20240114T110000
LOCATION:Dukla Liberec\, Jeronýmova 558 Liberec - Liberec VII-Horní Růžodol
SUMMARY:LIB-U22Z-5-2: Dukla Liberec-USK Slavia Liberec
END:VEVENT
BEGIN:VEVENT
UID:37333965-3761-4632-b935-363765313036
DTSTAMP:20260423T042835Z
DESCRIPTION:5/6 Dukla Liberec - TJ Bižuterie Jablonec n. N. 'B' 0:2 (-20\,-
 10)\nKurt 2
DTSTART;TZID=Europe/Berlin:20240114T130000
DTEND;TZID=Europe/Berlin:20240114T150000
LOCATION:Dukla Liberec\, Jeronýmova 558 Liberec - Liberec VII-Horní Růžodol
SUMMARY:LIB-U22Z-5-2: Dukla Liberec-TJ Bižuterie Jablonec n. N. 'B'
END:VEVENT
BEGIN:VEVENT
UID:31313130-3662-4538-b965-393564633334
DTSTAMP:20260423T042835Z
DESCRIPTION:3/4 Frýdlant - Dukla Liberec 2:1 (20\,-21\,6)\nKurt 2
DTSTART;TZID=Europe/Berlin:20240114T110000
DTEND;TZID=Europe/Berlin:20240114T130000
LOCATION:Střední škola hospodářská a lesnická \, Bělíkova 1387 Frýdlant
SUMMARY:LIB-U22Z-5-2: Frýdlant-Dukla Liberec
END:VEVENT
BEGIN:VEVENT
UID:34376563-3839-4932-a463-333164343366
DTSTAMP:20260423T042835Z
DESCRIPTION:2/2 Dukla Liberec - TJ Slovan Varnsdorf 2:0 (18\,20)\nKurt 2
DTSTART;TZID=Europe/Berlin:20240211T100000
DTEND;TZID=Europe/Berlin:20240211T120000
LOCATION:Dukla Liberec\, Jeronýmova 558 Liberec - Liberec VII-Horní Růžodol
SUMMARY:LIB-U22Z-6-3: Dukla Liberec-TJ Slovan Varnsdorf
END:VEVENT
BEGIN:VEVENT
UID:66363162-6135-4261-a435-316234626437
DTSTAMP:20260423T042835Z
DESCRIPTION:3/3 TJ Sokol Mnichovo Hradiště - Dukla Liberec 2:0 (13\,20)\nKu
 rt 2
DTSTART;TZID=Europe/Berlin:20240211T110000
DTEND;TZID=Europe/Berlin:20240211T130000
LOCATION:Sportovní hala BIOS\, Sokolovská 254 Mnichovo Hradiště
SUMMARY:LIB-U22Z-6-3: TJ Sokol Mnichovo Hradiště-Dukla Liberec
END:VEVENT
BEGIN:VEVENT
UID:30316632-3539-4465-a563-366438336232
DTSTAMP:20260423T042835Z
DESCRIPTION:6/6 SK ToRiK Doksy - Dukla Liberec 0:2 (-6\,-7)\nKurt 2
DTSTART;TZID=Europe/Berlin:20240211T140000
DTEND;TZID=Europe/Berlin:20240211T160000
LOCATION:ZŠ K. H. Máchy Doksy\, Valdštejnská 253 Doksy
SUMMARY:LIB-U22Z-6-3: SK ToRiK Doksy-Dukla Liberec
END:VEVENT
BEGIN:VEVENT
UID:35616262-6663-4236-a566-653436663137
DTSTAMP:20260423T042835Z
DESCRIPTION:1/2 Dukla Liberec - SK ToRiK Doksy 2:0 (9\,7)\nKurt 2
DTSTART;TZID=Europe/Berlin:20240407T100000
DTEND;TZID=Europe/Berlin:20240407T120000
LOCATION:Dukla Liberec\, Jeronýmova 558 Liberec - Liberec VII-Horní Růžodol
SUMMARY:LIB-U22Z-7-3: Dukla Liberec-SK ToRiK Doksy
END:VEVENT
BEGIN:VEVENT
UID:39353935-3162-4662-b337-363362396339
DTSTAMP:20260423T042835Z
DESCRIPTION:3/4 TJ Sokol Mnichovo Hradiště - Dukla Liberec 2:0 (21\,24)\nKu
 rt 2
DTSTART;TZID=Europe/Berlin:20240407T120000
DTEND;TZID=Europe/Berlin:20240407T140000
LOCATION:Sportovní hala BIOS\, Sokolovská 254 Mnichovo Hradiště
SUMMARY:LIB-U22Z-7-3: TJ Sokol Mnichovo Hradiště-Dukla Liberec
END:VEVENT
BEGIN:VEVENT
UID:61633838-3562-4061-b338-393363646535
DTSTAMP:20260423T042835Z
DESCRIPTION:5/5 TJ Slovan Varnsdorf - Dukla Liberec 1:2 (-23\,23\,-12)\nKur
 t 1
DTSTART;TZID=Europe/Berlin:20240407T140000
DTEND;TZID=Europe/Berlin:20240407T160000
LOCATION:Sportovní hala Varnsdorf\, Západní 2984 Varnsdorf
SUMMARY:LIB-U22Z-7-3: TJ Slovan Varnsdorf-Dukla Liberec
END:VEVENT
END:VCALENDAR
