BEGIN:VCALENDAR
VERSION:2.0
PRODID:-//Volejbal Tábor A81994//NONSGML kigkonsult.se iCalcreator 2.41.80//
CALSCALE:GREGORIAN
UID:32663635-3563-4663-b361-633734616264
BEGIN:VEVENT
UID:36623839-3164-4636-b936-626534356561
DTSTAMP:20260422T070055Z
DESCRIPTION:1/2 Volejbal Tábor A - VSK Český Krumlov 2:1 (-23\,17\,8)
DTSTART;TZID=Europe/Berlin:20231007T100000
DTEND;TZID=Europe/Berlin:20231007T120000
LOCATION:Sportovní Hala Mír\, U Stadionu Míru 1579 Tábor
SUMMARY:JC-U18Z-QB: Volejbal Tábor A-VSK Český Krumlov
END:VEVENT
BEGIN:VEVENT
UID:39633135-3931-4266-b834-336664306430
DTSTAMP:20260422T070055Z
DESCRIPTION:1/3 SK Třebín B - Volejbal Tábor A 0:2 (-17\,-13)
DTSTART;TZID=Europe/Berlin:20231007T110000
DTEND;TZID=Europe/Berlin:20231007T130000
LOCATION:ZŠ Máj I\, M. Chlajna 1319 České Budějovice - České Budějovice 2
SUMMARY:JC-U18Z-QB: SK Třebín B-Volejbal Tábor A
END:VEVENT
BEGIN:VEVENT
UID:30386637-6132-4033-b637-643564646634
DTSTAMP:20260422T070055Z
DESCRIPTION:1/6 Volejbal Tábor A - Rudolfov 0:2 (-12\,-9)
DTSTART;TZID=Europe/Berlin:20231202T140000
DTEND;TZID=Europe/Berlin:20231202T160000
LOCATION:Sportovní Hala Mír\, U Stadionu Míru 1579 Tábor
SUMMARY:JC-U18Z-1A: Volejbal Tábor A-Rudolfov
END:VEVENT
BEGIN:VEVENT
UID:35393435-3034-4535-b131-303564303431
DTSTAMP:20260422T070055Z
DESCRIPTION:1/2 Volejbal Tábor B - Volejbal Tábor A 2:0 (19\,15)
DTSTART;TZID=Europe/Berlin:20231202T100000
DTEND;TZID=Europe/Berlin:20231202T120000
LOCATION:Sportovní hala Kvapilova\, Kvapilova 2419 Tábor
SUMMARY:JC-U18Z-1A: Volejbal Tábor B-Volejbal Tábor A
END:VEVENT
BEGIN:VEVENT
UID:32623534-3565-4339-b831-346138636664
DTSTAMP:20260422T070055Z
DESCRIPTION:1/3 Třebín - Volejbal Tábor A 2:1 (18\,-21\,12)
DTSTART;TZID=Europe/Berlin:20231202T110000
DTEND;TZID=Europe/Berlin:20231202T130000
LOCATION:ZŠ Máj I\, M. Chlajna 1319 České Budějovice - České Budějovice 2
SUMMARY:JC-U18Z-1A: Třebín-Volejbal Tábor A
END:VEVENT
BEGIN:VEVENT
UID:66656633-3438-4963-b365-373763663365
DTSTAMP:20260422T070055Z
DESCRIPTION:1/2 Volejbal Tábor A - TJ Slovan J. Hradec 2:1 (-18\,21\,10)
DTSTART;TZID=Europe/Berlin:20240113T100000
DTEND;TZID=Europe/Berlin:20240113T120000
LOCATION:Sportovní Hala Mír\, U Stadionu Míru 1579 Tábor
SUMMARY:JC-U18Z-2B: Volejbal Tábor A-TJ Slovan J. Hradec
END:VEVENT
BEGIN:VEVENT
UID:31633531-3337-4930-b764-363765623530
DTSTAMP:20260422T070055Z
DESCRIPTION:1/5 Volejbal Tábor A - VK Madeta 1:2 (18\,-24\,-8)
DTSTART;TZID=Europe/Berlin:20240113T130000
DTEND;TZID=Europe/Berlin:20240113T150000
LOCATION:Sportovní Hala Mír\, U Stadionu Míru 1579 Tábor
SUMMARY:JC-U18Z-2B: Volejbal Tábor A-VK Madeta
END:VEVENT
BEGIN:VEVENT
UID:31343266-6664-4431-b332-646638326661
DTSTAMP:20260422T070055Z
DESCRIPTION:1/4 Volejbal Rudolfov B - Volejbal Tábor A 1:2 (-20\,19\,-12)
DTSTART;TZID=Europe/Berlin:20240113T120000
DTEND;TZID=Europe/Berlin:20240113T140000
LOCATION:Sportovní hala Rudolfov\, Adamovská 511 Rudolfov
SUMMARY:JC-U18Z-2B: Volejbal Rudolfov B-Volejbal Tábor A
END:VEVENT
BEGIN:VEVENT
UID:65643735-3764-4565-a464-356638396233
DTSTAMP:20260422T070055Z
DESCRIPTION:1/2 Volejbal Tábor A - Volejbal Rudolfov B 2:0 (20\,17)
DTSTART;TZID=Europe/Berlin:20240224T090000
DTEND;TZID=Europe/Berlin:20240224T110000
LOCATION:Sportovní Hala Mír\, U Stadionu Míru 1579 Tábor
SUMMARY:JC-U18Z-3B: Volejbal Tábor A-Volejbal Rudolfov B
END:VEVENT
BEGIN:VEVENT
UID:30343764-3239-4430-a465-323462353737
DTSTAMP:20260422T070055Z
DESCRIPTION:1/5 Volejbal Tábor A - VSK Český Krumlov 2:0 (17\,15)
DTSTART;TZID=Europe/Berlin:20240224T110000
DTEND;TZID=Europe/Berlin:20240224T130000
LOCATION:Sportovní Hala Mír\, U Stadionu Míru 1579 Tábor
SUMMARY:JC-U18Z-3B: Volejbal Tábor A-VSK Český Krumlov
END:VEVENT
BEGIN:VEVENT
UID:39623234-3563-4462-a132-383065646663
DTSTAMP:20260422T070055Z
DESCRIPTION:1/4 Škola volejbalu - Volejbal Tábor A 1:2 (-25\,26\,-9)
DTSTART;TZID=Europe/Berlin:20240224T100000
DTEND;TZID=Europe/Berlin:20240224T120000
LOCATION:Sportovní hala Hrdějovice\,  Hrdějovice597
SUMMARY:JC-U18Z-3B: Škola volejbalu-Volejbal Tábor A
END:VEVENT
BEGIN:VEVENT
UID:63383464-3866-4338-b233-356335663935
DTSTAMP:20260422T070055Z
DESCRIPTION:1/3 Volejbal Tábor A - Třebín 2:1 (-20\,12\,12)
DTSTART;TZID=Europe/Berlin:20240406T114000
DTEND;TZID=Europe/Berlin:20240406T134000
LOCATION:Sportovní Hala Mír\, U Stadionu Míru 1579 Tábor
SUMMARY:JC-U18Z-4A: Volejbal Tábor A-Třebín
END:VEVENT
BEGIN:VEVENT
UID:32613234-6464-4039-a366-353538383131
DTSTAMP:20260422T070055Z
DESCRIPTION:1/1 Rudolfov - Volejbal Tábor A 2:0 (14\,15)
DTSTART;TZID=Europe/Berlin:20240406T090000
DTEND;TZID=Europe/Berlin:20240406T110000
LOCATION:Sportovní hala Rudolfov\, Adamovská 511 Rudolfov
SUMMARY:JC-U18Z-4A: Rudolfov-Volejbal Tábor A
END:VEVENT
BEGIN:VEVENT
UID:33363563-3430-4535-b061-333130613037
DTSTAMP:20260422T070055Z
DESCRIPTION:1/5 Volejbal Tábor B - Volejbal Tábor A 2:0 (8\,9)
DTSTART;TZID=Europe/Berlin:20240406T132000
DTEND;TZID=Europe/Berlin:20240406T152000
LOCATION:Sportovní hala Kvapilova\, Kvapilova 2419 Tábor
SUMMARY:JC-U18Z-4A: Volejbal Tábor B-Volejbal Tábor A
END:VEVENT
END:VCALENDAR
