BEGIN:VCALENDAR
VERSION:2.0
PRODID:-//VK Prostějov D82034//NONSGML kigkonsult.se iCalcreator 2.41.80//
CALSCALE:GREGORIAN
UID:64663230-6339-4262-b965-313738666161
BEGIN:VEVENT
UID:65313465-3634-4135-b466-643262323338
DTSTAMP:20260422T052724Z
DESCRIPTION:7/25 VK Prostějov D - Vyškov 0:3 (-11\,-12\,-15)
DTSTART;TZID=Europe/Berlin:20231022T090000
DTEND;TZID=Europe/Berlin:20231022T110000
LOCATION:Národní sportovní centrum\, Za velodromem 4187 Prostějov
SUMMARY:OLK-U18Z: VK Prostějov D-Vyškov
END:VEVENT
BEGIN:VEVENT
UID:65353765-6433-4439-b663-376161386666
DTSTAMP:20260422T052724Z
DESCRIPTION:8/29 VK Prostějov D - Vyškov 0:3 (-10\,-16\,-22)
DTSTART;TZID=Europe/Berlin:20231022T130000
DTEND;TZID=Europe/Berlin:20231022T150000
LOCATION:Národní sportovní centrum\, Za velodromem 4187 Prostějov
SUMMARY:OLK-U18Z: VK Prostějov D-Vyškov
END:VEVENT
BEGIN:VEVENT
UID:35616530-3461-4561-b531-393339393330
DTSTAMP:20260422T052724Z
DESCRIPTION:11/41 VK Prostějov D - VO TJ Lanškroun 0:3 (-11\,-9\,-5)
DTSTART;TZID=Europe/Berlin:20230903T100000
DTEND;TZID=Europe/Berlin:20230903T120000
LOCATION:Letní hala u zimního stadionu\, Kostelecká 3113 Prostějov
SUMMARY:OLK-U18Z: VK Prostějov D-VO TJ Lanškroun
END:VEVENT
BEGIN:VEVENT
UID:64383736-3333-4561-a366-346463306533
DTSTAMP:20260422T052724Z
DESCRIPTION:12/45 VK Prostějov D - VO TJ Lanškroun 0:3 (-13\,-3\,-11)
DTSTART;TZID=Europe/Berlin:20230903T120000
DTEND;TZID=Europe/Berlin:20230903T140000
LOCATION:Letní hala u zimního stadionu\, Kostelecká 3113 Prostějov
SUMMARY:OLK-U18Z: VK Prostějov D-VO TJ Lanškroun
END:VEVENT
BEGIN:VEVENT
UID:33333636-3633-4134-b162-393935336564
DTSTAMP:20260422T052724Z
DESCRIPTION:15/57 VK Prostějov D - VK Prostějov C 0:3 (-22\,-10\,-18)
DTSTART;TZID=Europe/Berlin:20231216T090000
DTEND;TZID=Europe/Berlin:20231216T110000
LOCATION:Národní sportovní centrum\, Za velodromem 4187 Prostějov
SUMMARY:OLK-U18Z: VK Prostějov D-VK Prostějov C
END:VEVENT
BEGIN:VEVENT
UID:63363964-6239-4933-b234-623366356363
DTSTAMP:20260422T052724Z
DESCRIPTION:16/61 VK Prostějov D - VK Prostějov C 0:3 (-14\,-22\,-8)
DTSTART;TZID=Europe/Berlin:20231216T133000
DTEND;TZID=Europe/Berlin:20231216T153000
LOCATION:Národní sportovní centrum\, Za velodromem 4187 Prostějov
SUMMARY:OLK-U18Z: VK Prostějov D-VK Prostějov C
END:VEVENT
BEGIN:VEVENT
UID:36366633-3463-4134-a239-366637346432
DTSTAMP:20260422T052724Z
DESCRIPTION:17/65 VK Prostějov D - TJ Sokol Bohuňovice 0:3 (-9\,-9\,-18)
DTSTART;TZID=Europe/Berlin:20240121T100000
DTEND;TZID=Europe/Berlin:20240121T120000
LOCATION:Letní hala u zimního stadionu\, Kostelecká 3113 Prostějov
SUMMARY:OLK-U18Z: VK Prostějov D-TJ Sokol Bohuňovice
END:VEVENT
BEGIN:VEVENT
UID:37636230-6630-4564-b638-346139333138
DTSTAMP:20260422T052724Z
DESCRIPTION:18/69 VK Prostějov D - TJ Sokol Bohuňovice 0:3 (-6\,-6\,-10)
DTSTART;TZID=Europe/Berlin:20240121T140000
DTEND;TZID=Europe/Berlin:20240121T160000
LOCATION:Letní hala u zimního stadionu\, Kostelecká 3113 Prostějov
SUMMARY:OLK-U18Z: VK Prostějov D-TJ Sokol Bohuňovice
END:VEVENT
BEGIN:VEVENT
UID:38343035-3861-4538-b434-636464653332
DTSTAMP:20260422T052724Z
DESCRIPTION:19/73 VK Prostějov D - TJ Šumperk 0:3 (-16\,-22\,-15)
DTSTART;TZID=Europe/Berlin:20240204T090000
DTEND;TZID=Europe/Berlin:20240204T110000
LOCATION:Letní hala u zimního stadionu\, Kostelecká 3113 Prostějov
SUMMARY:OLK-U18Z: VK Prostějov D-TJ Šumperk
END:VEVENT
BEGIN:VEVENT
UID:37636438-6137-4233-b334-303161613965
DTSTAMP:20260422T052724Z
DESCRIPTION:20/77 VK Prostějov D - TJ Šumperk 0:3 (-17\,-20\,-23)
DTSTART;TZID=Europe/Berlin:20240204T130000
DTEND;TZID=Europe/Berlin:20240204T150000
LOCATION:Letní hala u zimního stadionu\, Kostelecká 3113 Prostějov
SUMMARY:OLK-U18Z: VK Prostějov D-TJ Šumperk
END:VEVENT
BEGIN:VEVENT
UID:33333933-6463-4632-a632-326463626139
DTSTAMP:20260422T052724Z
DESCRIPTION:23/89 VK Prostějov D - Uničov 0:3 (-10\,-13\,-9)
DTSTART;TZID=Europe/Berlin:20240302T090000
DTEND;TZID=Europe/Berlin:20240302T110000
LOCATION:Národní sportovní centrum\, Za velodromem 4187 Prostějov
SUMMARY:OLK-U18Z: VK Prostějov D-Uničov
END:VEVENT
BEGIN:VEVENT
UID:65653330-3038-4434-a363-373131306162
DTSTAMP:20260422T052724Z
DESCRIPTION:24/93 VK Prostějov D - Uničov 0:3 (-9\,-21\,-13)
DTSTART;TZID=Europe/Berlin:20240302T130000
DTEND;TZID=Europe/Berlin:20240302T150000
LOCATION:Národní sportovní centrum\, Za velodromem 4187 Prostějov
SUMMARY:OLK-U18Z: VK Prostějov D-Uničov
END:VEVENT
BEGIN:VEVENT
UID:65356562-6164-4333-b939-326131383665
DTSTAMP:20260422T052724Z
DESCRIPTION:27/105 VK Prostějov D - VSK Zábřeh 2:3 (21\,-13\,-23\,21\,-14)
DTSTART;TZID=Europe/Berlin:20240225T100000
DTEND;TZID=Europe/Berlin:20240225T120000
LOCATION:Letní hala u zimního stadionu\, Kostelecká 3113 Prostějov
SUMMARY:OLK-U18Z: VK Prostějov D-VSK Zábřeh
END:VEVENT
BEGIN:VEVENT
UID:64333438-6464-4535-a165-333035386664
DTSTAMP:20260422T052724Z
DESCRIPTION:28/109 VK Prostějov D - VSK Zábřeh 0:3 (-13\,-22\,-12)
DTSTART;TZID=Europe/Berlin:20240225T140000
DTEND;TZID=Europe/Berlin:20240225T160000
LOCATION:Letní hala u zimního stadionu\, Kostelecká 3113 Prostějov
SUMMARY:OLK-U18Z: VK Prostějov D-VSK Zábřeh
END:VEVENT
BEGIN:VEVENT
UID:32653263-6433-4634-a337-336265313634
DTSTAMP:20260422T052724Z
DESCRIPTION:1/1 VK Prostějov C - VK Prostějov D 3:0 (7\,22\,7)
DTSTART;TZID=Europe/Berlin:20230901T100000
DTEND;TZID=Europe/Berlin:20230901T120000
LOCATION:Letní hala u zimního stadionu\, Kostelecká 3113 Prostějov
SUMMARY:OLK-U18Z: VK Prostějov C-VK Prostějov D
END:VEVENT
BEGIN:VEVENT
UID:66623834-6533-4238-a232-363434353738
DTSTAMP:20260422T052724Z
DESCRIPTION:2/5 VK Prostějov C - VK Prostějov D 3:0 (21\,15\,20)
DTSTART;TZID=Europe/Berlin:20230901T140000
DTEND;TZID=Europe/Berlin:20230901T160000
LOCATION:Letní hala u zimního stadionu\, Kostelecká 3113 Prostějov
SUMMARY:OLK-U18Z: VK Prostějov C-VK Prostějov D
END:VEVENT
BEGIN:VEVENT
UID:35313661-3431-4366-b563-363137376264
DTSTAMP:20260422T052724Z
DESCRIPTION:3/9 TJ Sokol Bohuňovice - VK Prostějov D 3:0 (14\,14\,7)
DTSTART;TZID=Europe/Berlin:20230916T090000
DTEND;TZID=Europe/Berlin:20230916T110000
LOCATION:ZŠ a MŠ Aloise Štěpánka\,  Dolany174
SUMMARY:OLK-U18Z: TJ Sokol Bohuňovice-VK Prostějov D
END:VEVENT
BEGIN:VEVENT
UID:32356566-6330-4437-a236-643637313636
DTSTAMP:20260422T052724Z
DESCRIPTION:4/13 TJ Sokol Bohuňovice - VK Prostějov D 3:0 (17\,14\,4)
DTSTART;TZID=Europe/Berlin:20230916T130000
DTEND;TZID=Europe/Berlin:20230916T150000
LOCATION:ZŠ a MŠ Aloise Štěpánka\,  Dolany174
SUMMARY:OLK-U18Z: TJ Sokol Bohuňovice-VK Prostějov D
END:VEVENT
BEGIN:VEVENT
UID:39663832-6636-4233-b561-363363306131
DTSTAMP:20260422T052724Z
DESCRIPTION:5/17 TJ Šumperk - VK Prostějov D 3:1 (-22\,13\,4\,23)
DTSTART;TZID=Europe/Berlin:20231001T100000
DTEND;TZID=Europe/Berlin:20231001T120000
LOCATION:3. ZŠ Šumperk\, 8. května 870 Šumperk
SUMMARY:OLK-U18Z: TJ Šumperk-VK Prostějov D
END:VEVENT
BEGIN:VEVENT
UID:64353831-3330-4632-b161-653166633661
DTSTAMP:20260422T052724Z
DESCRIPTION:6/21 TJ Šumperk - VK Prostějov D 3:0 (8\,14\,18)
DTSTART;TZID=Europe/Berlin:20231001T140000
DTEND;TZID=Europe/Berlin:20231001T160000
LOCATION:3. ZŠ Šumperk\, 8. května 870 Šumperk
SUMMARY:OLK-U18Z: TJ Šumperk-VK Prostějov D
END:VEVENT
BEGIN:VEVENT
UID:66386662-3633-4738-a666-303631666532
DTSTAMP:20260422T052724Z
DESCRIPTION:9/33 Uničov - VK Prostějov D 3:0 (12\,18\,12)
DTSTART;TZID=Europe/Berlin:20240210T100000
DTEND;TZID=Europe/Berlin:20240210T120000
LOCATION:tělocvična\, U Stadionu 849 Uničov
SUMMARY:OLK-U18Z: Uničov-VK Prostějov D
END:VEVENT
BEGIN:VEVENT
UID:63643932-3161-4539-b335-333337613035
DTSTAMP:20260422T052724Z
DESCRIPTION:10/37 Uničov - VK Prostějov D 3:0 (11\,13\,4)
DTSTART;TZID=Europe/Berlin:20240210T140000
DTEND;TZID=Europe/Berlin:20240210T160000
LOCATION:tělocvična\, U Stadionu 849 Uničov
SUMMARY:OLK-U18Z: Uničov-VK Prostějov D
END:VEVENT
BEGIN:VEVENT
UID:36643633-3335-4661-b961-366233386363
DTSTAMP:20260422T052724Z
DESCRIPTION:13/49 VSK Zábřeh - VK Prostějov D 3:0 (11\,14\,23)
DTSTART;TZID=Europe/Berlin:20231202T100000
DTEND;TZID=Europe/Berlin:20231202T120000
LOCATION:Tělocvična při SŠ\, ZŠ\, MŠ a DD Zábřeh\, Sušilova 1912 Zábřeh
SUMMARY:OLK-U18Z: VSK Zábřeh-VK Prostějov D
END:VEVENT
BEGIN:VEVENT
UID:35636239-6564-4761-a232-376334343634
DTSTAMP:20260422T052724Z
DESCRIPTION:14/53 VSK Zábřeh - VK Prostějov D 2:3 (-19\,21\,20\,-20\,-8)
DTSTART;TZID=Europe/Berlin:20231202T140000
DTEND;TZID=Europe/Berlin:20231202T160000
LOCATION:Tělocvična při SŠ\, ZŠ\, MŠ a DD Zábřeh\, Sušilova 1912 Zábřeh
SUMMARY:OLK-U18Z: VSK Zábřeh-VK Prostějov D
END:VEVENT
BEGIN:VEVENT
UID:65353964-6363-4639-a231-656433646237
DTSTAMP:20260422T052724Z
DESCRIPTION:21/81 Vyškov - VK Prostějov D 3:1 (-23\,19\,18\,15)
DTSTART;TZID=Europe/Berlin:20240217T100000
DTEND;TZID=Europe/Berlin:20240217T120000
LOCATION:Tělocvična ZŠ Nádražní\, Nádražní 5 Vyškov - Vyškov-Město
SUMMARY:OLK-U18Z: Vyškov-VK Prostějov D
END:VEVENT
BEGIN:VEVENT
UID:35663534-3335-4137-b266-363135633036
DTSTAMP:20260422T052724Z
DESCRIPTION:22/85 Vyškov - VK Prostějov D 3:0 (15\,14\,18)
DTSTART;TZID=Europe/Berlin:20240217T140000
DTEND;TZID=Europe/Berlin:20240217T160000
LOCATION:Tělocvična ZŠ Nádražní\, Nádražní 5 Vyškov - Vyškov-Město
SUMMARY:OLK-U18Z: Vyškov-VK Prostějov D
END:VEVENT
BEGIN:VEVENT
UID:39623066-6232-4434-a563-633235666564
DTSTAMP:20260422T052724Z
DESCRIPTION:25/97 VO TJ Lanškroun - VK Prostějov D X:3
DTSTART;TZID=Europe/Berlin:20240316T100000
DTEND;TZID=Europe/Berlin:20240316T120000
LOCATION:SOŠ a SOU Lanškroun\, Sokolská 288 Lanškroun - Ostrovské Předměstí
SUMMARY:OLK-U18Z: VO TJ Lanškroun-VK Prostějov D
END:VEVENT
BEGIN:VEVENT
UID:65326632-3539-4061-a230-303834336331
DTSTAMP:20260422T052724Z
DESCRIPTION:26/101 VO TJ Lanškroun - VK Prostějov D X:3
DTSTART;TZID=Europe/Berlin:20240316T140000
DTEND;TZID=Europe/Berlin:20240316T160000
LOCATION:SOŠ a SOU Lanškroun\, Sokolská 288 Lanškroun - Ostrovské Předměstí
SUMMARY:OLK-U18Z: VO TJ Lanškroun-VK Prostějov D
END:VEVENT
END:VCALENDAR
