BEGIN:VCALENDAR
VERSION:2.0
PRODID:-//Volejbalový sportovní klub Staré Město, z.s.82039//NONSGML kigkonsult.se iCalcreator 2.41.80//
CALSCALE:GREGORIAN
UID:66636639-6439-4261-b836-373561396366
BEGIN:VEVENT
UID:62303032-6533-4763-b766-303333323630
DTSTAMP:20260422T184028Z
DESCRIPTION:5/9 VSK Staré Město - TJ Bojkovice 3:0 (14\,23\,23)
DTSTART;TZID=Europe/Berlin:20231103T170000
DTEND;TZID=Europe/Berlin:20231103T190000
LOCATION:tělocvična ZŠ Staré Město\, Komenského 1720 Staré Město
SUMMARY:ZLK-U16M: VSK Staré Město-TJ Bojkovice
END:VEVENT
BEGIN:VEVENT
UID:64393330-3736-4135-a164-316132636166
DTSTAMP:20260422T184028Z
DESCRIPTION:6/11 VSK Staré Město - TJ Bojkovice 3:0 (12\,5\,17)
DTSTART;TZID=Europe/Berlin:20231103T190000
DTEND;TZID=Europe/Berlin:20231103T210000
LOCATION:tělocvična ZŠ Staré Město\, Komenského 1720 Staré Město
SUMMARY:ZLK-U16M: VSK Staré Město-TJ Bojkovice
END:VEVENT
BEGIN:VEVENT
UID:35366530-3131-4361-a163-306633313463
DTSTAMP:20260422T184028Z
DESCRIPTION:7/14 VSK Staré Město - Zlín 0:3 (-22\,-12\,-20)
DTSTART;TZID=Europe/Berlin:20231215T170000
DTEND;TZID=Europe/Berlin:20231215T190000
LOCATION:tělocvična ZŠ Staré Město\, Komenského 1720 Staré Město
SUMMARY:ZLK-U16M: VSK Staré Město-Zlín
END:VEVENT
BEGIN:VEVENT
UID:61363233-6638-4566-b334-646364643937
DTSTAMP:20260422T184028Z
DESCRIPTION:8/16 VSK Staré Město - Zlín 0:3 (-15\,-22\,-19)
DTSTART;TZID=Europe/Berlin:20231215T183000
DTEND;TZID=Europe/Berlin:20231215T203000
LOCATION:tělocvična ZŠ Staré Město\, Komenského 1720 Staré Město
SUMMARY:ZLK-U16M: VSK Staré Město-Zlín
END:VEVENT
BEGIN:VEVENT
UID:64306238-6166-4134-b262-656436376432
DTSTAMP:20260422T184028Z
DESCRIPTION:9/18 VSK Staré Město - VK MEZ Vsetín 3:2 (26\,19\,-23\,-25\,12)
DTSTART;TZID=Europe/Berlin:20231125T100000
DTEND;TZID=Europe/Berlin:20231125T120000
LOCATION:tělocvična ZŠ Staré Město\, Komenského 1720 Staré Město
SUMMARY:ZLK-U16M: VSK Staré Město-VK MEZ Vsetín
END:VEVENT
BEGIN:VEVENT
UID:32386533-3137-4564-b666-306163363061
DTSTAMP:20260422T184028Z
DESCRIPTION:10/20 VSK Staré Město - VK MEZ Vsetín 3:0 (16\,19\,22)
DTSTART;TZID=Europe/Berlin:20231125T130000
DTEND;TZID=Europe/Berlin:20231125T150000
LOCATION:tělocvična ZŠ Staré Město\, Komenského 1720 Staré Město
SUMMARY:ZLK-U16M: VSK Staré Město-VK MEZ Vsetín
END:VEVENT
BEGIN:VEVENT
UID:39646130-6539-4239-a233-373762303539
DTSTAMP:20260422T184028Z
DESCRIPTION:17/33 VSK Staré Město - TJ Bojkovice 3:0 (17\,9\,18)
DTSTART;TZID=Europe/Berlin:20240203T110000
DTEND;TZID=Europe/Berlin:20240203T130000
LOCATION:Městská sportovní hala Širůch\, Nad Hřištěm 1921 Staré Město
SUMMARY:ZLK-U16M: VSK Staré Město-TJ Bojkovice
END:VEVENT
BEGIN:VEVENT
UID:30333837-6432-4634-b633-646332663830
DTSTAMP:20260422T184028Z
DESCRIPTION:18/35 VSK Staré Město - TJ Bojkovice 3:2 (9\,-13\,-24\,10\,7)
DTSTART;TZID=Europe/Berlin:20240203T150000
DTEND;TZID=Europe/Berlin:20240203T170000
LOCATION:Městská sportovní hala Širůch\, Nad Hřištěm 1921 Staré Město
SUMMARY:ZLK-U16M: VSK Staré Město-TJ Bojkovice
END:VEVENT
BEGIN:VEVENT
UID:36656234-3034-4430-a664-326365333830
DTSTAMP:20260422T184028Z
DESCRIPTION:19/38 VSK Staré Město - Zlín 1:3 (23\,-22\,-15\,-14)
DTSTART;TZID=Europe/Berlin:20240322T170000
DTEND;TZID=Europe/Berlin:20240322T190000
LOCATION:Městská sportovní hala Širůch\, Nad Hřištěm 1921 Staré Město
SUMMARY:ZLK-U16M: VSK Staré Město-Zlín
END:VEVENT
BEGIN:VEVENT
UID:33363131-3534-4962-a262-396366366231
DTSTAMP:20260422T184028Z
DESCRIPTION:20/40 VSK Staré Město - Zlín 3:2 (-16\,21\,18\,-22\,13)
DTSTART;TZID=Europe/Berlin:20240322T190000
DTEND;TZID=Europe/Berlin:20240322T210000
LOCATION:Městská sportovní hala Širůch\, Nad Hřištěm 1921 Staré Město
SUMMARY:ZLK-U16M: VSK Staré Město-Zlín
END:VEVENT
BEGIN:VEVENT
UID:62316133-6635-4339-b433-663937333338
DTSTAMP:20260422T184028Z
DESCRIPTION:21/42 VSK Staré Město - VK MEZ Vsetín 2:3 (19\,24\,-19\,-15\,-9
 )
DTSTART;TZID=Europe/Berlin:20240410T160000
DTEND;TZID=Europe/Berlin:20240410T180000
LOCATION:Městská sportovní hala Širůch\, Nad Hřištěm 1921 Staré Město
SUMMARY:ZLK-U16M: VSK Staré Město-VK MEZ Vsetín
END:VEVENT
BEGIN:VEVENT
UID:65633663-6230-4431-b464-386166346238
DTSTAMP:20260422T184028Z
DESCRIPTION:22/44 VSK Staré Město - VK MEZ Vsetín 3:1 (25\,23\,-18\,20)
DTSTART;TZID=Europe/Berlin:20240410T180000
DTEND;TZID=Europe/Berlin:20240410T200000
LOCATION:Městská sportovní hala Širůch\, Nad Hřištěm 1921 Staré Město
SUMMARY:ZLK-U16M: VSK Staré Město-VK MEZ Vsetín
END:VEVENT
BEGIN:VEVENT
UID:35346231-3831-4237-b735-303665623564
DTSTAMP:20260422T184028Z
DESCRIPTION:1/2 Zlín - VSK Staré Město 3:0 (16\,10\,17)
DTSTART;TZID=Europe/Berlin:20231007T100000
DTEND;TZID=Europe/Berlin:20231007T120000
LOCATION:ZŠ Okružní Zlín\, Okružní 4685 Zlín
SUMMARY:ZLK-U16M: Zlín-VSK Staré Město
END:VEVENT
BEGIN:VEVENT
UID:65653632-3735-4931-a439-663865626535
DTSTAMP:20260422T184028Z
DESCRIPTION:2/4 Zlín - VSK Staré Město 3:2 (25\,-20\,19\,-22\,15)
DTSTART;TZID=Europe/Berlin:20231007T130000
DTEND;TZID=Europe/Berlin:20231007T150000
LOCATION:ZŠ Okružní Zlín\, Okružní 4685 Zlín
SUMMARY:ZLK-U16M: Zlín-VSK Staré Město
END:VEVENT
BEGIN:VEVENT
UID:31353965-6663-4635-a565-386334393732
DTSTAMP:20260422T184028Z
DESCRIPTION:3/6 VK MEZ Vsetín - VSK Staré Město 1:3 (-13\,13\,-16\,-23)
DTSTART;TZID=Europe/Berlin:20231021T100000
DTEND;TZID=Europe/Berlin:20231021T120000
LOCATION:Sokolovna Vsetín\, Mostecká 367 Vsetín
SUMMARY:ZLK-U16M: VK MEZ Vsetín-VSK Staré Město
END:VEVENT
BEGIN:VEVENT
UID:33353236-6135-4664-a436-636464396532
DTSTAMP:20260422T184028Z
DESCRIPTION:4/8 VK MEZ Vsetín - VSK Staré Město 0:3 (-11\,-16\,-27)
DTSTART;TZID=Europe/Berlin:20231021T130000
DTEND;TZID=Europe/Berlin:20231021T150000
LOCATION:Sokolovna Vsetín\, Mostecká 367 Vsetín
SUMMARY:ZLK-U16M: VK MEZ Vsetín-VSK Staré Město
END:VEVENT
BEGIN:VEVENT
UID:32303866-6364-4939-b139-303039366534
DTSTAMP:20260422T184028Z
DESCRIPTION:11/21 TJ Bojkovice - VSK Staré Město 0:3 (-13\,-24\,-20)
DTSTART;TZID=Europe/Berlin:20231117T100000
DTEND;TZID=Europe/Berlin:20231117T120000
LOCATION:ZŠ TGM Bojkovice\, Štefánikova 460 Bojkovice
SUMMARY:ZLK-U16M: TJ Bojkovice-VSK Staré Město
END:VEVENT
BEGIN:VEVENT
UID:31626339-6534-4166-b636-333261306233
DTSTAMP:20260422T184028Z
DESCRIPTION:12/23 TJ Bojkovice - VSK Staré Město 1:3 (19\,-11\,-15\,-15)
DTSTART;TZID=Europe/Berlin:20231117T130000
DTEND;TZID=Europe/Berlin:20231117T150000
LOCATION:ZŠ TGM Bojkovice\, Štefánikova 460 Bojkovice
SUMMARY:ZLK-U16M: TJ Bojkovice-VSK Staré Město
END:VEVENT
BEGIN:VEVENT
UID:63373561-3830-4237-b137-373239376137
DTSTAMP:20260422T184028Z
DESCRIPTION:13/26 Zlín - VSK Staré Město 3:2 (18\,-24\,-20\,17\,9)
DTSTART;TZID=Europe/Berlin:20240113T100000
DTEND;TZID=Europe/Berlin:20240113T120000
LOCATION:ZŠ Okružní Zlín\, Okružní 4685 Zlín
SUMMARY:ZLK-U16M: Zlín-VSK Staré Město
END:VEVENT
BEGIN:VEVENT
UID:33633335-3461-4166-a432-316431636362
DTSTAMP:20260422T184028Z
DESCRIPTION:14/28 Zlín - VSK Staré Město 3:1 (19\,26\,-23\,20)
DTSTART;TZID=Europe/Berlin:20240113T130000
DTEND;TZID=Europe/Berlin:20240113T150000
LOCATION:ZŠ Okružní Zlín\, Okružní 4685 Zlín
SUMMARY:ZLK-U16M: Zlín-VSK Staré Město
END:VEVENT
BEGIN:VEVENT
UID:38353630-3464-4834-b462-633861613630
DTSTAMP:20260422T184028Z
DESCRIPTION:15/30 VK MEZ Vsetín - VSK Staré Město 3:1 (20\,-15\,18\,18)
DTSTART;TZID=Europe/Berlin:20240127T100000
DTEND;TZID=Europe/Berlin:20240127T120000
LOCATION:Sokolovna Vsetín\, Mostecká 367 Vsetín
SUMMARY:ZLK-U16M: VK MEZ Vsetín-VSK Staré Město
END:VEVENT
BEGIN:VEVENT
UID:64343536-3361-4239-a233-323437643237
DTSTAMP:20260422T184028Z
DESCRIPTION:16/32 VK MEZ Vsetín - VSK Staré Město 2:3 (-12\,-22\,20\,17\,-1
 1)
DTSTART;TZID=Europe/Berlin:20240127T130000
DTEND;TZID=Europe/Berlin:20240127T150000
LOCATION:Sokolovna Vsetín\, Mostecká 367 Vsetín
SUMMARY:ZLK-U16M: VK MEZ Vsetín-VSK Staré Město
END:VEVENT
BEGIN:VEVENT
UID:61666334-3837-4266-b866-303935336264
DTSTAMP:20260422T184028Z
DESCRIPTION:23/45 TJ Bojkovice - VSK Staré Město 0:3 (-7\,-15\,-21)
DTSTART;TZID=Europe/Berlin:20240307T150000
DTEND;TZID=Europe/Berlin:20240307T170000
LOCATION:ZŠ TGM Bojkovice\, Štefánikova 460 Bojkovice
SUMMARY:ZLK-U16M: TJ Bojkovice-VSK Staré Město
END:VEVENT
BEGIN:VEVENT
UID:65383564-3363-4964-b462-623063393737
DTSTAMP:20260422T184028Z
DESCRIPTION:24/47 TJ Bojkovice - VSK Staré Město 0:3 (-17\,-20\,-5)
DTSTART;TZID=Europe/Berlin:20240307T170000
DTEND;TZID=Europe/Berlin:20240307T190000
LOCATION:ZŠ TGM Bojkovice\, Štefánikova 460 Bojkovice
SUMMARY:ZLK-U16M: TJ Bojkovice-VSK Staré Město
END:VEVENT
END:VCALENDAR
