BEGIN:VCALENDAR
VERSION:2.0
PRODID:-//TJ Tatran Prachatice A82049//NONSGML kigkonsult.se iCalcreator 2.41.80//
CALSCALE:GREGORIAN
UID:38613965-3531-4432-b561-613334633366
BEGIN:VEVENT
UID:61336166-3831-4031-b133-313239616131
DTSTAMP:20260422T182954Z
DESCRIPTION:1/2 TJ Tatran Prachatice A - VK Madeta A 0:2 (-21\,-13)
DTSTART;TZID=Europe/Berlin:20230917T100000
DTEND;TZID=Europe/Berlin:20230917T120000
LOCATION:Sportovní hala TJ Netolice\, Tyršova 226 Netolice
SUMMARY:JC-U16Z-1-QB: TJ Tatran Prachatice A-VK Madeta A
END:VEVENT
BEGIN:VEVENT
UID:36643662-6464-4235-a265-646337633965
DTSTAMP:20260422T182954Z
DESCRIPTION:1/3 TJ Slovan J. Hradec A - TJ Tatran Prachatice A 1:2 (-11\,16
 \,-13)
DTSTART;TZID=Europe/Berlin:20230917T120000
DTEND;TZID=Europe/Berlin:20230917T140000
LOCATION:Sportovní hala J. Hradec\, U Stadionu 1137 Jindřichův Hradec - Jin
 dřichův Hradec II
SUMMARY:JC-U16Z-1-QB: TJ Slovan J. Hradec A-TJ Tatran Prachatice A
END:VEVENT
BEGIN:VEVENT
UID:37383930-6466-4263-b032-616638313966
DTSTAMP:20260422T182954Z
DESCRIPTION:1/2 TJ Tatran Prachatice A - VSK Český Krumlov A 2:0 (13\,13)
DTSTART;TZID=Europe/Berlin:20231022T100000
DTEND;TZID=Europe/Berlin:20231022T120000
LOCATION:Sportovní hala TJ Netolice\, Tyršova 226 Netolice
SUMMARY:JC-U16Z-1-B1: TJ Tatran Prachatice A-VSK Český Krumlov A
END:VEVENT
BEGIN:VEVENT
UID:61616536-6361-4134-b233-616664623639
DTSTAMP:20260422T182954Z
DESCRIPTION:1/5 TJ Tatran Prachatice A - SK Třebín A 2:0 (18\,23)
DTSTART;TZID=Europe/Berlin:20231022T130000
DTEND;TZID=Europe/Berlin:20231022T150000
LOCATION:Sportovní hala TJ Netolice\, Tyršova 226 Netolice
SUMMARY:JC-U16Z-1-B1: TJ Tatran Prachatice A-SK Třebín A
END:VEVENT
BEGIN:VEVENT
UID:61653638-6666-4638-b838-366431326261
DTSTAMP:20260422T182954Z
DESCRIPTION:1/4 Škola volejbalu A - TJ Tatran Prachatice A 2:0 (21\,24)
DTSTART;TZID=Europe/Berlin:20231022T120000
DTEND;TZID=Europe/Berlin:20231022T140000
LOCATION:Sportovní hala Hrdějovice\,  Hrdějovice597
SUMMARY:JC-U16Z-1-B1: Škola volejbalu A-TJ Tatran Prachatice A
END:VEVENT
BEGIN:VEVENT
UID:35313637-3134-4332-b136-333235356639
DTSTAMP:20260422T182954Z
DESCRIPTION:1/2 TJ Tatran Prachatice A - Volejbal Rudolfov B 2:0 (9\,14)
DTSTART;TZID=Europe/Berlin:20231112T100000
DTEND;TZID=Europe/Berlin:20231112T120000
LOCATION:Sportovní hala TJ Netolice\, Tyršova 226 Netolice
SUMMARY:JC-U16Z-1-B2: TJ Tatran Prachatice A-Volejbal Rudolfov B
END:VEVENT
BEGIN:VEVENT
UID:37626630-6664-4532-b832-646266313538
DTSTAMP:20260422T182954Z
DESCRIPTION:1/5 TJ Tatran Prachatice A - VK Madeta B 2:0 (9\,12)
DTSTART;TZID=Europe/Berlin:20231112T130000
DTEND;TZID=Europe/Berlin:20231112T150000
LOCATION:Sportovní hala TJ Netolice\, Tyršova 226 Netolice
SUMMARY:JC-U16Z-1-B2: TJ Tatran Prachatice A-VK Madeta B
END:VEVENT
BEGIN:VEVENT
UID:31316566-3134-4766-b836-633937383139
DTSTAMP:20260422T182954Z
DESCRIPTION:1/4 VSK Český Krumlov A - TJ Tatran Prachatice A 2:0 (23\,23)
DTSTART;TZID=Europe/Berlin:20231112T120000
DTEND;TZID=Europe/Berlin:20231112T140000
LOCATION:TĚLOVÝCHOVNÁ JEDNOTA LOKOMOTIVA z. s.\, Třebízského 1044 České Bud
 ějovice - České Budějovice 5
SUMMARY:JC-U16Z-1-B2: VSK Český Krumlov A-TJ Tatran Prachatice A
END:VEVENT
BEGIN:VEVENT
UID:63326461-6464-4563-b963-393831303634
DTSTAMP:20260422T182954Z
DESCRIPTION:1/6 TJ Tatran Prachatice A - VK Madeta A 0:2 (-17\,-20)
DTSTART;TZID=Europe/Berlin:20231210T140000
DTEND;TZID=Europe/Berlin:20231210T160000
LOCATION:Sportovní hala TJ Netolice\, Tyršova 226 Netolice
SUMMARY:JC-U16Z-1-A3: TJ Tatran Prachatice A-VK Madeta A
END:VEVENT
BEGIN:VEVENT
UID:37633866-3238-4838-b166-663637633934
DTSTAMP:20260422T182954Z
DESCRIPTION:1/2 Rudolfov - TJ Tatran Prachatice A 2:0 (19\,10)
DTSTART;TZID=Europe/Berlin:20231210T100000
DTEND;TZID=Europe/Berlin:20231210T120000
LOCATION:Sportovní hala Rudolfov\, Adamovská 511 Rudolfov
SUMMARY:JC-U16Z-1-A3: Rudolfov-TJ Tatran Prachatice A
END:VEVENT
BEGIN:VEVENT
UID:31336532-3161-4032-b338-643264313566
DTSTAMP:20260422T182954Z
DESCRIPTION:1/3 Tábor - TJ Tatran Prachatice A 1:2 (24\,-23\,-12)
DTSTART;TZID=Europe/Berlin:20231210T110000
DTEND;TZID=Europe/Berlin:20231210T130000
LOCATION:Sportovní Hala Mír\, U Stadionu Míru 1579 Tábor
SUMMARY:JC-U16Z-1-A3: Tábor-TJ Tatran Prachatice A
END:VEVENT
BEGIN:VEVENT
UID:62656663-3266-4933-b563-663238663032
DTSTAMP:20260422T182954Z
DESCRIPTION:1/6 TJ Tatran Prachatice A - TJ Slovan J. Hradec A 1:2 (-18\,11
 \,-14)
DTSTART;TZID=Europe/Berlin:20240204T145000
DTEND;TZID=Europe/Berlin:20240204T165000
LOCATION:Sportovní hala TJ Netolice\, Tyršova 226 Netolice
SUMMARY:JC-U16Z-1-B4: TJ Tatran Prachatice A-TJ Slovan J. Hradec A
END:VEVENT
BEGIN:VEVENT
UID:64643835-3462-4036-a132-353333623737
DTSTAMP:20260422T182954Z
DESCRIPTION:1/2 VSK Český Krumlov A - TJ Tatran Prachatice A 0:2 (-14\,-23)
DTSTART;TZID=Europe/Berlin:20240204T101000
DTEND;TZID=Europe/Berlin:20240204T121000
LOCATION:TĚLOVÝCHOVNÁ JEDNOTA LOKOMOTIVA z. s.\, Třebízského 1044 České Bud
 ějovice - České Budějovice 5
SUMMARY:JC-U16Z-1-B4: VSK Český Krumlov A-TJ Tatran Prachatice A
END:VEVENT
BEGIN:VEVENT
UID:34363434-6639-4235-b031-336234383730
DTSTAMP:20260422T182954Z
DESCRIPTION:1/3 SK Třebín A - TJ Tatran Prachatice A 0:2 (-16\,-21)
DTSTART;TZID=Europe/Berlin:20240204T112000
DTEND;TZID=Europe/Berlin:20240204T132000
LOCATION:ZŠ Máj I\, M. Chlajna 1319 České Budějovice - České Budějovice 2
SUMMARY:JC-U16Z-1-B4: SK Třebín A-TJ Tatran Prachatice A
END:VEVENT
BEGIN:VEVENT
UID:37303036-3534-4235-b939-653235383666
DTSTAMP:20260422T182954Z
DESCRIPTION:1/2 TJ Tatran Prachatice A - Rudolfov 0:2 (-17\,-15)
DTSTART;TZID=Europe/Berlin:20240407T100000
DTEND;TZID=Europe/Berlin:20240407T120000
LOCATION:Sportovní hala TJ Netolice\, Tyršova 226 Netolice
SUMMARY:JC-U16Z-1-A5: TJ Tatran Prachatice A-Rudolfov
END:VEVENT
BEGIN:VEVENT
UID:63663538-6562-4666-b935-373161356433
DTSTAMP:20260422T182954Z
DESCRIPTION:1/5 TJ Tatran Prachatice A - VK Madeta A 2:1 (19\,-16\,10)
DTSTART;TZID=Europe/Berlin:20240407T130000
DTEND;TZID=Europe/Berlin:20240407T150000
LOCATION:Sportovní hala TJ Netolice\, Tyršova 226 Netolice
SUMMARY:JC-U16Z-1-A5: TJ Tatran Prachatice A-VK Madeta A
END:VEVENT
BEGIN:VEVENT
UID:66623438-3436-4165-a534-363165326235
DTSTAMP:20260422T182954Z
DESCRIPTION:1/4 Tábor - TJ Tatran Prachatice A 1:2 (-23\,23\,-8)
DTSTART;TZID=Europe/Berlin:20240407T120000
DTEND;TZID=Europe/Berlin:20240407T140000
LOCATION:Sportovní Hala Mír\, U Stadionu Míru 1579 Tábor
SUMMARY:JC-U16Z-1-A5: Tábor-TJ Tatran Prachatice A
END:VEVENT
END:VCALENDAR
