BEGIN:VCALENDAR
VERSION:2.0
PRODID:-//Volejbalový klub Kylešovice, z.s.82050//NONSGML kigkonsult.se iCalcreator 2.41.80//
CALSCALE:GREGORIAN
UID:65666361-3365-4432-b934-366238636462
BEGIN:VEVENT
UID:31356531-6262-4830-b765-396263346564
DTSTAMP:20260425T195502Z
DESCRIPTION:1/2 VK Kylešovice - TJ Hlučín 'A' 3:0 (21\,16\,15)
DTSTART;TZID=Europe/Berlin:20230924T100000
DTEND;TZID=Europe/Berlin:20230924T120000
LOCATION:Hala SPŠ stavební Opava\, Mírová 630 Opava - Předměstí
SUMMARY:MS-U20Z-A: VK Kylešovice-TJ Hlučín 'A'
END:VEVENT
BEGIN:VEVENT
UID:64633737-3462-4635-b462-383065326365
DTSTAMP:20260425T195502Z
DESCRIPTION:2/5 VK Kylešovice - TJ Hlučín 'A' 3:0 (19\,20\,9)
DTSTART;TZID=Europe/Berlin:20230924T140000
DTEND;TZID=Europe/Berlin:20230924T160000
LOCATION:Hala SPŠ stavební Opava\, Mírová 630 Opava - Předměstí
SUMMARY:MS-U20Z-A: VK Kylešovice-TJ Hlučín 'A'
END:VEVENT
BEGIN:VEVENT
UID:39643837-3337-4939-a566-386664633439
DTSTAMP:20260425T195502Z
DESCRIPTION:5/13 VK Kylešovice - TJ Hlučín\, 'B' 3:0 (4\,7\,16)
DTSTART;TZID=Europe/Berlin:20231015T100000
DTEND;TZID=Europe/Berlin:20231015T120000
LOCATION:Hala SPŠ stavební Opava\, Mírová 630 Opava - Předměstí
SUMMARY:MS-U20Z-A: VK Kylešovice-TJ Hlučín\, 'B'
END:VEVENT
BEGIN:VEVENT
UID:62626437-6232-4765-a430-353535653630
DTSTAMP:20260425T195502Z
DESCRIPTION:6/16 VK Kylešovice - TJ Hlučín\, 'B' 3:0 (9\,11\,7)
DTSTART;TZID=Europe/Berlin:20231015T140000
DTEND;TZID=Europe/Berlin:20231015T160000
LOCATION:Hala SPŠ stavební Opava\, Mírová 630 Opava - Předměstí
SUMMARY:MS-U20Z-A: VK Kylešovice-TJ Hlučín\, 'B'
END:VEVENT
BEGIN:VEVENT
UID:34333933-3662-4930-a333-616630666330
DTSTAMP:20260425T195502Z
DESCRIPTION:7/21 VK Kylešovice - TJ ODRY\, z.s. 3:0 (24\,21\,22)
DTSTART;TZID=Europe/Berlin:20231105T100000
DTEND;TZID=Europe/Berlin:20231105T120000
LOCATION:Hala SPŠ stavební Opava\, Mírová 630 Opava - Předměstí
SUMMARY:MS-U20Z-A: VK Kylešovice-TJ ODRY\, z.s.
END:VEVENT
BEGIN:VEVENT
UID:37306465-3063-4938-b631-333331623536
DTSTAMP:20260425T195502Z
DESCRIPTION:8/24 VK Kylešovice - TJ ODRY\, z.s. 3:1 (-24\,15\,18\,19)
DTSTART;TZID=Europe/Berlin:20231105T140000
DTEND;TZID=Europe/Berlin:20231105T160000
LOCATION:Hala SPŠ stavební Opava\, Mírová 630 Opava - Předměstí
SUMMARY:MS-U20Z-A: VK Kylešovice-TJ ODRY\, z.s.
END:VEVENT
BEGIN:VEVENT
UID:36396632-3663-4762-b732-303830666636
DTSTAMP:20260425T195502Z
DESCRIPTION:13/39 VK Kylešovice - VO Sl. Orlice 3:2 (-17\,21\,-17\,24\,7)
DTSTART;TZID=Europe/Berlin:20231126T100000
DTEND;TZID=Europe/Berlin:20231126T120000
LOCATION:Hala SPŠ stavební Opava\, Mírová 630 Opava - Předměstí
SUMMARY:MS-U20Z-A: VK Kylešovice-VO Sl. Orlice
END:VEVENT
BEGIN:VEVENT
UID:33363564-3731-4165-a134-343836303665
DTSTAMP:20260425T195502Z
DESCRIPTION:14/42 VK Kylešovice - VO Sl. Orlice 2:3 (-18\,18\,20\,-18\,-13)
DTSTART;TZID=Europe/Berlin:20231126T140000
DTEND;TZID=Europe/Berlin:20231126T160000
LOCATION:Hala SPŠ stavební Opava\, Mírová 630 Opava - Předměstí
SUMMARY:MS-U20Z-A: VK Kylešovice-VO Sl. Orlice
END:VEVENT
BEGIN:VEVENT
UID:35323435-3862-4631-b934-373766663762
DTSTAMP:20260425T195502Z
DESCRIPTION:3/9 VO Sl. Orlice - VK Kylešovice 0:3 (-18\,-20\,-24)\nNH-SPGŠ 
 a SZŠ Jiráskova 1a
DTSTART;TZID=Europe/Berlin:20231008T100000
DTEND;TZID=Europe/Berlin:20231008T120000
LOCATION:ZŠ Janáčkovo náměstí 17\, Janáčkovo náměstí 1970 Krnov - Pod Bezru
 čovým vrchem
SUMMARY:MS-U20Z-A: VO Sl. Orlice-VK Kylešovice
END:VEVENT
BEGIN:VEVENT
UID:65613365-3438-4066-a233-303337383230
DTSTAMP:20260425T195502Z
DESCRIPTION:4/12 VO Sl. Orlice - VK Kylešovice 3:1 (-20\,23\,23\,19)\nNH-SP
 GŠ a SZŠ Jiráskova 1a
DTSTART;TZID=Europe/Berlin:20231008T140000
DTEND;TZID=Europe/Berlin:20231008T160000
LOCATION:ZŠ Janáčkovo náměstí 17\, Janáčkovo náměstí 1970 Krnov - Pod Bezru
 čovým vrchem
SUMMARY:MS-U20Z-A: VO Sl. Orlice-VK Kylešovice
END:VEVENT
BEGIN:VEVENT
UID:34646666-3331-4165-b832-366633353130
DTSTAMP:20260425T195502Z
DESCRIPTION:11/32 TJ Hlučín 'A' - VK Kylešovice 1:3 (-13\,-16\,21\,-13)
DTSTART;TZID=Europe/Berlin:20231119T110000
DTEND;TZID=Europe/Berlin:20231119T130000
LOCATION:Sportovní hala\, Tyršova 1668 Hlučín
SUMMARY:MS-U20Z-A: TJ Hlučín 'A'-VK Kylešovice
END:VEVENT
BEGIN:VEVENT
UID:36346134-3139-4633-b638-346461646135
DTSTAMP:20260425T195502Z
DESCRIPTION:12/35 TJ Hlučín 'A' - VK Kylešovice 0:3 (-19\,-13\,-23)
DTSTART;TZID=Europe/Berlin:20231119T150000
DTEND;TZID=Europe/Berlin:20231119T170000
LOCATION:Sportovní hala\, Tyršova 1668 Hlučín
SUMMARY:MS-U20Z-A: TJ Hlučín 'A'-VK Kylešovice
END:VEVENT
BEGIN:VEVENT
UID:65386636-3331-4261-b365-646638373133
DTSTAMP:20260425T195502Z
DESCRIPTION:15/43 TJ Hlučín\, 'B' - VK Kylešovice 0:3 (-9\,-12\,-14)
DTSTART;TZID=Europe/Berlin:20231203T100000
DTEND;TZID=Europe/Berlin:20231203T120000
LOCATION:Sportovní hala\, Tyršova 1668 Hlučín
SUMMARY:MS-U20Z-A: TJ Hlučín\, 'B'-VK Kylešovice
END:VEVENT
BEGIN:VEVENT
UID:38613136-3833-4334-b835-343133653038
DTSTAMP:20260425T195502Z
DESCRIPTION:16/46 TJ Hlučín\, 'B' - VK Kylešovice 0:3 (-10\,-7\,-8)
DTSTART;TZID=Europe/Berlin:20231203T140000
DTEND;TZID=Europe/Berlin:20231203T160000
LOCATION:Sportovní hala\, Tyršova 1668 Hlučín
SUMMARY:MS-U20Z-A: TJ Hlučín\, 'B'-VK Kylešovice
END:VEVENT
BEGIN:VEVENT
UID:64653865-6366-4335-b431-643866306531
DTSTAMP:20260425T195502Z
DESCRIPTION:17/51 TJ ODRY\, z.s. - VK Kylešovice 2:3 (21\,-17\,22\,-14\,-14
 )
DTSTART;TZID=Europe/Berlin:20231210T100000
DTEND;TZID=Europe/Berlin:20231210T120000
LOCATION:Tělocvična\, Pohořská 1010 Odry
SUMMARY:MS-U20Z-A: TJ ODRY\, z.s.-VK Kylešovice
END:VEVENT
BEGIN:VEVENT
UID:38383666-6637-4433-b739-613132323636
DTSTAMP:20260425T195502Z
DESCRIPTION:18/54 TJ ODRY\, z.s. - VK Kylešovice 0:3 (-14\,-10\,-23)
DTSTART;TZID=Europe/Berlin:20231210T140000
DTEND;TZID=Europe/Berlin:20231210T160000
LOCATION:Tělocvična\, Pohořská 1010 Odry
SUMMARY:MS-U20Z-A: TJ ODRY\, z.s.-VK Kylešovice
END:VEVENT
BEGIN:VEVENT
UID:32326336-3439-4038-a135-306437303966
DTSTAMP:20260425T195502Z
DESCRIPTION:1/1 VK Kylešovice - SK Sl. Orlová 2:3 (18\,-23\,-22\,21\,-15)
DTSTART;TZID=Europe/Berlin:20240303T100000
DTEND;TZID=Europe/Berlin:20240303T120000
LOCATION:Hala SPŠ stavební Opava\, Mírová 630 Opava - Předměstí
SUMMARY:MS-U20Z-F1: VK Kylešovice-SK Sl. Orlová
END:VEVENT
BEGIN:VEVENT
UID:31666365-6334-4265-b333-393263323439
DTSTAMP:20260425T195502Z
DESCRIPTION:2/3 VK Kylešovice - SK Sl. Orlová 3:1 (21\,-20\,13\,23)
DTSTART;TZID=Europe/Berlin:20240303T140000
DTEND;TZID=Europe/Berlin:20240303T160000
LOCATION:Hala SPŠ stavební Opava\, Mírová 630 Opava - Předměstí
SUMMARY:MS-U20Z-F1: VK Kylešovice-SK Sl. Orlová
END:VEVENT
BEGIN:VEVENT
UID:30373032-6437-4465-b066-353138663932
DTSTAMP:20260425T195502Z
DESCRIPTION:3/5 VK Kylešovice - Frýdek-Místek C 2:3 (-23\,-22\,24\,22\,-7)
DTSTART;TZID=Europe/Berlin:20240225T100000
DTEND;TZID=Europe/Berlin:20240225T120000
LOCATION:Hala SPŠ stavební Opava\, Mírová 630 Opava - Předměstí
SUMMARY:MS-U20Z-F1: VK Kylešovice-Frýdek-Místek C
END:VEVENT
BEGIN:VEVENT
UID:39616539-3935-4465-b732-346538656137
DTSTAMP:20260425T195502Z
DESCRIPTION:4/7 VK Kylešovice - Frýdek-Místek C 0:3 (-16\,-17\,-13)
DTSTART;TZID=Europe/Berlin:20240225T140000
DTEND;TZID=Europe/Berlin:20240225T160000
LOCATION:Hala SPŠ stavební Opava\, Mírová 630 Opava - Předměstí
SUMMARY:MS-U20Z-F1: VK Kylešovice-Frýdek-Místek C
END:VEVENT
BEGIN:VEVENT
UID:61343564-6638-4338-a338-356433383636
DTSTAMP:20260425T195502Z
DESCRIPTION:5/9 SK Sl. Orlová - VK Kylešovice 1:3 (-18\,23\,-17\,-24)
DTSTART;TZID=Europe/Berlin:20240317T100000
DTEND;TZID=Europe/Berlin:20240317T120000
LOCATION:Sportovní hala Gymnázium Orlová\, Masarykova třída 1313 Orlová - L
 utyně
SUMMARY:MS-U20Z-F1: SK Sl. Orlová-VK Kylešovice
END:VEVENT
BEGIN:VEVENT
UID:37363033-6463-4935-b135-396537346436
DTSTAMP:20260425T195502Z
DESCRIPTION:6/11 SK Sl. Orlová - VK Kylešovice 3:2 (-12\,20\,-11\,22\,9)
DTSTART;TZID=Europe/Berlin:20240317T140000
DTEND;TZID=Europe/Berlin:20240317T160000
LOCATION:Sportovní hala Gymnázium Orlová\, Masarykova třída 1313 Orlová - L
 utyně
SUMMARY:MS-U20Z-F1: SK Sl. Orlová-VK Kylešovice
END:VEVENT
BEGIN:VEVENT
UID:33383566-6632-4130-b864-396361666639
DTSTAMP:20260425T195502Z
DESCRIPTION:7/13 Frýdek-Místek C - VK Kylešovice 3:0 (8\,21\,12)
DTSTART;TZID=Europe/Berlin:20240324T090000
DTEND;TZID=Europe/Berlin:20240324T110000
LOCATION:Sokolovna Frýdek-Místek\, Novodvorská 667 Frýdek-Místek - Frýdek
SUMMARY:MS-U20Z-F1: Frýdek-Místek C-VK Kylešovice
END:VEVENT
BEGIN:VEVENT
UID:30613537-3532-4037-a133-643833363535
DTSTAMP:20260425T195502Z
DESCRIPTION:8/15 Frýdek-Místek C - VK Kylešovice 2:3 (-22\,24\,19\,-19\,-8)
DTSTART;TZID=Europe/Berlin:20240324T120000
DTEND;TZID=Europe/Berlin:20240324T140000
LOCATION:Sokolovna Frýdek-Místek\, Novodvorská 667 Frýdek-Místek - Frýdek
SUMMARY:MS-U20Z-F1: Frýdek-Místek C-VK Kylešovice
END:VEVENT
END:VCALENDAR
