BEGIN:VCALENDAR
VERSION:2.0
PRODID:-//TJ Bižuterie Jablonec nad Nisou82063//NONSGML kigkonsult.se iCalcreator 2.41.80//
CALSCALE:GREGORIAN
UID:65343961-3662-4962-a132-376636386339
BEGIN:VEVENT
UID:32663964-3830-4564-b939-333934326461
DTSTAMP:20260422T070126Z
DESCRIPTION:5/14 Jablonec n. N. - Tělovýchovná jednota Jiskra Nový Bor\, z.
 s. 3:0 (12\,13\,13)\nSokolovna Fugnerova !
DTSTART;TZID=Europe/Berlin:20231111T090000
DTEND;TZID=Europe/Berlin:20231111T110000
LOCATION:Sokolovna Jablonec nad Nisou\, Fügnerova 1054 Jablonec nad Nisou
SUMMARY:LIB-Z-1: Jablonec n. N.-Tělovýchovná jednota Jiskra Nový Bor\, z.s.
END:VEVENT
BEGIN:VEVENT
UID:32373139-3535-4237-a364-333137316461
DTSTAMP:20260422T070126Z
DESCRIPTION:6/17 Jablonec n. N. - Tělovýchovná jednota Jiskra Nový Bor\, z.
 s. 3:0 (16\,25\,15)\nSokolovna Fugnerova !
DTSTART;TZID=Europe/Berlin:20231111T130000
DTEND;TZID=Europe/Berlin:20231111T150000
LOCATION:Sokolovna Jablonec nad Nisou\, Fügnerova 1054 Jablonec nad Nisou
SUMMARY:LIB-Z-1: Jablonec n. N.-Tělovýchovná jednota Jiskra Nový Bor\, z.s.
END:VEVENT
BEGIN:VEVENT
UID:63393430-6135-4531-a633-373138316333
DTSTAMP:20260422T070126Z
DESCRIPTION:13/39 Jablonec n. N. - TJ Bižuterie Jablonec n/N B 3:1 (-21\,23
 \,18\,15)
DTSTART;TZID=Europe/Berlin:20240203T100000
DTEND;TZID=Europe/Berlin:20240203T120000
LOCATION:Městská sportovní hala\, U Přehrady 4747 Jablonec nad Nisou
SUMMARY:LIB-Z-1: Jablonec n. N.-TJ Bižuterie Jablonec n/N B
END:VEVENT
BEGIN:VEVENT
UID:66343538-3133-4338-b932-343033366334
DTSTAMP:20260422T070126Z
DESCRIPTION:14/42 Jablonec n. N. - TJ Bižuterie Jablonec n/N B 3:2 (13\,-24
 \,-22\,23\,12)
DTSTART;TZID=Europe/Berlin:20240203T130000
DTEND;TZID=Europe/Berlin:20240203T150000
LOCATION:Městská sportovní hala\, U Přehrady 4747 Jablonec nad Nisou
SUMMARY:LIB-Z-1: Jablonec n. N.-TJ Bižuterie Jablonec n/N B
END:VEVENT
BEGIN:VEVENT
UID:36303436-6236-4839-b530-323532303631
DTSTAMP:20260422T070126Z
DESCRIPTION:17/49 Jablonec n. N. - TJ Slovan Varnsdorf z.s. 3:2 (17\,-20\,2
 0\,-26\,5)\nzměna času
DTSTART;TZID=Europe/Berlin:20240217T090000
DTEND;TZID=Europe/Berlin:20240217T110000
LOCATION:Městská sportovní hala\, U Přehrady 4747 Jablonec nad Nisou
SUMMARY:LIB-Z-1: Jablonec n. N.-TJ Slovan Varnsdorf z.s.
END:VEVENT
BEGIN:VEVENT
UID:30396266-3964-4532-a238-353430313137
DTSTAMP:20260422T070126Z
DESCRIPTION:18/52 Jablonec n. N. - TJ Slovan Varnsdorf z.s. 3:0 (18\,25\,19
 )
DTSTART;TZID=Europe/Berlin:20240217T130000
DTEND;TZID=Europe/Berlin:20240217T150000
LOCATION:Městská sportovní hala\, U Přehrady 4747 Jablonec nad Nisou
SUMMARY:LIB-Z-1: Jablonec n. N.-TJ Slovan Varnsdorf z.s.
END:VEVENT
BEGIN:VEVENT
UID:36366463-3436-4035-b361-353062343831
DTSTAMP:20260422T070126Z
DESCRIPTION:1/3 TJ Turnov - Jablonec n. N. 1:3 (22\,-15\,-20\,-17)\nzměna p
 ořadatele a času
DTSTART;TZID=Europe/Berlin:20231014T090000
DTEND;TZID=Europe/Berlin:20231014T110000
LOCATION:Tělocvična ZŠ Skálova\, Skálova 600 Turnov
SUMMARY:LIB-Z-1: TJ Turnov-Jablonec n. N.
END:VEVENT
BEGIN:VEVENT
UID:31376662-6431-4564-a134-376133633632
DTSTAMP:20260422T070126Z
DESCRIPTION:2/6 TJ Turnov - Jablonec n. N. 3:2 (22\,14\,-20\,-22\,11)\nzměn
 a pořadatele
DTSTART;TZID=Europe/Berlin:20231014T130000
DTEND;TZID=Europe/Berlin:20231014T150000
LOCATION:Tělocvična ZŠ Skálova\, Skálova 600 Turnov
SUMMARY:LIB-Z-1: TJ Turnov-Jablonec n. N.
END:VEVENT
BEGIN:VEVENT
UID:38323833-6366-4830-b265-346564393938
DTSTAMP:20260422T070126Z
DESCRIPTION:3/9 TJ Bižuterie Jablonec n/N B - Jablonec n. N. 0:3 (-18\,-20\
 ,-19)
DTSTART;TZID=Europe/Berlin:20231021T100000
DTEND;TZID=Europe/Berlin:20231021T120000
LOCATION:Městská sportovní hala\, U Přehrady 4747 Jablonec nad Nisou
SUMMARY:LIB-Z-1: TJ Bižuterie Jablonec n/N B-Jablonec n. N.
END:VEVENT
BEGIN:VEVENT
UID:31643236-6566-4261-b038-353736366134
DTSTAMP:20260422T070126Z
DESCRIPTION:4/12 TJ Bižuterie Jablonec n/N B - Jablonec n. N. 1:3 (-18\,-23
 \,21\,-17)
DTSTART;TZID=Europe/Berlin:20231021T130000
DTEND;TZID=Europe/Berlin:20231021T150000
LOCATION:Městská sportovní hala\, U Přehrady 4747 Jablonec nad Nisou
SUMMARY:LIB-Z-1: TJ Bižuterie Jablonec n/N B-Jablonec n. N.
END:VEVENT
BEGIN:VEVENT
UID:33303032-6139-4262-a132-663138643865
DTSTAMP:20260422T070126Z
DESCRIPTION:7/19 TJ Slovan Varnsdorf z.s. - Jablonec n. N. 1:3 (21\,-18\,-1
 4\,-20)
DTSTART;TZID=Europe/Berlin:20231125T100000
DTEND;TZID=Europe/Berlin:20231125T120000
LOCATION:, Edisonova 2821 Varnsdorf
SUMMARY:LIB-Z-1: TJ Slovan Varnsdorf z.s.-Jablonec n. N.
END:VEVENT
BEGIN:VEVENT
UID:31313961-3333-4734-b032-653032393939
DTSTAMP:20260422T070126Z
DESCRIPTION:8/22 TJ Slovan Varnsdorf z.s. - Jablonec n. N. 0:3 (-20\,-22\,-
 16)
DTSTART;TZID=Europe/Berlin:20231125T130000
DTEND;TZID=Europe/Berlin:20231125T150000
LOCATION:, Edisonova 2821 Varnsdorf
SUMMARY:LIB-Z-1: TJ Slovan Varnsdorf z.s.-Jablonec n. N.
END:VEVENT
BEGIN:VEVENT
UID:30363538-3361-4266-b833-356662316332
DTSTAMP:20260422T070126Z
DESCRIPTION:11/33 TJ Turnov - Jablonec n. N. 1:3 (-20\,23\,-17\,-23)
DTSTART;TZID=Europe/Berlin:20240127T100000
DTEND;TZID=Europe/Berlin:20240127T120000
LOCATION:TJ Turnov\, Skálova 207 Turnov
SUMMARY:LIB-Z-1: TJ Turnov-Jablonec n. N.
END:VEVENT
BEGIN:VEVENT
UID:35363139-3039-4365-a131-356539323738
DTSTAMP:20260422T070126Z
DESCRIPTION:12/36 TJ Turnov - Jablonec n. N. 0:3 (-19\,-19\,-25)
DTSTART;TZID=Europe/Berlin:20240127T130000
DTEND;TZID=Europe/Berlin:20240127T150000
LOCATION:TJ Turnov\, Skálova 207 Turnov
SUMMARY:LIB-Z-1: TJ Turnov-Jablonec n. N.
END:VEVENT
BEGIN:VEVENT
UID:32343939-3764-4236-a661-303064383334
DTSTAMP:20260422T070126Z
DESCRIPTION:15/44 Tělovýchovná jednota Jiskra Nový Bor\, z.s. - Jablonec n.
  N. 1:3 (-13\,29\,-41\,-22)
DTSTART;TZID=Europe/Berlin:20240210T100000
DTEND;TZID=Europe/Berlin:20240210T120000
LOCATION:Sportovní hala Františka Arnošta Nový Bor\, U hřiště 1391 Nový Bor
SUMMARY:LIB-Z-1: Tělovýchovná jednota Jiskra Nový Bor\, z.s.-Jablonec n. N.
END:VEVENT
BEGIN:VEVENT
UID:30306536-6239-4431-a564-386565396164
DTSTAMP:20260422T070126Z
DESCRIPTION:16/47 Tělovýchovná jednota Jiskra Nový Bor\, z.s. - Jablonec n.
  N. 1:3 (-12\,-28\,21\,-14)
DTSTART;TZID=Europe/Berlin:20240210T130000
DTEND;TZID=Europe/Berlin:20240210T150000
LOCATION:Sportovní hala Františka Arnošta Nový Bor\, U hřiště 1391 Nový Bor
SUMMARY:LIB-Z-1: Tělovýchovná jednota Jiskra Nový Bor\, z.s.-Jablonec n. N.
END:VEVENT
BEGIN:VEVENT
UID:64343231-3436-4163-b330-323439383431
DTSTAMP:20260422T070126Z
DESCRIPTION:2/3 Jablonec n. N. - Benešov 3:2 (-22\,14\,16\,-17\,12)
DTSTART;TZID=Europe/Berlin:20240420T150000
DTEND;TZID=Europe/Berlin:20240420T170000
LOCATION:Tělocvična OA Rumburk\, Komenského 927 Rumburk - Rumburk 1
SUMMARY:2-Z-KA: Jablonec n. N.-Benešov
END:VEVENT
BEGIN:VEVENT
UID:33653566-6133-4964-b934-373066383633
DTSTAMP:20260422T070126Z
DESCRIPTION:1/1 Děčín - Jablonec n. N. 3:2 (-18\,-24\,15\,18\,11)
DTSTART;TZID=Europe/Berlin:20240420T100000
DTEND;TZID=Europe/Berlin:20240420T120000
LOCATION:Tělocvična OA Rumburk\, Komenského 927 Rumburk - Rumburk 1
SUMMARY:2-Z-KA: Děčín-Jablonec n. N.
END:VEVENT
BEGIN:VEVENT
UID:61383063-3132-4165-b935-333838356433
DTSTAMP:20260422T070126Z
DESCRIPTION:3/5 Klatovy B - Jablonec n. N. 0:3 (-20\,-16\,-21)
DTSTART;TZID=Europe/Berlin:20240421T100000
DTEND;TZID=Europe/Berlin:20240421T120000
LOCATION:Tělocvična OA Rumburk\, Komenského 927 Rumburk - Rumburk 1
SUMMARY:2-Z-KA: Klatovy B-Jablonec n. N.
END:VEVENT
END:VCALENDAR
