BEGIN:VCALENDAR
VERSION:2.0
PRODID:-//Tělovýchovná jednota Bojkovice z.s.82078//NONSGML kigkonsult.se iCalcreator 2.41.80//
CALSCALE:GREGORIAN
UID:33386339-3837-4939-b834-323838643735
BEGIN:VEVENT
UID:37366433-3461-4262-b733-313061663639
DTSTAMP:20260423T170507Z
DESCRIPTION:1/2 TJ Bojkovice - SK Slavičín 2:3 (-18\,20\,19\,-16\,-11)
DTSTART;TZID=Europe/Berlin:20231008T100000
DTEND;TZID=Europe/Berlin:20231008T120000
LOCATION:ZŠ TGM Bojkovice\, Štefánikova 460 Bojkovice
SUMMARY:ZLK-U22Z: TJ Bojkovice-SK Slavičín
END:VEVENT
BEGIN:VEVENT
UID:31363735-3539-4566-b935-663133643265
DTSTAMP:20260423T170507Z
DESCRIPTION:2/7 TJ Bojkovice - SK Slavičín 0:3 (-28\,-23\,-15)
DTSTART;TZID=Europe/Berlin:20231008T130000
DTEND;TZID=Europe/Berlin:20231008T150000
LOCATION:ZŠ TGM Bojkovice\, Štefánikova 460 Bojkovice
SUMMARY:ZLK-U22Z: TJ Bojkovice-SK Slavičín
END:VEVENT
BEGIN:VEVENT
UID:65346531-3537-4135-b962-613063636539
DTSTAMP:20260423T170507Z
DESCRIPTION:7/35 TJ Bojkovice - TJ Spartak Uh.Brod 2:3 (20\,23\,-24\,-22\,-
 9)
DTSTART;TZID=Europe/Berlin:20231105T100000
DTEND;TZID=Europe/Berlin:20231105T120000
LOCATION:ZŠ TGM Bojkovice\, Štefánikova 460 Bojkovice
SUMMARY:ZLK-U22Z: TJ Bojkovice-TJ Spartak Uh.Brod
END:VEVENT
BEGIN:VEVENT
UID:64613061-3133-4235-b064-613730313537
DTSTAMP:20260423T170507Z
DESCRIPTION:8/40 TJ Bojkovice - TJ Spartak Uh.Brod 0:3 (-16\,-14\,-20)
DTSTART;TZID=Europe/Berlin:20231105T130000
DTEND;TZID=Europe/Berlin:20231105T150000
LOCATION:ZŠ TGM Bojkovice\, Štefánikova 460 Bojkovice
SUMMARY:ZLK-U22Z: TJ Bojkovice-TJ Spartak Uh.Brod
END:VEVENT
BEGIN:VEVENT
UID:34616438-3332-4930-a264-353137316537
DTSTAMP:20260423T170507Z
DESCRIPTION:11/54 TJ Bojkovice - Valašské Meziříčí 0:3 (-11\,-8\,-11)
DTSTART;TZID=Europe/Berlin:20231119T100000
DTEND;TZID=Europe/Berlin:20231119T120000
LOCATION:ZŠ TGM Bojkovice\, Štefánikova 460 Bojkovice
SUMMARY:ZLK-U22Z: TJ Bojkovice-Valašské Meziříčí
END:VEVENT
BEGIN:VEVENT
UID:30646132-3539-4431-b164-386331653333
DTSTAMP:20260423T170507Z
DESCRIPTION:12/59 TJ Bojkovice - Valašské Meziříčí 0:3 (-5\,-13\,-13)
DTSTART;TZID=Europe/Berlin:20231119T130000
DTEND;TZID=Europe/Berlin:20231119T150000
LOCATION:ZŠ TGM Bojkovice\, Štefánikova 460 Bojkovice
SUMMARY:ZLK-U22Z: TJ Bojkovice-Valašské Meziříčí
END:VEVENT
BEGIN:VEVENT
UID:35643039-3465-4133-b538-633466386563
DTSTAMP:20260423T170507Z
DESCRIPTION:15/73 TJ Bojkovice - Vsetín 0:3 (-11\,-12\,-17)
DTSTART;TZID=Europe/Berlin:20231203T100000
DTEND;TZID=Europe/Berlin:20231203T120000
LOCATION:ZŠ TGM Bojkovice\, Štefánikova 460 Bojkovice
SUMMARY:ZLK-U22Z: TJ Bojkovice-Vsetín
END:VEVENT
BEGIN:VEVENT
UID:34663361-3035-4239-a164-336562653130
DTSTAMP:20260423T170507Z
DESCRIPTION:16/78 TJ Bojkovice - Vsetín 0:3 (-17\,-15\,-14)
DTSTART;TZID=Europe/Berlin:20231203T130000
DTEND;TZID=Europe/Berlin:20231203T150000
LOCATION:ZŠ TGM Bojkovice\, Štefánikova 460 Bojkovice
SUMMARY:ZLK-U22Z: TJ Bojkovice-Vsetín
END:VEVENT
BEGIN:VEVENT
UID:62303039-3034-4838-b664-383138656466
DTSTAMP:20260423T170507Z
DESCRIPTION:21/105 TJ Bojkovice - TJ Sokol Střítež 1:3 (-12\,-16\,22\,-15)
DTSTART;TZID=Europe/Berlin:20240114T100000
DTEND;TZID=Europe/Berlin:20240114T120000
LOCATION:ZŠ TGM Bojkovice\, Štefánikova 460 Bojkovice
SUMMARY:ZLK-U22Z: TJ Bojkovice-TJ Sokol Střítež
END:VEVENT
BEGIN:VEVENT
UID:65666539-3463-4239-a138-306430633438
DTSTAMP:20260423T170507Z
DESCRIPTION:22/110 TJ Bojkovice - TJ Sokol Střítež 0:3 (-12\,-17\,-17)
DTSTART;TZID=Europe/Berlin:20240114T130000
DTEND;TZID=Europe/Berlin:20240114T150000
LOCATION:ZŠ TGM Bojkovice\, Štefánikova 460 Bojkovice
SUMMARY:ZLK-U22Z: TJ Bojkovice-TJ Sokol Střítež
END:VEVENT
BEGIN:VEVENT
UID:33363064-3064-4762-a263-363862656135
DTSTAMP:20260423T170507Z
DESCRIPTION:27/132 TJ Bojkovice - VC Kroměříž 1:3 (19\,-22\,-14\,-19)
DTSTART;TZID=Europe/Berlin:20240211T100000
DTEND;TZID=Europe/Berlin:20240211T120000
LOCATION:ZŠ TGM Bojkovice\, Štefánikova 460 Bojkovice
SUMMARY:ZLK-U22Z: TJ Bojkovice-VC Kroměříž
END:VEVENT
BEGIN:VEVENT
UID:64353235-3139-4138-a236-633239313064
DTSTAMP:20260423T170507Z
DESCRIPTION:28/137 TJ Bojkovice - VC Kroměříž 0:3 (-24\,-18\,-16)
DTSTART;TZID=Europe/Berlin:20240211T130000
DTEND;TZID=Europe/Berlin:20240211T150000
LOCATION:ZŠ TGM Bojkovice\, Štefánikova 460 Bojkovice
SUMMARY:ZLK-U22Z: TJ Bojkovice-VC Kroměříž
END:VEVENT
BEGIN:VEVENT
UID:38376232-6436-4737-a639-363766393066
DTSTAMP:20260423T170507Z
DESCRIPTION:31/153 TJ Bojkovice - TJ Nivnice 2:3 (-15\,21\,-13\,16\,-5)
DTSTART;TZID=Europe/Berlin:20240310T100000
DTEND;TZID=Europe/Berlin:20240310T120000
LOCATION:ZŠ TGM Bojkovice\, Štefánikova 460 Bojkovice
SUMMARY:ZLK-U22Z: TJ Bojkovice-TJ Nivnice
END:VEVENT
BEGIN:VEVENT
UID:62663939-6237-4462-b931-356265363265
DTSTAMP:20260423T170507Z
DESCRIPTION:32/158 TJ Bojkovice - TJ Nivnice 1:3 (-19\,-20\,20\,-17)
DTSTART;TZID=Europe/Berlin:20240310T130000
DTEND;TZID=Europe/Berlin:20240310T150000
LOCATION:ZŠ TGM Bojkovice\, Štefánikova 460 Bojkovice
SUMMARY:ZLK-U22Z: TJ Bojkovice-TJ Nivnice
END:VEVENT
BEGIN:VEVENT
UID:31313637-3233-4262-a666-373862396135
DTSTAMP:20260423T170507Z
DESCRIPTION:35/174 TJ Bojkovice - TJ Rožnov pod Radhoštěm 0:3 (-22\,-23\,-1
 2)
DTSTART;TZID=Europe/Berlin:20240324T100000
DTEND;TZID=Europe/Berlin:20240324T120000
LOCATION:ZŠ TGM Bojkovice\, Štefánikova 460 Bojkovice
SUMMARY:ZLK-U22Z: TJ Bojkovice-TJ Rožnov pod Radhoštěm
END:VEVENT
BEGIN:VEVENT
UID:61633035-3937-4539-b166-646161646436
DTSTAMP:20260423T170507Z
DESCRIPTION:36/179 TJ Bojkovice - TJ Rožnov pod Radhoštěm 1:3 (-17\,21\,-14
 \,-22)
DTSTART;TZID=Europe/Berlin:20240324T130000
DTEND;TZID=Europe/Berlin:20240324T150000
LOCATION:ZŠ TGM Bojkovice\, Štefánikova 460 Bojkovice
SUMMARY:ZLK-U22Z: TJ Bojkovice-TJ Rožnov pod Radhoštěm
END:VEVENT
BEGIN:VEVENT
UID:31383137-3039-4335-b962-613465323766
DTSTAMP:20260423T170507Z
DESCRIPTION:3/15 TJ Sokol Střítež - TJ Bojkovice 3:2 (-17\,-19\,23\,5\,12)
DTSTART;TZID=Europe/Berlin:20231014T100000
DTEND;TZID=Europe/Berlin:20231014T120000
LOCATION:Sokolovna\,  Střítež nad Bečvou1
SUMMARY:ZLK-U22Z: TJ Sokol Střítež-TJ Bojkovice
END:VEVENT
BEGIN:VEVENT
UID:30306334-3735-4538-b065-303738613063
DTSTAMP:20260423T170507Z
DESCRIPTION:4/20 TJ Sokol Střítež - TJ Bojkovice 3:1 (16\,-21\,14\,16)
DTSTART;TZID=Europe/Berlin:20231014T130000
DTEND;TZID=Europe/Berlin:20231014T150000
LOCATION:Sokolovna\,  Střítež nad Bečvou1
SUMMARY:ZLK-U22Z: TJ Sokol Střítež-TJ Bojkovice
END:VEVENT
BEGIN:VEVENT
UID:31643135-6138-4262-b034-616164303338
DTSTAMP:20260423T170507Z
DESCRIPTION:9/42 VC Kroměříž - TJ Bojkovice 3:0 (15\,19\,20)
DTSTART;TZID=Europe/Berlin:20230930T100000
DTEND;TZID=Europe/Berlin:20230930T120000
LOCATION:ZŠ Zachar\, Albertova 4062 Kroměříž
SUMMARY:ZLK-U22Z: VC Kroměříž-TJ Bojkovice
END:VEVENT
BEGIN:VEVENT
UID:36343236-3361-4463-b566-353736323535
DTSTAMP:20260423T170507Z
DESCRIPTION:10/47 VC Kroměříž - TJ Bojkovice 3:1 (18\,20\,-24\,12)
DTSTART;TZID=Europe/Berlin:20230930T130000
DTEND;TZID=Europe/Berlin:20230930T150000
LOCATION:ZŠ Zachar\, Albertova 4062 Kroměříž
SUMMARY:ZLK-U22Z: VC Kroměříž-TJ Bojkovice
END:VEVENT
BEGIN:VEVENT
UID:37636236-3438-4436-a166-656537343230
DTSTAMP:20260423T170507Z
DESCRIPTION:13/63 TJ Nivnice - TJ Bojkovice 3:0 (19\,14\,16)
DTSTART;TZID=Europe/Berlin:20231126T100000
DTEND;TZID=Europe/Berlin:20231126T120000
LOCATION:Sportovní hala Nivnice\, Podohradí 888 Nivnice
SUMMARY:ZLK-U22Z: TJ Nivnice-TJ Bojkovice
END:VEVENT
BEGIN:VEVENT
UID:63393862-3336-4836-a331-373834326164
DTSTAMP:20260423T170507Z
DESCRIPTION:14/68 TJ Nivnice - TJ Bojkovice 3:0 (10\,20\,10)
DTSTART;TZID=Europe/Berlin:20231126T130000
DTEND;TZID=Europe/Berlin:20231126T150000
LOCATION:Sportovní hala Nivnice\, Podohradí 888 Nivnice
SUMMARY:ZLK-U22Z: TJ Nivnice-TJ Bojkovice
END:VEVENT
BEGIN:VEVENT
UID:39396263-3465-4664-b730-313262653565
DTSTAMP:20260423T170507Z
DESCRIPTION:17/84 TJ Rožnov pod Radhoštěm - TJ Bojkovice 3:1 (22\,-23\,20\,
 18)
DTSTART;TZID=Europe/Berlin:20240330T100000
DTEND;TZID=Europe/Berlin:20240330T120000
LOCATION:ZŠ POD SKALKOU\, Bezručova 293 Rožnov pod Radhoštěm
SUMMARY:ZLK-U22Z: TJ Rožnov pod Radhoštěm-TJ Bojkovice
END:VEVENT
BEGIN:VEVENT
UID:38356635-6566-4565-a237-616332386165
DTSTAMP:20260423T170507Z
DESCRIPTION:18/89 TJ Rožnov pod Radhoštěm - TJ Bojkovice 3:0 (20\,18\,20)
DTSTART;TZID=Europe/Berlin:20240330T130000
DTEND;TZID=Europe/Berlin:20240330T150000
LOCATION:ZŠ POD SKALKOU\, Bezručova 293 Rožnov pod Radhoštěm
SUMMARY:ZLK-U22Z: TJ Rožnov pod Radhoštěm-TJ Bojkovice
END:VEVENT
BEGIN:VEVENT
UID:33363435-3037-4736-b164-366636386634
DTSTAMP:20260423T170507Z
DESCRIPTION:19/92 SK Slavičín - TJ Bojkovice 3:0 (23\,13\,14)
DTSTART;TZID=Europe/Berlin:20240107T100000
DTEND;TZID=Europe/Berlin:20240107T120000
LOCATION:Sportovní hala Slavičín\, Školní 29 Slavičín
SUMMARY:ZLK-U22Z: SK Slavičín-TJ Bojkovice
END:VEVENT
BEGIN:VEVENT
UID:38633333-3932-4536-a239-373066386464
DTSTAMP:20260423T170507Z
DESCRIPTION:20/97 SK Slavičín - TJ Bojkovice 3:0 (13\,22\,19)
DTSTART;TZID=Europe/Berlin:20240107T130000
DTEND;TZID=Europe/Berlin:20240107T150000
LOCATION:Sportovní hala Slavičín\, Školní 29 Slavičín
SUMMARY:ZLK-U22Z: SK Slavičín-TJ Bojkovice
END:VEVENT
BEGIN:VEVENT
UID:31613162-3437-4533-a132-663837303735
DTSTAMP:20260423T170507Z
DESCRIPTION:25/125 TJ Spartak Uh.Brod - TJ Bojkovice 3:0 (15\,21\,16)
DTSTART;TZID=Europe/Berlin:20240128T090000
DTEND;TZID=Europe/Berlin:20240128T110000
LOCATION:TJ SPARTAK UHERSKÝ BROD z.s.\, U Stadionu 2295 Uherský Brod
SUMMARY:ZLK-U22Z: TJ Spartak Uh.Brod-TJ Bojkovice
END:VEVENT
BEGIN:VEVENT
UID:34393430-6437-4533-b763-333738363132
DTSTAMP:20260423T170507Z
DESCRIPTION:26/130 TJ Spartak Uh.Brod - TJ Bojkovice 3:0 (17\,12\,17)
DTSTART;TZID=Europe/Berlin:20240128T120000
DTEND;TZID=Europe/Berlin:20240128T140000
LOCATION:TJ SPARTAK UHERSKÝ BROD z.s.\, U Stadionu 2295 Uherský Brod
SUMMARY:ZLK-U22Z: TJ Spartak Uh.Brod-TJ Bojkovice
END:VEVENT
BEGIN:VEVENT
UID:38663637-6663-4432-b631-353132626437
DTSTAMP:20260423T170507Z
DESCRIPTION:29/144 Valašské Meziříčí - TJ Bojkovice 3:0 (11\,15\,9)
DTSTART;TZID=Europe/Berlin:20240303T100000
DTEND;TZID=Europe/Berlin:20240303T120000
LOCATION:ZŠ Šafaříkova\, Šafaříkova 726 Valašské Meziříčí
SUMMARY:ZLK-U22Z: Valašské Meziříčí-TJ Bojkovice
END:VEVENT
BEGIN:VEVENT
UID:37306564-3966-4363-a464-386330333032
DTSTAMP:20260423T170507Z
DESCRIPTION:30/149 Valašské Meziříčí - TJ Bojkovice 3:0 (11\,11\,11)
DTSTART;TZID=Europe/Berlin:20240303T130000
DTEND;TZID=Europe/Berlin:20240303T150000
LOCATION:ZŠ Šafaříkova\, Šafaříkova 726 Valašské Meziříčí
SUMMARY:ZLK-U22Z: Valašské Meziříčí-TJ Bojkovice
END:VEVENT
BEGIN:VEVENT
UID:37373734-6632-4530-a562-326631643331
DTSTAMP:20260423T170507Z
DESCRIPTION:33/163 Vsetín - TJ Bojkovice 3:0 (6\,10\,8)
DTSTART;TZID=Europe/Berlin:20240317T100000
DTEND;TZID=Europe/Berlin:20240317T120000
LOCATION:Sportovní hala Na Lapači\, Na Lapači 247 Vsetín - Rokytnice
SUMMARY:ZLK-U22Z: Vsetín-TJ Bojkovice
END:VEVENT
BEGIN:VEVENT
UID:30343266-6132-4038-a630-613561396433
DTSTAMP:20260423T170507Z
DESCRIPTION:34/168 Vsetín - TJ Bojkovice 3:0 (7\,14\,10)
DTSTART;TZID=Europe/Berlin:20240317T130000
DTEND;TZID=Europe/Berlin:20240317T150000
LOCATION:Sportovní hala Na Lapači\, Na Lapači 247 Vsetín - Rokytnice
SUMMARY:ZLK-U22Z: Vsetín-TJ Bojkovice
END:VEVENT
END:VCALENDAR
