BEGIN:VCALENDAR
VERSION:2.0
PRODID:-//VK České Budějovice82092//NONSGML kigkonsult.se iCalcreator 2.41.80//
CALSCALE:GREGORIAN
UID:36306335-3961-4665-b364-333264393261
BEGIN:VEVENT
UID:64383536-3261-4337-a565-346665613066
DTSTAMP:20260422T075400Z
DESCRIPTION:1/3 České Budějovice - Škola volejbalu Č. Velenice 2:0 (5\,20)
 \nZŠ ON
DTSTART;TZID=Europe/Berlin:20230924T090000
DTEND;TZID=Europe/Berlin:20230924T110000
LOCATION:ZŠ Oskara Nedbala České Budějovice\, O. Nedbala 882 České Budějovi
 ce - České Budějovice 2
SUMMARY:JC-U16M-1: České Budějovice-Škola volejbalu Č. Velenice
END:VEVENT
BEGIN:VEVENT
UID:33353633-6636-4665-a364-343533333430
DTSTAMP:20260422T075400Z
DESCRIPTION:1/7 České Budějovice - České Budějovice B 2:0 (12\,11)\nZŠ ON
DTSTART;TZID=Europe/Berlin:20230924T110000
DTEND;TZID=Europe/Berlin:20230924T130000
LOCATION:ZŠ Oskara Nedbala České Budějovice\, O. Nedbala 882 České Budějovi
 ce - České Budějovice 2
SUMMARY:JC-U16M-1: České Budějovice-České Budějovice B
END:VEVENT
BEGIN:VEVENT
UID:61663732-6463-4463-b935-346366613735
DTSTAMP:20260422T075400Z
DESCRIPTION:1/11 České Budějovice - TJ Tatran Prachatice 2:0 (10\,17)\nZŠ O
 N
DTSTART;TZID=Europe/Berlin:20230924T120000
DTEND;TZID=Europe/Berlin:20230924T140000
LOCATION:ZŠ Oskara Nedbala České Budějovice\, O. Nedbala 882 České Budějovi
 ce - České Budějovice 2
SUMMARY:JC-U16M-1: České Budějovice-TJ Tatran Prachatice
END:VEVENT
BEGIN:VEVENT
UID:62396466-6634-4534-a538-616431333038
DTSTAMP:20260422T075400Z
DESCRIPTION:2/20 České Budějovice - TJ Sokol Písek 2:0 (19\,22)\nZŠ ON
DTSTART;TZID=Europe/Berlin:20230924T150000
DTEND;TZID=Europe/Berlin:20230924T170000
LOCATION:ZŠ Oskara Nedbala České Budějovice\, O. Nedbala 882 České Budějovi
 ce - České Budějovice 2
SUMMARY:JC-U16M-1: České Budějovice-TJ Sokol Písek
END:VEVENT
BEGIN:VEVENT
UID:32653063-6234-4635-b862-353636323530
DTSTAMP:20260422T075400Z
DESCRIPTION:2/13 Český Krumlov - České Budějovice 0:2 (-15\,-17)\nZŠ ON
DTSTART;TZID=Europe/Berlin:20230924T130000
DTEND;TZID=Europe/Berlin:20230924T150000
LOCATION:ZŠ Za Nádražím Český Krumlov\, Za Nádražím 222 Český Krumlov - Nád
 ražní Předměstí
SUMMARY:JC-U16M-1: Český Krumlov-České Budějovice
END:VEVENT
BEGIN:VEVENT
UID:61316361-3365-4233-b534-333334623165
DTSTAMP:20260422T075400Z
DESCRIPTION:2/16 VSK Č. Krumlov B - České Budějovice 0:2 (-7\,-10)\nZŠ ON
DTSTART;TZID=Europe/Berlin:20230924T140000
DTEND;TZID=Europe/Berlin:20230924T160000
LOCATION:ZŠ Za Nádražím Český Krumlov\, Za Nádražím 222 Český Krumlov - Nád
 ražní Předměstí
SUMMARY:JC-U16M-1: VSK Č. Krumlov B-České Budějovice
END:VEVENT
BEGIN:VEVENT
UID:61613162-3238-4463-b331-366161306633
DTSTAMP:20260422T075400Z
DESCRIPTION:1/3 České Budějovice - Škola volejbalu Č. Velenice 2:0 (10\,4)
DTSTART;TZID=Europe/Berlin:20231112T090000
DTEND;TZID=Europe/Berlin:20231112T110000
LOCATION:ZŠ Oskara Nedbala České Budějovice\, O. Nedbala 882 České Budějovi
 ce - České Budějovice 2
SUMMARY:JC-U16M-3: České Budějovice-Škola volejbalu Č. Velenice
END:VEVENT
BEGIN:VEVENT
UID:35336530-3235-4763-a434-346236376631
DTSTAMP:20260422T075400Z
DESCRIPTION:1/7 České Budějovice - České Budějovice B 2:0 (7\,8)
DTSTART;TZID=Europe/Berlin:20231112T110000
DTEND;TZID=Europe/Berlin:20231112T130000
LOCATION:ZŠ Oskara Nedbala České Budějovice\, O. Nedbala 882 České Budějovi
 ce - České Budějovice 2
SUMMARY:JC-U16M-3: České Budějovice-České Budějovice B
END:VEVENT
BEGIN:VEVENT
UID:32343538-3734-4664-b861-393964383463
DTSTAMP:20260422T075400Z
DESCRIPTION:1/11 České Budějovice - TJ Tatran Prachatice 2:0 (14\,17)
DTSTART;TZID=Europe/Berlin:20231112T120000
DTEND;TZID=Europe/Berlin:20231112T140000
LOCATION:ZŠ Oskara Nedbala České Budějovice\, O. Nedbala 882 České Budějovi
 ce - České Budějovice 2
SUMMARY:JC-U16M-3: České Budějovice-TJ Tatran Prachatice
END:VEVENT
BEGIN:VEVENT
UID:36656131-3462-4562-b232-313331396561
DTSTAMP:20260422T075400Z
DESCRIPTION:2/20 České Budějovice - TJ Sokol Písek 2:0 (12\,11)
DTSTART;TZID=Europe/Berlin:20231112T150000
DTEND;TZID=Europe/Berlin:20231112T170000
LOCATION:ZŠ Oskara Nedbala České Budějovice\, O. Nedbala 882 České Budějovi
 ce - České Budějovice 2
SUMMARY:JC-U16M-3: České Budějovice-TJ Sokol Písek
END:VEVENT
BEGIN:VEVENT
UID:66626538-6162-4237-b435-643963623431
DTSTAMP:20260422T075400Z
DESCRIPTION:2/13 VSK Č. Krumlov B - České Budějovice 0:2 (-4\,-8)\nZŠ Oskar
 a Nedbala
DTSTART;TZID=Europe/Berlin:20231112T130000
DTEND;TZID=Europe/Berlin:20231112T150000
LOCATION:ZŠ Za Nádražím Český Krumlov\, Za Nádražím 222 Český Krumlov - Nád
 ražní Předměstí
SUMMARY:JC-U16M-3: VSK Č. Krumlov B-České Budějovice
END:VEVENT
BEGIN:VEVENT
UID:31303532-6538-4339-b230-316639363863
DTSTAMP:20260422T075400Z
DESCRIPTION:2/16 Český Krumlov - České Budějovice 0:2 (-14\,-12)\nZŠ Oskara
  Nedbala
DTSTART;TZID=Europe/Berlin:20231112T140000
DTEND;TZID=Europe/Berlin:20231112T160000
LOCATION:ZŠ Za Nádražím Český Krumlov\, Za Nádražím 222 Český Krumlov - Nád
 ražní Předměstí
SUMMARY:JC-U16M-3: Český Krumlov-České Budějovice
END:VEVENT
BEGIN:VEVENT
UID:36376264-6236-4661-b463-326335353136
DTSTAMP:20260422T075400Z
DESCRIPTION:1/3 České Budějovice - Škola volejbalu Č. Velenice 2:0 (6\,5)
DTSTART;TZID=Europe/Berlin:20240107T090000
DTEND;TZID=Europe/Berlin:20240107T110000
LOCATION:ZŠ Oskara Nedbala České Budějovice\, O. Nedbala 882 České Budějovi
 ce - České Budějovice 2
SUMMARY:JC-U16M-4: České Budějovice-Škola volejbalu Č. Velenice
END:VEVENT
BEGIN:VEVENT
UID:30356366-3235-4234-a661-636366353338
DTSTAMP:20260422T075400Z
DESCRIPTION:1/7 České Budějovice - České Budějovice B 2:0 (7\,16)
DTSTART;TZID=Europe/Berlin:20240107T110000
DTEND;TZID=Europe/Berlin:20240107T130000
LOCATION:ZŠ Oskara Nedbala České Budějovice\, O. Nedbala 882 České Budějovi
 ce - České Budějovice 2
SUMMARY:JC-U16M-4: České Budějovice-České Budějovice B
END:VEVENT
BEGIN:VEVENT
UID:31653431-6537-4935-a435-383235656431
DTSTAMP:20260422T075400Z
DESCRIPTION:1/11 České Budějovice - TJ Tatran Prachatice 2:0 (17\,27)
DTSTART;TZID=Europe/Berlin:20240107T120000
DTEND;TZID=Europe/Berlin:20240107T140000
LOCATION:ZŠ Oskara Nedbala České Budějovice\, O. Nedbala 882 České Budějovi
 ce - České Budějovice 2
SUMMARY:JC-U16M-4: České Budějovice-TJ Tatran Prachatice
END:VEVENT
BEGIN:VEVENT
UID:62393964-3765-4661-b430-333339636431
DTSTAMP:20260422T075400Z
DESCRIPTION:2/20 České Budějovice - TJ Sokol Písek 2:X
DTSTART;TZID=Europe/Berlin:20240107T150000
DTEND;TZID=Europe/Berlin:20240107T170000
LOCATION:ZŠ Oskara Nedbala České Budějovice\, O. Nedbala 882 České Budějovi
 ce - České Budějovice 2
SUMMARY:JC-U16M-4: České Budějovice-TJ Sokol Písek
END:VEVENT
BEGIN:VEVENT
UID:37346234-6261-4263-a236-623966623765
DTSTAMP:20260422T075400Z
DESCRIPTION:2/13 VSK Č. Krumlov B - České Budějovice 0:2 (-12\,-12)\nZŠ Osk
 ara Nedbala
DTSTART;TZID=Europe/Berlin:20240107T130000
DTEND;TZID=Europe/Berlin:20240107T150000
LOCATION:ZŠ Za Nádražím Český Krumlov\, Za Nádražím 222 Český Krumlov - Nád
 ražní Předměstí
SUMMARY:JC-U16M-4: VSK Č. Krumlov B-České Budějovice
END:VEVENT
BEGIN:VEVENT
UID:33303538-6234-4763-a166-373738363263
DTSTAMP:20260422T075400Z
DESCRIPTION:2/16 Český Krumlov - České Budějovice 0:2 (-14\,-9)\nZŠ Oskara 
 Nedbala
DTSTART;TZID=Europe/Berlin:20240107T140000
DTEND;TZID=Europe/Berlin:20240107T160000
LOCATION:ZŠ Za Nádražím Český Krumlov\, Za Nádražím 222 Český Krumlov - Nád
 ražní Předměstí
SUMMARY:JC-U16M-4: Český Krumlov-České Budějovice
END:VEVENT
BEGIN:VEVENT
UID:32393061-6464-4136-b564-373630666663
DTSTAMP:20260422T075400Z
DESCRIPTION:1/3 České Budějovice - Škola volejbalu Č. Velenice 2:0 (4\,7)\n
 Sportovní hala Hrdějovice
DTSTART;TZID=Europe/Berlin:20240303T090000
DTEND;TZID=Europe/Berlin:20240303T110000
LOCATION:ZŠ Oskara Nedbala České Budějovice\, O. Nedbala 882 České Budějovi
 ce - České Budějovice 2
SUMMARY:JC-U16M-5: České Budějovice-Škola volejbalu Č. Velenice
END:VEVENT
BEGIN:VEVENT
UID:39653737-3663-4365-b235-316161373935
DTSTAMP:20260422T075400Z
DESCRIPTION:1/7 České Budějovice - České Budějovice B 2:0 (11\,6)\nSportovn
 í hala Hrdějovice
DTSTART;TZID=Europe/Berlin:20240303T110000
DTEND;TZID=Europe/Berlin:20240303T130000
LOCATION:ZŠ Oskara Nedbala České Budějovice\, O. Nedbala 882 České Budějovi
 ce - České Budějovice 2
SUMMARY:JC-U16M-5: České Budějovice-České Budějovice B
END:VEVENT
BEGIN:VEVENT
UID:37393536-3931-4134-a333-616461306435
DTSTAMP:20260422T075400Z
DESCRIPTION:1/11 České Budějovice - TJ Tatran Prachatice 2:0 (13\,14)\nSpor
 tovní hala Hrdějovice
DTSTART;TZID=Europe/Berlin:20240303T120000
DTEND;TZID=Europe/Berlin:20240303T140000
LOCATION:ZŠ Oskara Nedbala České Budějovice\, O. Nedbala 882 České Budějovi
 ce - České Budějovice 2
SUMMARY:JC-U16M-5: České Budějovice-TJ Tatran Prachatice
END:VEVENT
BEGIN:VEVENT
UID:35613665-3437-4136-b934-376465376634
DTSTAMP:20260422T075400Z
DESCRIPTION:2/20 České Budějovice - TJ Sokol Písek 2:0 (6\,9)\nSportovní ha
 la Hrdějovice
DTSTART;TZID=Europe/Berlin:20240303T150000
DTEND;TZID=Europe/Berlin:20240303T170000
LOCATION:ZŠ Oskara Nedbala České Budějovice\, O. Nedbala 882 České Budějovi
 ce - České Budějovice 2
SUMMARY:JC-U16M-5: České Budějovice-TJ Sokol Písek
END:VEVENT
BEGIN:VEVENT
UID:34303664-6633-4433-a464-383764373337
DTSTAMP:20260422T075400Z
DESCRIPTION:2/13 VSK Č. Krumlov B - České Budějovice X:2\nSportovní hala Hr
 dějovice
DTSTART;TZID=Europe/Berlin:20240303T130000
DTEND;TZID=Europe/Berlin:20240303T150000
LOCATION:ZŠ Za Nádražím Český Krumlov\, Za Nádražím 222 Český Krumlov - Nád
 ražní Předměstí
SUMMARY:JC-U16M-5: VSK Č. Krumlov B-České Budějovice
END:VEVENT
BEGIN:VEVENT
UID:63663930-3066-4035-b762-623861636233
DTSTAMP:20260422T075400Z
DESCRIPTION:2/16 Český Krumlov - České Budějovice 0:2 (-19\,-12)\nSportovní
  hala Hrdějovice
DTSTART;TZID=Europe/Berlin:20240303T140000
DTEND;TZID=Europe/Berlin:20240303T160000
LOCATION:ZŠ Za Nádražím Český Krumlov\, Za Nádražím 222 Český Krumlov - Nád
 ražní Předměstí
SUMMARY:JC-U16M-5: Český Krumlov-České Budějovice
END:VEVENT
BEGIN:VEVENT
UID:34323632-3463-4233-a363-653262393135
DTSTAMP:20260422T075400Z
DESCRIPTION:1/1 České Budějovice - Plzeň 2:0 (13\,6)
DTSTART;TZID=Europe/Berlin:20240427T100000
DTEND;TZID=Europe/Berlin:20240427T120000
LOCATION:ZŠ Oskara Nedbala České Budějovice\, O. Nedbala 882 České Budějovi
 ce - České Budějovice 2
SUMMARY:MCR-U16M-C: České Budějovice-Plzeň
END:VEVENT
BEGIN:VEVENT
UID:33636638-3461-4439-b636-626537646335
DTSTAMP:20260422T075400Z
DESCRIPTION:1/3 České Budějovice - Ústí n. L. 2:0 (10\,13)
DTSTART;TZID=Europe/Berlin:20240427T113000
DTEND;TZID=Europe/Berlin:20240427T133000
LOCATION:ZŠ Oskara Nedbala České Budějovice\, O. Nedbala 882 České Budějovi
 ce - České Budějovice 2
SUMMARY:MCR-U16M-C: České Budějovice-Ústí n. L.
END:VEVENT
BEGIN:VEVENT
UID:30663534-6462-4137-a434-663731353034
DTSTAMP:20260422T075400Z
DESCRIPTION:2/21 České Budějovice - Svitavy 2:0 (22\,15)
DTSTART;TZID=Europe/Berlin:20240428T140000
DTEND;TZID=Europe/Berlin:20240428T160000
LOCATION:ZŠ Oskara Nedbala České Budějovice\, O. Nedbala 882 České Budějovi
 ce - České Budějovice 2
SUMMARY:MCR-U16M-C: České Budějovice-Svitavy
END:VEVENT
BEGIN:VEVENT
UID:35303065-3636-4131-b235-353765636534
DTSTAMP:20260422T075400Z
DESCRIPTION:1/7 Lvi Praha - České Budějovice 0:2 (-17\,-23)
DTSTART;TZID=Europe/Berlin:20240427T143000
DTEND;TZID=Europe/Berlin:20240427T163000
LOCATION:ZŠ Oskara Nedbala České Budějovice\, O. Nedbala 882 České Budějovi
 ce - České Budějovice 2
SUMMARY:MCR-U16M-C: Lvi Praha-České Budějovice
END:VEVENT
BEGIN:VEVENT
UID:30303033-6635-4330-b037-386136393539
DTSTAMP:20260422T075400Z
DESCRIPTION:1/11 Velké Meziříčí - České Budějovice 0:2 (-9\,-14)
DTSTART;TZID=Europe/Berlin:20240427T173000
DTEND;TZID=Europe/Berlin:20240427T193000
LOCATION:ZŠ Oskara Nedbala České Budějovice\, O. Nedbala 882 České Budějovi
 ce - České Budějovice 2
SUMMARY:MCR-U16M-C: Velké Meziříčí-České Budějovice
END:VEVENT
BEGIN:VEVENT
UID:62303131-3763-4963-a336-313139633563
DTSTAMP:20260422T075400Z
DESCRIPTION:2/17 Opava - České Budějovice 0:2 (-20\,-17)
DTSTART;TZID=Europe/Berlin:20240428T110000
DTEND;TZID=Europe/Berlin:20240428T130000
LOCATION:ZŠ Oskara Nedbala České Budějovice\, O. Nedbala 882 České Budějovi
 ce - České Budějovice 2
SUMMARY:MCR-U16M-C: Opava-České Budějovice
END:VEVENT
BEGIN:VEVENT
UID:36346439-3239-4332-b663-663463323365
DTSTAMP:20260422T075400Z
DESCRIPTION:1/1 České Budějovice - Letovice 2:0 (15\,14)
DTSTART;TZID=Europe/Berlin:20240517T114500
DTEND;TZID=Europe/Berlin:20240517T134500
LOCATION:ZŠ Oskara Nedbala České Budějovice\, O. Nedbala 882 České Budějovi
 ce - České Budějovice 2
SUMMARY:MCR-U16M-FC: České Budějovice-Letovice
END:VEVENT
BEGIN:VEVENT
UID:39303631-3039-4536-b866-376165613263
DTSTAMP:20260422T075400Z
DESCRIPTION:2/4 České Budějovice - Příbram 2:1 (-23\,25\,6)
DTSTART;TZID=Europe/Berlin:20240517T142500
DTEND;TZID=Europe/Berlin:20240517T162500
LOCATION:ZŠ Oskara Nedbala České Budějovice\, O. Nedbala 882 České Budějovi
 ce - České Budějovice 2
SUMMARY:MCR-U16M-FC: České Budějovice-Příbram
END:VEVENT
BEGIN:VEVENT
UID:34613335-6163-4530-b061-333936386366
DTSTAMP:20260422T075400Z
DESCRIPTION:3/6 Brno - České Budějovice 0:2 (-14\,-17)
DTSTART;TZID=Europe/Berlin:20240517T170500
DTEND;TZID=Europe/Berlin:20240517T190500
LOCATION:ZŠ Oskara Nedbala České Budějovice\, O. Nedbala 882 České Budějovi
 ce - České Budějovice 2
SUMMARY:MCR-U16M-FC: Brno-České Budějovice
END:VEVENT
BEGIN:VEVENT
UID:39326539-6333-4737-b663-303266653163
DTSTAMP:20260422T075400Z
DESCRIPTION:2/5 České Budějovice - Jirkov 2:X\nC1 - A2
DTSTART;TZID=Europe/Berlin:20240518T133000
DTEND;TZID=Europe/Berlin:20240518T153000
LOCATION:ZŠ Oskara Nedbala České Budějovice\, O. Nedbala 882 České Budějovi
 ce - České Budějovice 2
SUMMARY:MCR-U16M-FE: České Budějovice-Jirkov
END:VEVENT
BEGIN:VEVENT
UID:66666634-3735-4561-a233-656533393864
DTSTAMP:20260422T075400Z
DESCRIPTION:1/2 Kojetín - České Budějovice 0:2 (-23\,-16)\nA3 - C1
DTSTART;TZID=Europe/Berlin:20240518T093000
DTEND;TZID=Europe/Berlin:20240518T113000
LOCATION:ZŠ Oskara Nedbala České Budějovice\, O. Nedbala 882 České Budějovi
 ce - České Budějovice 2
SUMMARY:MCR-U16M-FE: Kojetín-České Budějovice
END:VEVENT
BEGIN:VEVENT
UID:32653965-6564-4438-b438-356232613061
DTSTAMP:20260422T075400Z
DESCRIPTION:3/7 Havlíčkův Brod - České Budějovice 2:0 (9\,23)\nA1 - C1
DTSTART;TZID=Europe/Berlin:20240518T163000
DTEND;TZID=Europe/Berlin:20240518T183000
LOCATION:ZŠ Oskara Nedbala České Budějovice\, O. Nedbala 882 České Budějovi
 ce - České Budějovice 2
SUMMARY:MCR-U16M-FE: Havlíčkův Brod-České Budějovice
END:VEVENT
BEGIN:VEVENT
UID:65386132-6466-4530-a461-316135653739
DTSTAMP:20260422T075400Z
DESCRIPTION:1/6 České Budějovice - Kolín 1:2 (-24\,21\,-13)\nE2 - F1
DTSTART;TZID=Europe/Berlin:20240519T095000
DTEND;TZID=Europe/Berlin:20240519T115000
LOCATION:ZŠ Oskara Nedbala České Budějovice\, O. Nedbala 882 České Budějovi
 ce - České Budějovice 2
SUMMARY:MCR-U16M-FI: České Budějovice-Kolín
END:VEVENT
BEGIN:VEVENT
UID:34633432-6164-4662-a262-623066363430
DTSTAMP:20260422T075400Z
DESCRIPTION:2/11 Havlíčkův Brod - České Budějovice 1:2 (20\,-16\,-10)\no 3.
  místo
DTSTART;TZID=Europe/Berlin:20240519T122000
DTEND;TZID=Europe/Berlin:20240519T142000
LOCATION:Sportovní hala TJ Jiskra\, Ledečská 3028 Havlíčkův Brod
SUMMARY:MCR-U16M-FI: Havlíčkův Brod-České Budějovice
END:VEVENT
END:VCALENDAR
