BEGIN:VCALENDAR
VERSION:2.0
PRODID:-//Škola volejbalu B82112//NONSGML kigkonsult.se iCalcreator 2.41.80//
CALSCALE:GREGORIAN
UID:37363266-3566-4235-b166-613230316336
BEGIN:VEVENT
UID:32306361-6231-4364-b231-666635366562
DTSTAMP:20260422T033907Z
DESCRIPTION:1/3 Škola volejbalu B - SK Třebín A 2:0 (16\,29)
DTSTART;TZID=Europe/Berlin:20231001T120000
DTEND;TZID=Europe/Berlin:20231001T140000
LOCATION:Sportovní hala Hrdějovice\,  Hrdějovice597
SUMMARY:JC-U14Z-Q-C: Škola volejbalu B-SK Třebín A
END:VEVENT
BEGIN:VEVENT
UID:38336433-3930-4463-b634-633566343633
DTSTAMP:20260422T033907Z
DESCRIPTION:1/1 Volejbal Rudolfov A - Škola volejbalu B 2:0 (6\,12)
DTSTART;TZID=Europe/Berlin:20231001T090000
DTEND;TZID=Europe/Berlin:20231001T110000
LOCATION:Sportovní hala Rudolfov\, Adamovská 511 Rudolfov
SUMMARY:JC-U14Z-Q-C: Volejbal Rudolfov A-Škola volejbalu B
END:VEVENT
BEGIN:VEVENT
UID:37616532-3066-4462-a133-303335326133
DTSTAMP:20260422T033907Z
DESCRIPTION:1/3 Škola volejbalu B - TJ Slovan J. Hradec 0:2 (-15\,-18)
DTSTART;TZID=Europe/Berlin:20231105T110000
DTEND;TZID=Europe/Berlin:20231105T130000
LOCATION:Sportovní hala Hrdějovice\,  Hrdějovice597
SUMMARY:JC-U14Z-1B: Škola volejbalu B-TJ Slovan J. Hradec
END:VEVENT
BEGIN:VEVENT
UID:62616336-3532-4638-b339-393461383966
DTSTAMP:20260422T033907Z
DESCRIPTION:1/1 Škola volejbalu A - Škola volejbalu B 2:0 (17\,18)
DTSTART;TZID=Europe/Berlin:20231105T090000
DTEND;TZID=Europe/Berlin:20231105T110000
LOCATION:Sportovní hala Hrdějovice\,  Hrdějovice597
SUMMARY:JC-U14Z-1B: Škola volejbalu A-Škola volejbalu B
END:VEVENT
BEGIN:VEVENT
UID:39633638-6565-4334-b761-656137646233
DTSTAMP:20260422T033907Z
DESCRIPTION:1/5 Volejbal Rudolfov B - Škola volejbalu B 2:0 (20\,20)
DTSTART;TZID=Europe/Berlin:20231105T130000
DTEND;TZID=Europe/Berlin:20231105T150000
LOCATION:Sportovní hala Rudolfov\, Adamovská 511 Rudolfov
SUMMARY:JC-U14Z-1B: Volejbal Rudolfov B-Škola volejbalu B
END:VEVENT
BEGIN:VEVENT
UID:64653361-3933-4635-b435-306132313061
DTSTAMP:20260422T033907Z
DESCRIPTION:1/1 Škola volejbalu B - SK Třebín A 1:2 (-18\,22\,-5)
DTSTART;TZID=Europe/Berlin:20231203T090000
DTEND;TZID=Europe/Berlin:20231203T110000
LOCATION:Sportovní hala Hrdějovice\,  Hrdějovice597
SUMMARY:JC-U14Z-2C: Škola volejbalu B-SK Třebín A
END:VEVENT
BEGIN:VEVENT
UID:38663433-6662-4333-a561-653565626466
DTSTAMP:20260422T033907Z
DESCRIPTION:1/4 Škola volejbalu B - TJ Tatran Prachatice 2:0 (0\,0)
DTSTART;TZID=Europe/Berlin:20231203T120000
DTEND;TZID=Europe/Berlin:20231203T140000
LOCATION:Sportovní hala Hrdějovice\,  Hrdějovice597
SUMMARY:JC-U14Z-2C: Škola volejbalu B-TJ Tatran Prachatice
END:VEVENT
BEGIN:VEVENT
UID:33323837-6238-4136-b335-626534333566
DTSTAMP:20260422T033907Z
DESCRIPTION:1/6 Volejbal Tábor B - Škola volejbalu B 0:2 (-16\,-18)
DTSTART;TZID=Europe/Berlin:20231203T140000
DTEND;TZID=Europe/Berlin:20231203T160000
LOCATION:Sportovní Hala Mír\, U Stadionu Míru 1579 Tábor
SUMMARY:JC-U14Z-2C: Volejbal Tábor B-Škola volejbalu B
END:VEVENT
BEGIN:VEVENT
UID:39313637-3538-4132-a238-653435353762
DTSTAMP:20260422T033907Z
DESCRIPTION:1/2 Škola volejbalu B - TJ Tatran Prachatice 2:0 (21\,13)
DTSTART;TZID=Europe/Berlin:20240114T100000
DTEND;TZID=Europe/Berlin:20240114T120000
LOCATION:Sportovní hala Hrdějovice\,  Hrdějovice597
SUMMARY:JC-U14Z-3C: Škola volejbalu B-TJ Tatran Prachatice
END:VEVENT
BEGIN:VEVENT
UID:30383861-6539-4830-b564-373136646133
DTSTAMP:20260422T033907Z
DESCRIPTION:1/5 Škola volejbalu B - Volejbal Tábor B 2:0 (21\,17)
DTSTART;TZID=Europe/Berlin:20240114T130000
DTEND;TZID=Europe/Berlin:20240114T150000
LOCATION:Sportovní hala Hrdějovice\,  Hrdějovice597
SUMMARY:JC-U14Z-3C: Škola volejbalu B-Volejbal Tábor B
END:VEVENT
BEGIN:VEVENT
UID:31383566-6361-4164-a338-343334313339
DTSTAMP:20260422T033907Z
DESCRIPTION:1/4 VK Madeta B - Škola volejbalu B 2:1 (13\,-22\,8)
DTSTART;TZID=Europe/Berlin:20240114T120000
DTEND;TZID=Europe/Berlin:20240114T140000
LOCATION:Sportovní hala\, Stromovka 1216 České Budějovice - České Budějovic
 e 2
SUMMARY:JC-U14Z-3C: VK Madeta B-Škola volejbalu B
END:VEVENT
BEGIN:VEVENT
UID:62383234-3430-4336-b661-336433336431
DTSTAMP:20260422T033907Z
DESCRIPTION:1/2 Škola volejbalu B - TJ Tatran Prachatice 2:0 (6\,9)
DTSTART;TZID=Europe/Berlin:20240225T100000
DTEND;TZID=Europe/Berlin:20240225T120000
LOCATION:Sportovní hala Hrdějovice\,  Hrdějovice597
SUMMARY:JC-U14Z-4C: Škola volejbalu B-TJ Tatran Prachatice
END:VEVENT
BEGIN:VEVENT
UID:66633537-3931-4239-b534-386362383336
DTSTAMP:20260422T033907Z
DESCRIPTION:1/5 Škola volejbalu B - Volejbal Tábor B 2:1 (22\,-22\,10)
DTSTART;TZID=Europe/Berlin:20240225T130000
DTEND;TZID=Europe/Berlin:20240225T150000
LOCATION:Sportovní hala Hrdějovice\,  Hrdějovice597
SUMMARY:JC-U14Z-4C: Škola volejbalu B-Volejbal Tábor B
END:VEVENT
BEGIN:VEVENT
UID:63313031-3464-4466-b665-653366396238
DTSTAMP:20260422T033907Z
DESCRIPTION:1/4 SK Třebín A - Škola volejbalu B 1:2 (12\,-23\,-11)
DTSTART;TZID=Europe/Berlin:20240225T120000
DTEND;TZID=Europe/Berlin:20240225T140000
LOCATION:ZŠ Máj I\, M. Chlajna 1319 České Budějovice - České Budějovice 2
SUMMARY:JC-U14Z-4C: SK Třebín A-Škola volejbalu B
END:VEVENT
END:VCALENDAR
