BEGIN:VCALENDAR
VERSION:2.0
PRODID:-//VK Madeta82128//NONSGML kigkonsult.se iCalcreator 2.41.80//
CALSCALE:GREGORIAN
UID:35613731-3832-4266-a631-326666643136
BEGIN:VEVENT
UID:36323932-3637-4535-b461-353533366662
DTSTAMP:20260422T111946Z
DESCRIPTION:1/2 VK Madeta - TJ Slovan J. Hradec 2:1 (-18\,26\,12)
DTSTART;TZID=Europe/Berlin:20231007T100000
DTEND;TZID=Europe/Berlin:20231007T120000
LOCATION:Sportovní hala\, Stromovka 1216 České Budějovice - České Budějovic
 e 2
SUMMARY:JC-U18Z-QD: VK Madeta-TJ Slovan J. Hradec
END:VEVENT
BEGIN:VEVENT
UID:39656237-3063-4036-a639-613262363866
DTSTAMP:20260422T111946Z
DESCRIPTION:1/3 Volejbal Tábor B - VK Madeta 2:0 (13\,10)
DTSTART;TZID=Europe/Berlin:20231007T110000
DTEND;TZID=Europe/Berlin:20231007T130000
LOCATION:Sportovní hala Kvapilova\, Kvapilova 2419 Tábor
SUMMARY:JC-U18Z-QD: Volejbal Tábor B-VK Madeta
END:VEVENT
BEGIN:VEVENT
UID:64656238-3639-4462-b163-363365386330
DTSTAMP:20260422T111946Z
DESCRIPTION:1/3 VK Madeta - Škola volejbalu 0:2 (-21\,-14)
DTSTART;TZID=Europe/Berlin:20231202T110000
DTEND;TZID=Europe/Berlin:20231202T130000
LOCATION:Sportovní hala\, Stromovka 1216 České Budějovice - České Budějovic
 e 2
SUMMARY:JC-U18Z-1B: VK Madeta-Škola volejbalu
END:VEVENT
BEGIN:VEVENT
UID:37353535-3562-4162-b937-623730343966
DTSTAMP:20260422T111946Z
DESCRIPTION:1/1 Volejbal Rudolfov B - VK Madeta 2:1 (-21\,21\,13)
DTSTART;TZID=Europe/Berlin:20231202T090000
DTEND;TZID=Europe/Berlin:20231202T110000
LOCATION:Sportovní hala Rudolfov\, Adamovská 511 Rudolfov
SUMMARY:JC-U18Z-1B: Volejbal Rudolfov B-VK Madeta
END:VEVENT
BEGIN:VEVENT
UID:66663962-3333-4933-b565-326331613064
DTSTAMP:20260422T111946Z
DESCRIPTION:1/5 VSK Český Krumlov - VK Madeta 0:2 (-22\,-10)
DTSTART;TZID=Europe/Berlin:20231202T130000
DTEND;TZID=Europe/Berlin:20231202T150000
LOCATION:ZŠ Za Nádražím Český Krumlov\, Za Nádražím 222 Český Krumlov - Nád
 ražní Předměstí
SUMMARY:JC-U18Z-1B: VSK Český Krumlov-VK Madeta
END:VEVENT
BEGIN:VEVENT
UID:35343932-3161-4731-b539-323066393931
DTSTAMP:20260422T111946Z
DESCRIPTION:1/3 VK Madeta - TJ Slovan J. Hradec 2:0 (7\,18)
DTSTART;TZID=Europe/Berlin:20240113T110000
DTEND;TZID=Europe/Berlin:20240113T130000
LOCATION:Sportovní hala\, Stromovka 1216 České Budějovice - České Budějovic
 e 2
SUMMARY:JC-U18Z-2B: VK Madeta-TJ Slovan J. Hradec
END:VEVENT
BEGIN:VEVENT
UID:64313039-6233-4933-b366-313934373830
DTSTAMP:20260422T111946Z
DESCRIPTION:1/1 Volejbal Rudolfov B - VK Madeta 0:2 (-14\,-24)
DTSTART;TZID=Europe/Berlin:20240113T090000
DTEND;TZID=Europe/Berlin:20240113T110000
LOCATION:Sportovní hala Rudolfov\, Adamovská 511 Rudolfov
SUMMARY:JC-U18Z-2B: Volejbal Rudolfov B-VK Madeta
END:VEVENT
BEGIN:VEVENT
UID:63613965-6234-4535-b433-666235366636
DTSTAMP:20260422T111946Z
DESCRIPTION:1/5 Volejbal Tábor A - VK Madeta 1:2 (18\,-24\,-8)
DTSTART;TZID=Europe/Berlin:20240113T130000
DTEND;TZID=Europe/Berlin:20240113T150000
LOCATION:Sportovní Hala Mír\, U Stadionu Míru 1579 Tábor
SUMMARY:JC-U18Z-2B: Volejbal Tábor A-VK Madeta
END:VEVENT
BEGIN:VEVENT
UID:61653166-3532-4363-b664-656232386635
DTSTAMP:20260422T111946Z
DESCRIPTION:1/3 VK Madeta - Třebín 1:2 (23\,-15\,-11)
DTSTART;TZID=Europe/Berlin:20240224T100000
DTEND;TZID=Europe/Berlin:20240224T120000
LOCATION:Sportovní hala\, Stromovka 1216 České Budějovice - České Budějovic
 e 2
SUMMARY:JC-U18Z-3A: VK Madeta-Třebín
END:VEVENT
BEGIN:VEVENT
UID:37616661-3635-4630-b937-653131643536
DTSTAMP:20260422T111946Z
DESCRIPTION:1/1 Rudolfov - VK Madeta 2:0 (9\,18)
DTSTART;TZID=Europe/Berlin:20240224T090000
DTEND;TZID=Europe/Berlin:20240224T110000
LOCATION:Sportovní hala Rudolfov\, Adamovská 511 Rudolfov
SUMMARY:JC-U18Z-3A: Rudolfov-VK Madeta
END:VEVENT
BEGIN:VEVENT
UID:39386135-6436-4763-a332-396666313962
DTSTAMP:20260422T111946Z
DESCRIPTION:1/5 Volejbal Tábor B - VK Madeta 2:0 (9\,15)
DTSTART;TZID=Europe/Berlin:20240224T110000
DTEND;TZID=Europe/Berlin:20240224T130000
LOCATION:Sportovní hala Kvapilova\, Kvapilova 2419 Tábor
SUMMARY:JC-U18Z-3A: Volejbal Tábor B-VK Madeta
END:VEVENT
BEGIN:VEVENT
UID:66326334-3563-4633-b866-613465663862
DTSTAMP:20260422T111946Z
DESCRIPTION:1/1 VK Madeta - TJ Slovan J. Hradec 2:0 (14\,19)
DTSTART;TZID=Europe/Berlin:20240406T090000
DTEND;TZID=Europe/Berlin:20240406T110000
LOCATION:Sportovní hala\, Stromovka 1216 České Budějovice - České Budějovic
 e 2
SUMMARY:JC-U18Z-4B: VK Madeta-TJ Slovan J. Hradec
END:VEVENT
BEGIN:VEVENT
UID:36336233-6166-4234-b230-633439383238
DTSTAMP:20260422T111946Z
DESCRIPTION:1/4 VK Madeta - Škola volejbalu 0:2 (-19\,-10)
DTSTART;TZID=Europe/Berlin:20240406T120000
DTEND;TZID=Europe/Berlin:20240406T140000
LOCATION:Sportovní hala\, Stromovka 1216 České Budějovice - České Budějovic
 e 2
SUMMARY:JC-U18Z-4B: VK Madeta-Škola volejbalu
END:VEVENT
BEGIN:VEVENT
UID:64306532-3633-4938-b131-336639323366
DTSTAMP:20260422T111946Z
DESCRIPTION:1/6 VSK Český Krumlov - VK Madeta 2:0 (11\,15)
DTSTART;TZID=Europe/Berlin:20240406T144000
DTEND;TZID=Europe/Berlin:20240406T164000
LOCATION:ZŠ Za Nádražím Český Krumlov\, Za Nádražím 222 Český Krumlov - Nád
 ražní Předměstí
SUMMARY:JC-U18Z-4B: VSK Český Krumlov-VK Madeta
END:VEVENT
END:VCALENDAR
