BEGIN:VCALENDAR
VERSION:2.0
PRODID:-//SK Otava Písek82140//NONSGML kigkonsult.se iCalcreator 2.41.80//
CALSCALE:GREGORIAN
UID:62663639-6162-4638-b930-396332373539
BEGIN:VEVENT
UID:61636462-6433-4839-b335-313436373337
DTSTAMP:20260422T191259Z
DESCRIPTION:1/2 SK Otava Písek - Rudolfov 0:2 (-7\,-14)
DTSTART;TZID=Europe/Berlin:20231007T100000
DTEND;TZID=Europe/Berlin:20231007T120000
LOCATION:Střední lesnická škola\, Lesnická 55 Písek - Václavské Předměstí
SUMMARY:JC-U18Z-QC: SK Otava Písek-Rudolfov
END:VEVENT
BEGIN:VEVENT
UID:32323538-6138-4035-a562-313136363761
DTSTAMP:20260422T191259Z
DESCRIPTION:1/3 Volejbal Rudolfov B - SK Otava Písek 2:0 (17\,16)
DTSTART;TZID=Europe/Berlin:20231007T110000
DTEND;TZID=Europe/Berlin:20231007T130000
LOCATION:Sportovní hala Rudolfov\, Adamovská 511 Rudolfov
SUMMARY:JC-U18Z-QC: Volejbal Rudolfov B-SK Otava Písek
END:VEVENT
BEGIN:VEVENT
UID:30613734-3834-4134-a230-313534343636
DTSTAMP:20260422T191259Z
DESCRIPTION:1/2 SK Otava Písek - TJ Slovan J. Hradec 1:2 (-19\,18\,-11)
DTSTART;TZID=Europe/Berlin:20231202T100000
DTEND;TZID=Europe/Berlin:20231202T120000
LOCATION:Střední lesnická škola\, Lesnická 55 Písek - Václavské Předměstí
SUMMARY:JC-U18Z-1C: SK Otava Písek-TJ Slovan J. Hradec
END:VEVENT
BEGIN:VEVENT
UID:38356634-6566-4430-b834-323465363535
DTSTAMP:20260422T191259Z
DESCRIPTION:1/5 SK Otava Písek - VSK Slavia JU ČB 2:0 (10\,12)
DTSTART;TZID=Europe/Berlin:20231202T130000
DTEND;TZID=Europe/Berlin:20231202T150000
LOCATION:Střední lesnická škola\, Lesnická 55 Písek - Václavské Předměstí
SUMMARY:JC-U18Z-1C: SK Otava Písek-VSK Slavia JU ČB
END:VEVENT
BEGIN:VEVENT
UID:62643237-3735-4334-a130-326532333136
DTSTAMP:20260422T191259Z
DESCRIPTION:1/4 SK Třebín B - SK Otava Písek 0:2 (-22\,-7)
DTSTART;TZID=Europe/Berlin:20231202T120000
DTEND;TZID=Europe/Berlin:20231202T140000
LOCATION:ZŠ Máj I\, M. Chlajna 1319 České Budějovice - České Budějovice 2
SUMMARY:JC-U18Z-1C: SK Třebín B-SK Otava Písek
END:VEVENT
BEGIN:VEVENT
UID:31616339-3233-4633-a436-653162376535
DTSTAMP:20260422T191259Z
DESCRIPTION:1/2 SK Otava Písek - VSK Český Krumlov 0:2 (-28\,-21)
DTSTART;TZID=Europe/Berlin:20240113T100000
DTEND;TZID=Europe/Berlin:20240113T120000
LOCATION:Střední lesnická škola\, Lesnická 55 Písek - Václavské Předměstí
SUMMARY:JC-U18Z-2C: SK Otava Písek-VSK Český Krumlov
END:VEVENT
BEGIN:VEVENT
UID:64356632-6262-4631-b738-663932353135
DTSTAMP:20260422T191259Z
DESCRIPTION:1/5 SK Otava Písek - VSK Slavia JU ČB 2:0 (12\,10)
DTSTART;TZID=Europe/Berlin:20240113T130000
DTEND;TZID=Europe/Berlin:20240113T150000
LOCATION:Střední lesnická škola\, Lesnická 55 Písek - Václavské Předměstí
SUMMARY:JC-U18Z-2C: SK Otava Písek-VSK Slavia JU ČB
END:VEVENT
BEGIN:VEVENT
UID:38633836-3563-4163-a365-393165323137
DTSTAMP:20260422T191259Z
DESCRIPTION:1/4 SK Třebín B - SK Otava Písek 0:2 (-22\,-16)
DTSTART;TZID=Europe/Berlin:20240113T120000
DTEND;TZID=Europe/Berlin:20240113T140000
LOCATION:ZŠ Máj I\, M. Chlajna 1319 České Budějovice - České Budějovice 2
SUMMARY:JC-U18Z-2C: SK Třebín B-SK Otava Písek
END:VEVENT
BEGIN:VEVENT
UID:66666635-3739-4266-a134-373862323837
DTSTAMP:20260422T191259Z
DESCRIPTION:1/2 SK Otava Písek - SK Třebín B 2:0 (15\,12)
DTSTART;TZID=Europe/Berlin:20240224T090000
DTEND;TZID=Europe/Berlin:20240224T110000
LOCATION:Střední lesnická škola\, Lesnická 55 Písek - Václavské Předměstí
SUMMARY:JC-U18Z-3C: SK Otava Písek-SK Třebín B
END:VEVENT
BEGIN:VEVENT
UID:33623065-3732-4765-a635-383161656363
DTSTAMP:20260422T191259Z
DESCRIPTION:1/5 SK Otava Písek - VSK Slavia JU ČB 2:0 (9\,16)
DTSTART;TZID=Europe/Berlin:20240224T110000
DTEND;TZID=Europe/Berlin:20240224T130000
LOCATION:Střední lesnická škola\, Lesnická 55 Písek - Václavské Předměstí
SUMMARY:JC-U18Z-3C: SK Otava Písek-VSK Slavia JU ČB
END:VEVENT
BEGIN:VEVENT
UID:62393964-6338-4763-a137-366436306234
DTSTAMP:20260422T191259Z
DESCRIPTION:1/4 TJ Slovan J. Hradec - SK Otava Písek 2:1 (13\,-12\,3)
DTSTART;TZID=Europe/Berlin:20240224T100000
DTEND;TZID=Europe/Berlin:20240224T120000
LOCATION:Sportovní hala J. Hradec\, U Stadionu 1137 Jindřichův Hradec - Jin
 dřichův Hradec II
SUMMARY:JC-U18Z-3C: TJ Slovan J. Hradec-SK Otava Písek
END:VEVENT
BEGIN:VEVENT
UID:35393563-3339-4666-a632-663866383837
DTSTAMP:20260422T191259Z
DESCRIPTION:1/2 SK Otava Písek - SK Třebín B 2:0 (18\,12)
DTSTART;TZID=Europe/Berlin:20240406T102000
DTEND;TZID=Europe/Berlin:20240406T122000
LOCATION:Střední lesnická škola\, Lesnická 55 Písek - Václavské Předměstí
SUMMARY:JC-U18Z-4C: SK Otava Písek-SK Třebín B
END:VEVENT
BEGIN:VEVENT
UID:39356234-3930-4139-b839-343565646232
DTSTAMP:20260422T191259Z
DESCRIPTION:1/5 SK Otava Písek - VSK Slavia JU ČB 2:0 (13\,9)
DTSTART;TZID=Europe/Berlin:20240406T132000
DTEND;TZID=Europe/Berlin:20240406T152000
LOCATION:Střední lesnická škola\, Lesnická 55 Písek - Václavské Předměstí
SUMMARY:JC-U18Z-4C: SK Otava Písek-VSK Slavia JU ČB
END:VEVENT
BEGIN:VEVENT
UID:66373832-6263-4364-b134-643530666336
DTSTAMP:20260422T191259Z
DESCRIPTION:1/4 Volejbal Rudolfov B - SK Otava Písek 2:1 (13\,-22\,9)
DTSTART;TZID=Europe/Berlin:20240406T120000
DTEND;TZID=Europe/Berlin:20240406T140000
LOCATION:Sportovní hala Rudolfov\, Adamovská 511 Rudolfov
SUMMARY:JC-U18Z-4C: Volejbal Rudolfov B-SK Otava Písek
END:VEVENT
END:VCALENDAR
