BEGIN:VCALENDAR
VERSION:2.0
PRODID:-//TJ Spartak Uherský Brod, z.s.82158//NONSGML kigkonsult.se iCalcreator 2.41.80//
CALSCALE:GREGORIAN
UID:66313536-3333-4132-a130-636434313535
BEGIN:VEVENT
UID:35393835-3361-4665-b638-383030313830
DTSTAMP:20260422T165901Z
DESCRIPTION:1/1 TJ Spartak Uh.Brod - VC VESELÍ 2:1 (16\,-15\,9)
DTSTART;TZID=Europe/Berlin:20230916T090000
DTEND;TZID=Europe/Berlin:20230916T110000
LOCATION:TJ SPARTAK UHERSKÝ BROD z.s.\, U Stadionu 2295 Uherský Brod
SUMMARY:PZLK-U16Z-B: TJ Spartak Uh.Brod-VC VESELÍ
END:VEVENT
BEGIN:VEVENT
UID:37623661-3265-4638-b437-643563633935
DTSTAMP:20260422T165901Z
DESCRIPTION:2/4 TJ Spartak Uh.Brod - VC Kroměříž B 0:2 (-21\,-17)
DTSTART;TZID=Europe/Berlin:20230916T100000
DTEND;TZID=Europe/Berlin:20230916T120000
LOCATION:TJ SPARTAK UHERSKÝ BROD z.s.\, U Stadionu 2295 Uherský Brod
SUMMARY:PZLK-U16Z-B: TJ Spartak Uh.Brod-VC Kroměříž B
END:VEVENT
BEGIN:VEVENT
UID:65663738-3433-4439-a535-393261633762
DTSTAMP:20260422T165901Z
DESCRIPTION:4/10 TJ Spartak Uh.Brod - VK Napajedla B 2:0 (14\,12)
DTSTART;TZID=Europe/Berlin:20230916T120000
DTEND;TZID=Europe/Berlin:20230916T140000
LOCATION:TJ SPARTAK UHERSKÝ BROD z.s.\, U Stadionu 2295 Uherský Brod
SUMMARY:PZLK-U16Z-B: TJ Spartak Uh.Brod-VK Napajedla B
END:VEVENT
BEGIN:VEVENT
UID:36386363-3663-4937-b833-376162633836
DTSTAMP:20260422T165901Z
DESCRIPTION:3/7 VC Kroměříž A - TJ Spartak Uh.Brod 2:0 (14\,11)
DTSTART;TZID=Europe/Berlin:20230916T110000
DTEND;TZID=Europe/Berlin:20230916T130000
LOCATION:ZŠ Zachar\, Albertova 4062 Kroměříž
SUMMARY:PZLK-U16Z-B: VC Kroměříž A-TJ Spartak Uh.Brod
END:VEVENT
BEGIN:VEVENT
UID:38623732-6132-4531-a633-646338626665
DTSTAMP:20260422T165901Z
DESCRIPTION:5/13 VK Napajedla A - TJ Spartak Uh.Brod 2:0 (20\,24)
DTSTART;TZID=Europe/Berlin:20230916T130000
DTEND;TZID=Europe/Berlin:20230916T150000
LOCATION:2.ZŠ Napajedla\, Komenského 298 Napajedla
SUMMARY:PZLK-U16Z-B: VK Napajedla A-TJ Spartak Uh.Brod
END:VEVENT
BEGIN:VEVENT
UID:66653162-6135-4663-b630-623434303636
DTSTAMP:20260422T165901Z
DESCRIPTION:1/2 TJ Spartak Uh.Brod - Brumov - Bylnice A 0:2 (-20\,-15)
DTSTART;TZID=Europe/Berlin:20231007T090000
DTEND;TZID=Europe/Berlin:20231007T110000
LOCATION:TJ SPARTAK UHERSKÝ BROD z.s.\, U Stadionu 2295 Uherský Brod
SUMMARY:ZLK-U16Z-1B: TJ Spartak Uh.Brod-Brumov - Bylnice A
END:VEVENT
BEGIN:VEVENT
UID:32306332-3462-4965-a165-336335623932
DTSTAMP:20260422T165901Z
DESCRIPTION:4/7 TJ Spartak Uh.Brod - VK Napajedla B 2:0 (15\,16)
DTSTART;TZID=Europe/Berlin:20231007T120000
DTEND;TZID=Europe/Berlin:20231007T140000
LOCATION:TJ SPARTAK UHERSKÝ BROD z.s.\, U Stadionu 2295 Uherský Brod
SUMMARY:ZLK-U16Z-1B: TJ Spartak Uh.Brod-VK Napajedla B
END:VEVENT
BEGIN:VEVENT
UID:38633266-3839-4764-a533-306561663465
DTSTAMP:20260422T165901Z
DESCRIPTION:2/3 VK AUSTIN Vsetín - TJ Spartak Uh.Brod 2:1 (-19\,14\,9)
DTSTART;TZID=Europe/Berlin:20231007T100000
DTEND;TZID=Europe/Berlin:20231007T120000
LOCATION:Sportovní hala Na Lapači\, Na Lapači 247 Vsetín - Rokytnice
SUMMARY:ZLK-U16Z-1B: VK AUSTIN Vsetín-TJ Spartak Uh.Brod
END:VEVENT
BEGIN:VEVENT
UID:64386666-3631-4634-b431-346261383163
DTSTAMP:20260422T165901Z
DESCRIPTION:5/10 VC VESELÍ - TJ Spartak Uh.Brod 2:0 (20\,19)
DTSTART;TZID=Europe/Berlin:20231007T130000
DTEND;TZID=Europe/Berlin:20231007T150000
LOCATION:Městská sportovní hala\, Kollárova 1660 Veselí nad Moravou
SUMMARY:ZLK-U16Z-1B: VC VESELÍ-TJ Spartak Uh.Brod
END:VEVENT
BEGIN:VEVENT
UID:61663334-6436-4364-b765-646432656435
DTSTAMP:20260422T165901Z
DESCRIPTION:1/1 TJ Spartak Uh.Brod - TJ Slov.Slavia Uh.Hradiště B 0:2 (-12\
 ,-21)
DTSTART;TZID=Europe/Berlin:20240406T090000
DTEND;TZID=Europe/Berlin:20240406T110000
LOCATION:TJ SPARTAK UHERSKÝ BROD z.s.\, U Stadionu 2295 Uherský Brod
SUMMARY:PZLK-U16Z-2: TJ Spartak Uh.Brod-TJ Slov.Slavia Uh.Hradiště B
END:VEVENT
BEGIN:VEVENT
UID:37393337-6631-4164-a237-313039666266
DTSTAMP:20260422T165901Z
DESCRIPTION:2/4 TJ Spartak Uh.Brod - Brumov - Bylnice A 0:2 (-20\,-14)
DTSTART;TZID=Europe/Berlin:20240406T100000
DTEND;TZID=Europe/Berlin:20240406T120000
LOCATION:TJ SPARTAK UHERSKÝ BROD z.s.\, U Stadionu 2295 Uherský Brod
SUMMARY:PZLK-U16Z-2: TJ Spartak Uh.Brod-Brumov - Bylnice A
END:VEVENT
BEGIN:VEVENT
UID:66646330-3037-4665-a332-623438353566
DTSTAMP:20260422T165901Z
DESCRIPTION:4/10 TJ Spartak Uh.Brod - VK Napajedla B 2:0 (19\,17)
DTSTART;TZID=Europe/Berlin:20240406T120000
DTEND;TZID=Europe/Berlin:20240406T140000
LOCATION:TJ SPARTAK UHERSKÝ BROD z.s.\, U Stadionu 2295 Uherský Brod
SUMMARY:PZLK-U16Z-2: TJ Spartak Uh.Brod-VK Napajedla B
END:VEVENT
BEGIN:VEVENT
UID:62373230-3862-4864-a531-303264343939
DTSTAMP:20260422T165901Z
DESCRIPTION:3/7 VK AUSTIN Vsetín - TJ Spartak Uh.Brod 2:0 (24\,24)
DTSTART;TZID=Europe/Berlin:20240406T110000
DTEND;TZID=Europe/Berlin:20240406T130000
LOCATION:Sportovní hala Na Lapači\, Na Lapači 247 Vsetín - Rokytnice
SUMMARY:PZLK-U16Z-2: VK AUSTIN Vsetín-TJ Spartak Uh.Brod
END:VEVENT
BEGIN:VEVENT
UID:39643039-3838-4530-b331-373466353437
DTSTAMP:20260422T165901Z
DESCRIPTION:5/13 VC VESELÍ - TJ Spartak Uh.Brod 2:0 (15\,20)
DTSTART;TZID=Europe/Berlin:20240406T130000
DTEND;TZID=Europe/Berlin:20240406T150000
LOCATION:Městská sportovní hala\, Kollárova 1660 Veselí nad Moravou
SUMMARY:PZLK-U16Z-2: VC VESELÍ-TJ Spartak Uh.Brod
END:VEVENT
BEGIN:VEVENT
UID:34383465-3765-4365-b630-336639383466
DTSTAMP:20260422T165901Z
DESCRIPTION:1/1 TJ Spartak Uh.Brod - TJ Slov.Slavia Uh.Hradiště B 2:1 (19\,
 -21\,8)
DTSTART;TZID=Europe/Berlin:20231112T090000
DTEND;TZID=Europe/Berlin:20231112T110000
LOCATION:TJ SPARTAK UHERSKÝ BROD z.s.\, U Stadionu 2295 Uherský Brod
SUMMARY:ZLK-U16Z-2C: TJ Spartak Uh.Brod-TJ Slov.Slavia Uh.Hradiště B
END:VEVENT
BEGIN:VEVENT
UID:33366436-6564-4636-b062-633561386436
DTSTAMP:20260422T165901Z
DESCRIPTION:3/6 TJ Spartak Uh.Brod - Brumov - Bylnice B 2:1 (-22\,22\,7)
DTSTART;TZID=Europe/Berlin:20231112T110000
DTEND;TZID=Europe/Berlin:20231112T130000
LOCATION:TJ SPARTAK UHERSKÝ BROD z.s.\, U Stadionu 2295 Uherský Brod
SUMMARY:ZLK-U16Z-2C: TJ Spartak Uh.Brod-Brumov - Bylnice B
END:VEVENT
BEGIN:VEVENT
UID:38663337-6235-4732-b133-313934336333
DTSTAMP:20260422T165901Z
DESCRIPTION:2/4 VK Napajedla B - TJ Spartak Uh.Brod 0:2 (-22\,-19)
DTSTART;TZID=Europe/Berlin:20231112T100000
DTEND;TZID=Europe/Berlin:20231112T120000
LOCATION:2.ZŠ Napajedla\, Komenského 298 Napajedla
SUMMARY:ZLK-U16Z-2C: VK Napajedla B-TJ Spartak Uh.Brod
END:VEVENT
BEGIN:VEVENT
UID:66376233-3934-4562-b661-333435616236
DTSTAMP:20260422T165901Z
DESCRIPTION:4/7 TJ Sokol Střítež - TJ Spartak Uh.Brod 0:2 (-11\,-23)
DTSTART;TZID=Europe/Berlin:20231112T120000
DTEND;TZID=Europe/Berlin:20231112T140000
LOCATION:Sokolovna\,  Střítež nad Bečvou1
SUMMARY:ZLK-U16Z-2C: TJ Sokol Střítež-TJ Spartak Uh.Brod
END:VEVENT
BEGIN:VEVENT
UID:34646635-6434-4034-b934-303639643361
DTSTAMP:20260422T165901Z
DESCRIPTION:3/5 TJ Spartak Uh.Brod - Brumov - Bylnice A 0:2 (-19\,-20)
DTSTART;TZID=Europe/Berlin:20231209T110000
DTEND;TZID=Europe/Berlin:20231209T130000
LOCATION:TJ SPARTAK UHERSKÝ BROD z.s.\, U Stadionu 2295 Uherský Brod
SUMMARY:ZLK-U16Z-3B: TJ Spartak Uh.Brod-Brumov - Bylnice A
END:VEVENT
BEGIN:VEVENT
UID:64626331-6439-4765-b830-633432643735
DTSTAMP:20260422T165901Z
DESCRIPTION:5/10 TJ Spartak Uh.Brod - TJ Bojkovice 1:2 (-23\,14\,-13)
DTSTART;TZID=Europe/Berlin:20231209T130000
DTEND;TZID=Europe/Berlin:20231209T150000
LOCATION:TJ SPARTAK UHERSKÝ BROD z.s.\, U Stadionu 2295 Uherský Brod
SUMMARY:ZLK-U16Z-3B: TJ Spartak Uh.Brod-TJ Bojkovice
END:VEVENT
BEGIN:VEVENT
UID:63336361-3236-4833-b061-363062343236
DTSTAMP:20260422T165901Z
DESCRIPTION:1/1 VC VESELÍ - TJ Spartak Uh.Brod 2:1 (21\,-17\,3)
DTSTART;TZID=Europe/Berlin:20231209T090000
DTEND;TZID=Europe/Berlin:20231209T110000
LOCATION:Městská sportovní hala\, Kollárova 1660 Veselí nad Moravou
SUMMARY:ZLK-U16Z-3B: VC VESELÍ-TJ Spartak Uh.Brod
END:VEVENT
BEGIN:VEVENT
UID:62366364-3561-4737-b132-653536636439
DTSTAMP:20260422T165901Z
DESCRIPTION:4/8 TJ Slov.Slavia Uh.Hradiště B - TJ Spartak Uh.Brod 2:0 (22\,
 20)
DTSTART;TZID=Europe/Berlin:20231209T120000
DTEND;TZID=Europe/Berlin:20231209T140000
LOCATION:Městská sportovní hala\, Stonky 860 Uherské Hradiště
SUMMARY:ZLK-U16Z-3B: TJ Slov.Slavia Uh.Hradiště B-TJ Spartak Uh.Brod
END:VEVENT
BEGIN:VEVENT
UID:65333966-3833-4435-b836-393564303531
DTSTAMP:20260422T165901Z
DESCRIPTION:2/4 TJ Spartak Uh.Brod - TJ Bojkovice 2:1 (-18\,25\,18)
DTSTART;TZID=Europe/Berlin:20240114T100000
DTEND;TZID=Europe/Berlin:20240114T120000
LOCATION:TJ SPARTAK UHERSKÝ BROD z.s.\, U Stadionu 2295 Uherský Brod
SUMMARY:ZLK-U16Z-4C: TJ Spartak Uh.Brod-TJ Bojkovice
END:VEVENT
BEGIN:VEVENT
UID:39386230-3338-4266-b838-383539383433
DTSTAMP:20260422T165901Z
DESCRIPTION:5/9 TJ Spartak Uh.Brod - Brumov - Bylnice B 2:1 (18\,-17\,6)
DTSTART;TZID=Europe/Berlin:20240114T130000
DTEND;TZID=Europe/Berlin:20240114T150000
LOCATION:TJ SPARTAK UHERSKÝ BROD z.s.\, U Stadionu 2295 Uherský Brod
SUMMARY:ZLK-U16Z-4C: TJ Spartak Uh.Brod-Brumov - Bylnice B
END:VEVENT
BEGIN:VEVENT
UID:65663038-3933-4335-b834-313138653366
DTSTAMP:20260422T165901Z
DESCRIPTION:1/2 VC Kroměříž B - TJ Spartak Uh.Brod 2:0 (27\,18)
DTSTART;TZID=Europe/Berlin:20240114T090000
DTEND;TZID=Europe/Berlin:20240114T110000
LOCATION:ZŠ Slovan\, Zeyerova 3354 Kroměříž
SUMMARY:ZLK-U16Z-4C: VC Kroměříž B-TJ Spartak Uh.Brod
END:VEVENT
BEGIN:VEVENT
UID:63323732-3261-4435-b933-616237366366
DTSTAMP:20260422T165901Z
DESCRIPTION:3/5 TJ Sokol Střítež - TJ Spartak Uh.Brod 0:2 (-0\,-0)
DTSTART;TZID=Europe/Berlin:20240114T110000
DTEND;TZID=Europe/Berlin:20240114T130000
LOCATION:Sokolovna\,  Střítež nad Bečvou1
SUMMARY:ZLK-U16Z-4C: TJ Sokol Střítež-TJ Spartak Uh.Brod
END:VEVENT
BEGIN:VEVENT
UID:66626165-6236-4530-b137-656235376432
DTSTAMP:20260422T165901Z
DESCRIPTION:1/2 TJ Spartak Uh.Brod - VK Napajedla B 2:0 (19\,13)
DTSTART;TZID=Europe/Berlin:20240210T090000
DTEND;TZID=Europe/Berlin:20240210T110000
LOCATION:TJ SPARTAK UHERSKÝ BROD z.s.\, U Stadionu 2295 Uherský Brod
SUMMARY:ZLK-U16Z-5C: TJ Spartak Uh.Brod-VK Napajedla B
END:VEVENT
BEGIN:VEVENT
UID:63353438-3666-4066-a333-323066376666
DTSTAMP:20260422T165901Z
DESCRIPTION:4/7 TJ Spartak Uh.Brod - VK AUSTIN Vsetín 2:1 (-17\,13\,4)
DTSTART;TZID=Europe/Berlin:20240210T120000
DTEND;TZID=Europe/Berlin:20240210T140000
LOCATION:TJ SPARTAK UHERSKÝ BROD z.s.\, U Stadionu 2295 Uherský Brod
SUMMARY:ZLK-U16Z-5C: TJ Spartak Uh.Brod-VK AUSTIN Vsetín
END:VEVENT
BEGIN:VEVENT
UID:61356334-3937-4261-a661-323762643962
DTSTAMP:20260422T165901Z
DESCRIPTION:2/3 TJ Sokol Střítež - TJ Spartak Uh.Brod 0:2 (-19\,-14)
DTSTART;TZID=Europe/Berlin:20240210T100000
DTEND;TZID=Europe/Berlin:20240210T120000
LOCATION:Sokolovna\,  Střítež nad Bečvou1
SUMMARY:ZLK-U16Z-5C: TJ Sokol Střítež-TJ Spartak Uh.Brod
END:VEVENT
BEGIN:VEVENT
UID:66646439-3065-4661-b438-626433626433
DTSTAMP:20260422T165901Z
DESCRIPTION:5/10 Brumov - Bylnice B - TJ Spartak Uh.Brod 0:2 (-0\,-0)
DTSTART;TZID=Europe/Berlin:20240210T130000
DTEND;TZID=Europe/Berlin:20240210T150000
LOCATION:Sportovní hala Slavičín\, Školní 29 Slavičín
SUMMARY:ZLK-U16Z-5C: Brumov - Bylnice B-TJ Spartak Uh.Brod
END:VEVENT
BEGIN:VEVENT
UID:65363666-3037-4065-b138-323936333431
DTSTAMP:20260422T165901Z
DESCRIPTION:3/5 TJ Spartak Uh.Brod - VK Napajedla A 2:1 (-20\,16\,10)
DTSTART;TZID=Europe/Berlin:20240309T110000
DTEND;TZID=Europe/Berlin:20240309T130000
LOCATION:TJ SPARTAK UHERSKÝ BROD z.s.\, U Stadionu 2295 Uherský Brod
SUMMARY:ZLK-U16Z-6B: TJ Spartak Uh.Brod-VK Napajedla A
END:VEVENT
BEGIN:VEVENT
UID:66363263-3438-4536-b862-646365633233
DTSTAMP:20260422T165901Z
DESCRIPTION:5/10 TJ Spartak Uh.Brod - TJ Slov.Slavia Uh.Hradiště B 2:0 (20\
 ,3)
DTSTART;TZID=Europe/Berlin:20240309T130000
DTEND;TZID=Europe/Berlin:20240309T150000
LOCATION:TJ SPARTAK UHERSKÝ BROD z.s.\, U Stadionu 2295 Uherský Brod
SUMMARY:ZLK-U16Z-6B: TJ Spartak Uh.Brod-TJ Slov.Slavia Uh.Hradiště B
END:VEVENT
BEGIN:VEVENT
UID:66346439-3932-4461-a664-383739393065
DTSTAMP:20260422T165901Z
DESCRIPTION:1/1 SKV Hošťálková - TJ Spartak Uh.Brod 2:0 (22\,23)
DTSTART;TZID=Europe/Berlin:20240309T090000
DTEND;TZID=Europe/Berlin:20240309T110000
LOCATION:ZŠ Hošťálková \,  Hošťálková380
SUMMARY:ZLK-U16Z-6B: SKV Hošťálková-TJ Spartak Uh.Brod
END:VEVENT
BEGIN:VEVENT
UID:30386236-3331-4230-b138-363337656462
DTSTAMP:20260422T165901Z
DESCRIPTION:4/8 VK AUSTIN Vsetín - TJ Spartak Uh.Brod 2:1 (-24\,22\,13)
DTSTART;TZID=Europe/Berlin:20240309T120000
DTEND;TZID=Europe/Berlin:20240309T140000
LOCATION:Sportovní hala Na Lapači\, Na Lapači 247 Vsetín - Rokytnice
SUMMARY:ZLK-U16Z-6B: VK AUSTIN Vsetín-TJ Spartak Uh.Brod
END:VEVENT
END:VCALENDAR
