BEGIN:VCALENDAR
VERSION:2.0
PRODID:-//Volejbalová akademie mládeže Havířov, z.s. "B"82159//NONSGML kigkonsult.se iCalcreator 2.41.80//
CALSCALE:GREGORIAN
UID:36313461-6262-4538-b161-633034363630
BEGIN:VEVENT
UID:31363035-3934-4663-a533-396133303666
DTSTAMP:20260422T211512Z
DESCRIPTION:6/8 VAM Havířov 'B' - TJ S. St.Bělá 2:0 (15\,16)\no 7.místo
DTSTART;TZID=Europe/Berlin:20231008T163000
DTEND;TZID=Europe/Berlin:20231008T183000
LOCATION:Hala ZŠ Komenského\, Komenského 701 Bílovec
SUMMARY:MS-U16Z-KVB: VAM Havířov 'B'-TJ S. St.Bělá
END:VEVENT
BEGIN:VEVENT
UID:62303530-3336-4339-a362-323361636636
DTSTAMP:20260422T211512Z
DESCRIPTION:5/3 ŠSK Bílovec B - VAM Havířov 'B' 2:0 (23\,19)
DTSTART;TZID=Europe/Berlin:20231008T150000
DTEND;TZID=Europe/Berlin:20231008T170000
LOCATION:Hala ZŠ Komenského\, Komenského 701 Bílovec
SUMMARY:MS-U16Z-KVB: ŠSK Bílovec B-VAM Havířov 'B'
END:VEVENT
BEGIN:VEVENT
UID:66313932-3963-4038-b063-613731333030
DTSTAMP:20260422T211512Z
DESCRIPTION:1/1 ŠSK Bílovec A - VAM Havířov 'B' 2:0 (11\,10)
DTSTART;TZID=Europe/Berlin:20231008T090000
DTEND;TZID=Europe/Berlin:20231008T110000
LOCATION:Hala ZŠ Komenského\, Komenského 701 Bílovec
SUMMARY:MS-U16Z-KVB1: ŠSK Bílovec A-VAM Havířov 'B'
END:VEVENT
BEGIN:VEVENT
UID:31346238-3038-4737-b666-643866376336
DTSTAMP:20260422T211512Z
DESCRIPTION:2/3 TJ Ostrava B - VAM Havířov 'B' 2:0 (15\,15)
DTSTART;TZID=Europe/Berlin:20231008T103000
DTEND;TZID=Europe/Berlin:20231008T123000
LOCATION:Hala ZŠ Komenského\, Komenského 701 Bílovec
SUMMARY:MS-U16Z-KVB1: TJ Ostrava B-VAM Havířov 'B'
END:VEVENT
BEGIN:VEVENT
UID:37623838-3231-4766-b765-633765643861
DTSTAMP:20260422T211512Z
DESCRIPTION:3/6 SVK NJ C - VAM Havířov 'B' 2:0 (15\,21)
DTSTART;TZID=Europe/Berlin:20231008T120000
DTEND;TZID=Europe/Berlin:20231008T140000
LOCATION:Hala ZŠ Komenského\, Komenského 701 Bílovec
SUMMARY:MS-U16Z-KVB1: SVK NJ C-VAM Havířov 'B'
END:VEVENT
BEGIN:VEVENT
UID:38366234-3034-4866-a239-336637306538
DTSTAMP:20260422T211512Z
DESCRIPTION:1/2 VAM Havířov 'B' - VS Ostrava 'B' 1:2 (23\,-11\,-10)
DTSTART;TZID=Europe/Berlin:20231105T083000
DTEND;TZID=Europe/Berlin:20231105T103000
LOCATION:Sportovní hala Žákovská\, Komunardů 1548 Havířov - Město
SUMMARY:MS-U16Z-T1G: VAM Havířov 'B'-VS Ostrava 'B'
END:VEVENT
BEGIN:VEVENT
UID:34656531-3032-4938-a433-313765373066
DTSTAMP:20260422T211512Z
DESCRIPTION:2/3 VAM Havířov 'B' - TJ Hlučín\, 'B' 2:0 (12\,15)
DTSTART;TZID=Europe/Berlin:20231105T100000
DTEND;TZID=Europe/Berlin:20231105T120000
LOCATION:Sportovní hala Žákovská\, Komunardů 1548 Havířov - Město
SUMMARY:MS-U16Z-T1G: VAM Havířov 'B'-TJ Hlučín\, 'B'
END:VEVENT
BEGIN:VEVENT
UID:66316631-3862-4362-b135-646562343736
DTSTAMP:20260422T211512Z
DESCRIPTION:3/6 SVK NJ B - VAM Havířov 'B' 1:2 (19\,-25\,-19)
DTSTART;TZID=Europe/Berlin:20231105T113000
DTEND;TZID=Europe/Berlin:20231105T133000
LOCATION:Sportovní hala Žákovská\, Komunardů 1548 Havířov - Město
SUMMARY:MS-U16Z-T1G: SVK NJ B-VAM Havířov 'B'
END:VEVENT
BEGIN:VEVENT
UID:37393766-6265-4962-b865-343734366339
DTSTAMP:20260422T211512Z
DESCRIPTION:1/1 ŠSK Bílovec B - VAM Havířov 'B' 2:0 (14\,14)
DTSTART;TZID=Europe/Berlin:20231126T090000
DTEND;TZID=Europe/Berlin:20231126T110000
LOCATION:Hala ZŠ Komenského\, Komenského 701 Bílovec
SUMMARY:MS-U16Z-T2F: ŠSK Bílovec B-VAM Havířov 'B'
END:VEVENT
BEGIN:VEVENT
UID:65363633-3161-4561-b735-653538663739
DTSTAMP:20260422T211512Z
DESCRIPTION:3/4 VS Ostrava 'A' - VAM Havířov 'B' 2:0 (16\,11)
DTSTART;TZID=Europe/Berlin:20231126T120000
DTEND;TZID=Europe/Berlin:20231126T140000
LOCATION:Hala ZŠ Komenského\, Komenského 701 Bílovec
SUMMARY:MS-U16Z-T2F: VS Ostrava 'A'-VAM Havířov 'B'
END:VEVENT
BEGIN:VEVENT
UID:64333637-6433-4834-b566-646134393561
DTSTAMP:20260422T211512Z
DESCRIPTION:4/5 SVK NJ B - VAM Havířov 'B' 2:0 (20\,12)
DTSTART;TZID=Europe/Berlin:20231126T133000
DTEND;TZID=Europe/Berlin:20231126T153000
LOCATION:Hala ZŠ Komenského\, Komenského 701 Bílovec
SUMMARY:MS-U16Z-T2F: SVK NJ B-VAM Havířov 'B'
END:VEVENT
BEGIN:VEVENT
UID:66316430-3837-4337-b861-386338653739
DTSTAMP:20260422T211512Z
DESCRIPTION:1/2 VAM Havířov 'B' - VS Ostrava 'B' 2:1 (24\,-20\,9)
DTSTART;TZID=Europe/Berlin:20231217T090000
DTEND;TZID=Europe/Berlin:20231217T110000
LOCATION:Sportovní hala Žákovská\, Komunardů 1548 Havířov - Město
SUMMARY:MS-U16Z-T3G: VAM Havířov 'B'-VS Ostrava 'B'
END:VEVENT
BEGIN:VEVENT
UID:31396662-3362-4361-b038-326261663135
DTSTAMP:20260422T211512Z
DESCRIPTION:2/4 VAM Havířov 'B' - TJ Hlučín\, 'B' 2:1 (-22\,11\,11)
DTSTART;TZID=Europe/Berlin:20231217T103000
DTEND;TZID=Europe/Berlin:20231217T123000
LOCATION:Sportovní hala Žákovská\, Komunardů 1548 Havířov - Město
SUMMARY:MS-U16Z-T3G: VAM Havířov 'B'-TJ Hlučín\, 'B'
END:VEVENT
BEGIN:VEVENT
UID:38313932-3739-4433-a338-316564623030
DTSTAMP:20260422T211512Z
DESCRIPTION:3/5 VS Ostrava 'A' - VAM Havířov 'B' 2:0 (17\,23)
DTSTART;TZID=Europe/Berlin:20231217T120000
DTEND;TZID=Europe/Berlin:20231217T140000
LOCATION:Sportovní hala Žákovská\, Komunardů 1548 Havířov - Město
SUMMARY:MS-U16Z-T3G: VS Ostrava 'A'-VAM Havířov 'B'
END:VEVENT
BEGIN:VEVENT
UID:33663663-6539-4234-b531-396338396135
DTSTAMP:20260422T211512Z
DESCRIPTION:1/1 VK Karviná 'A' - VAM Havířov 'B' 2:1 (10\,-22\,9)
DTSTART;TZID=Europe/Berlin:20240114T090000
DTEND;TZID=Europe/Berlin:20240114T110000
LOCATION:Sportovní hala Žákovská\, Komunardů 1548 Havířov - Město
SUMMARY:MS-U16Z-T4F: VK Karviná 'A'-VAM Havířov 'B'
END:VEVENT
BEGIN:VEVENT
UID:33313035-3439-4539-b739-313138306136
DTSTAMP:20260422T211512Z
DESCRIPTION:3/4 TJ Sokol F-M B - VAM Havířov 'B' 1:2 (-23\,19\,-13)
DTSTART;TZID=Europe/Berlin:20240114T120000
DTEND;TZID=Europe/Berlin:20240114T140000
LOCATION:Sportovní hala Žákovská\, Komunardů 1548 Havířov - Město
SUMMARY:MS-U16Z-T4F: TJ Sokol F-M B-VAM Havířov 'B'
END:VEVENT
BEGIN:VEVENT
UID:65323739-6330-4765-a661-303834393037
DTSTAMP:20260422T211512Z
DESCRIPTION:4/5 VS Ostrava 'A' - VAM Havířov 'B' 2:0 (18\,10)
DTSTART;TZID=Europe/Berlin:20240114T133000
DTEND;TZID=Europe/Berlin:20240114T153000
LOCATION:Sportovní hala Žákovská\, Komunardů 1548 Havířov - Město
SUMMARY:MS-U16Z-T4F: VS Ostrava 'A'-VAM Havířov 'B'
END:VEVENT
BEGIN:VEVENT
UID:33373134-6539-4635-a565-393864643030
DTSTAMP:20260422T211512Z
DESCRIPTION:3/6 VAM Havířov 'B' - TJ Ostrava B 2:1 (10\,-18\,7)
DTSTART;TZID=Europe/Berlin:20240211T120000
DTEND;TZID=Europe/Berlin:20240211T140000
LOCATION:ZŠ Janáčkovo náměstí 17\, Janáčkovo náměstí 1970 Krnov - Pod Bezru
 čovým vrchem
SUMMARY:MS-U16Z-T5F: VAM Havířov 'B'-TJ Ostrava B
END:VEVENT
BEGIN:VEVENT
UID:37396337-6163-4462-a263-343739343634
DTSTAMP:20260422T211512Z
DESCRIPTION:1/2 VK Karviná 'A' - VAM Havířov 'B' 2:0 (17\,23)
DTSTART;TZID=Europe/Berlin:20240211T090000
DTEND;TZID=Europe/Berlin:20240211T110000
LOCATION:ZŠ Janáčkovo náměstí 17\, Janáčkovo náměstí 1970 Krnov - Pod Bezru
 čovým vrchem
SUMMARY:MS-U16Z-T5F: VK Karviná 'A'-VAM Havířov 'B'
END:VEVENT
BEGIN:VEVENT
UID:62636630-6332-4262-b363-376133363430
DTSTAMP:20260422T211512Z
DESCRIPTION:2/3 VO Sl. Orlice - VAM Havířov 'B' 2:0 (14\,18)
DTSTART;TZID=Europe/Berlin:20240211T103000
DTEND;TZID=Europe/Berlin:20240211T123000
LOCATION:ZŠ Janáčkovo náměstí 17\, Janáčkovo náměstí 1970 Krnov - Pod Bezru
 čovým vrchem
SUMMARY:MS-U16Z-T5F: VO Sl. Orlice-VAM Havířov 'B'
END:VEVENT
BEGIN:VEVENT
UID:61306536-6136-4261-a532-386237373165
DTSTAMP:20260422T211512Z
DESCRIPTION:2/2 VAM Havířov 'B' - TJ S. Vratimov 0:2 (-24\,-20)
DTSTART;TZID=Europe/Berlin:20240225T100000
DTEND;TZID=Europe/Berlin:20240225T120000
LOCATION:SŠSS Krakovská \, Krakovská 1095 Ostrava - Hrabůvka
SUMMARY:MS-U16Z-T6G: VAM Havířov 'B'-TJ S. Vratimov
END:VEVENT
BEGIN:VEVENT
UID:39323430-6431-4766-b033-323730373832
DTSTAMP:20260422T211512Z
DESCRIPTION:3/3 VAM Havířov 'B' - TJ Sokol F-M C 2:0 (26\,18)
DTSTART;TZID=Europe/Berlin:20240225T113000
DTEND;TZID=Europe/Berlin:20240225T133000
LOCATION:SŠSS Krakovská \, Krakovská 1095 Ostrava - Hrabůvka
SUMMARY:MS-U16Z-T6G: VAM Havířov 'B'-TJ Sokol F-M C
END:VEVENT
BEGIN:VEVENT
UID:30343362-3264-4935-b130-626566633033
DTSTAMP:20260422T211512Z
DESCRIPTION:6/6 VAM Havířov 'B' - VS Ostrava 'B' 0:2 (-17\,-20)
DTSTART;TZID=Europe/Berlin:20240225T160000
DTEND;TZID=Europe/Berlin:20240225T180000
LOCATION:SŠSS Krakovská \, Krakovská 1095 Ostrava - Hrabůvka
SUMMARY:MS-U16Z-T6G: VAM Havířov 'B'-VS Ostrava 'B'
END:VEVENT
BEGIN:VEVENT
UID:37393830-6434-4130-a232-383932633466
DTSTAMP:20260422T211512Z
DESCRIPTION:4/6 VAM Havířov 'B' - Sokol Poruba 0:2 (-21\,-18)
DTSTART;TZID=Europe/Berlin:20240324T133000
DTEND;TZID=Europe/Berlin:20240324T153000
LOCATION:Sportovní hala Žákovská\, Komunardů 1548 Havířov - Město
SUMMARY:MS-U16Z-T7G: VAM Havířov 'B'-Sokol Poruba
END:VEVENT
BEGIN:VEVENT
UID:33313265-3134-4738-b539-336131623364
DTSTAMP:20260422T211512Z
DESCRIPTION:1/2 TJ S. Vratimov - VAM Havířov 'B' 1:2 (-22\,24\,-7)
DTSTART;TZID=Europe/Berlin:20240324T090000
DTEND;TZID=Europe/Berlin:20240324T110000
LOCATION:Sportovní hala Žákovská\, Komunardů 1548 Havířov - Město
SUMMARY:MS-U16Z-T7G: TJ S. Vratimov-VAM Havířov 'B'
END:VEVENT
BEGIN:VEVENT
UID:65333036-3166-4639-b031-623362356230
DTSTAMP:20260422T211512Z
DESCRIPTION:2/3 TJ Ostrava B - VAM Havířov 'B' 2:1 (24\,-21\,10)
DTSTART;TZID=Europe/Berlin:20240324T103000
DTEND;TZID=Europe/Berlin:20240324T123000
LOCATION:Sportovní hala Žákovská\, Komunardů 1548 Havířov - Město
SUMMARY:MS-U16Z-T7G: TJ Ostrava B-VAM Havířov 'B'
END:VEVENT
END:VCALENDAR
