BEGIN:VCALENDAR
VERSION:2.0
PRODID:-//VSK Český Krumlov82160//NONSGML kigkonsult.se iCalcreator 2.41.80//
CALSCALE:GREGORIAN
UID:65663536-6461-4662-a439-323762353665
BEGIN:VEVENT
UID:66636566-3235-4466-b532-396137346161
DTSTAMP:20260422T033925Z
DESCRIPTION:1/1 VSK Český Krumlov - Volejbal Rudolfov B 2:0 (15\,21)
DTSTART;TZID=Europe/Berlin:20231001T100000
DTEND;TZID=Europe/Berlin:20231001T120000
LOCATION:ZŠ Za Nádražím Český Krumlov\, Za Nádražím 222 Český Krumlov - Nád
 ražní Předměstí
SUMMARY:JC-U14Z-Q-D: VSK Český Krumlov-Volejbal Rudolfov B
END:VEVENT
BEGIN:VEVENT
UID:30323532-3839-4162-b431-363365363132
DTSTAMP:20260422T033925Z
DESCRIPTION:1/2 VK Madeta B - VSK Český Krumlov 0:2 (-8\,-11)
DTSTART;TZID=Europe/Berlin:20231001T110000
DTEND;TZID=Europe/Berlin:20231001T130000
LOCATION:Sportovní hala\, Stromovka 1216 České Budějovice - České Budějovic
 e 2
SUMMARY:JC-U14Z-Q-D: VK Madeta B-VSK Český Krumlov
END:VEVENT
BEGIN:VEVENT
UID:35663636-3835-4163-a635-303335313563
DTSTAMP:20260422T033925Z
DESCRIPTION:1/6 VSK Český Krumlov - Volejbal Rudolfov A 0:2 (-22\,-21)
DTSTART;TZID=Europe/Berlin:20231105T140000
DTEND;TZID=Europe/Berlin:20231105T160000
LOCATION:ZŠ Za Nádražím Český Krumlov\, Za Nádražím 222 Český Krumlov - Nád
 ražní Předměstí
SUMMARY:JC-U14Z-1A: VSK Český Krumlov-Volejbal Rudolfov A
END:VEVENT
BEGIN:VEVENT
UID:33313661-6434-4362-b533-326339343761
DTSTAMP:20260422T033925Z
DESCRIPTION:1/2 Volejbal Tábor A - VSK Český Krumlov 0:2 (-18\,-24)
DTSTART;TZID=Europe/Berlin:20231105T100000
DTEND;TZID=Europe/Berlin:20231105T120000
LOCATION:Sportovní Hala Mír\, U Stadionu Míru 1579 Tábor
SUMMARY:JC-U14Z-1A: Volejbal Tábor A-VSK Český Krumlov
END:VEVENT
BEGIN:VEVENT
UID:33356438-3461-4530-b265-303731366337
DTSTAMP:20260422T033925Z
DESCRIPTION:1/3 VK Madeta A - VSK Český Krumlov 2:0 (18\,14)
DTSTART;TZID=Europe/Berlin:20231105T110000
DTEND;TZID=Europe/Berlin:20231105T130000
LOCATION:Sportovní hala\, Stromovka 1216 České Budějovice - České Budějovic
 e 2
SUMMARY:JC-U14Z-1A: VK Madeta A-VSK Český Krumlov
END:VEVENT
BEGIN:VEVENT
UID:32333835-6334-4866-b062-346135343839
DTSTAMP:20260422T033925Z
DESCRIPTION:1/6 VSK Český Krumlov - VK Madeta A 1:2 (22\,-19\,-11)
DTSTART;TZID=Europe/Berlin:20231203T140000
DTEND;TZID=Europe/Berlin:20231203T160000
LOCATION:ZŠ Za Nádražím Český Krumlov\, Za Nádražím 222 Český Krumlov - Nád
 ražní Předměstí
SUMMARY:JC-U14Z-2A: VSK Český Krumlov-VK Madeta A
END:VEVENT
BEGIN:VEVENT
UID:61333637-3636-4230-b639-383832623063
DTSTAMP:20260422T033925Z
DESCRIPTION:1/2 Volejbal Rudolfov B - VSK Český Krumlov 0:2 (-10\,-19)
DTSTART;TZID=Europe/Berlin:20231203T100000
DTEND;TZID=Europe/Berlin:20231203T120000
LOCATION:Sportovní hala Rudolfov\, Adamovská 511 Rudolfov
SUMMARY:JC-U14Z-2A: Volejbal Rudolfov B-VSK Český Krumlov
END:VEVENT
BEGIN:VEVENT
UID:61613237-3035-4632-b633-376238333832
DTSTAMP:20260422T033925Z
DESCRIPTION:1/3 Volejbal Rudolfov A - VSK Český Krumlov 2:0 (10\,21)
DTSTART;TZID=Europe/Berlin:20231203T110000
DTEND;TZID=Europe/Berlin:20231203T130000
LOCATION:Sportovní hala Rudolfov\, Adamovská 511 Rudolfov
SUMMARY:JC-U14Z-2A: Volejbal Rudolfov A-VSK Český Krumlov
END:VEVENT
BEGIN:VEVENT
UID:64633231-3439-4931-b432-373737373163
DTSTAMP:20260422T033925Z
DESCRIPTION:1/6 VSK Český Krumlov - Volejbal Tábor A 2:0 (13\,24)
DTSTART;TZID=Europe/Berlin:20240114T140000
DTEND;TZID=Europe/Berlin:20240114T160000
LOCATION:ZŠ Za Nádražím Český Krumlov\, Za Nádražím 222 Český Krumlov - Nád
 ražní Předměstí
SUMMARY:JC-U14Z-3A: VSK Český Krumlov-Volejbal Tábor A
END:VEVENT
BEGIN:VEVENT
UID:36316138-3931-4066-a332-623939343630
DTSTAMP:20260422T033925Z
DESCRIPTION:1/2 Volejbal Rudolfov A - VSK Český Krumlov 2:0 (15\,22)
DTSTART;TZID=Europe/Berlin:20240114T100000
DTEND;TZID=Europe/Berlin:20240114T120000
LOCATION:Sportovní hala Rudolfov\, Adamovská 511 Rudolfov
SUMMARY:JC-U14Z-3A: Volejbal Rudolfov A-VSK Český Krumlov
END:VEVENT
BEGIN:VEVENT
UID:31313362-3665-4463-b236-353531386434
DTSTAMP:20260422T033925Z
DESCRIPTION:1/3 VK Madeta A - VSK Český Krumlov 2:0 (21\,19)
DTSTART;TZID=Europe/Berlin:20240114T110000
DTEND;TZID=Europe/Berlin:20240114T130000
LOCATION:Sportovní hala\, Stromovka 1216 České Budějovice - České Budějovic
 e 2
SUMMARY:JC-U14Z-3A: VK Madeta A-VSK Český Krumlov
END:VEVENT
BEGIN:VEVENT
UID:64663165-3065-4639-a337-626666306237
DTSTAMP:20260422T033925Z
DESCRIPTION:1/6 VSK Český Krumlov - VK Madeta A 1:2 (20\,-13\,-4)
DTSTART;TZID=Europe/Berlin:20240225T140000
DTEND;TZID=Europe/Berlin:20240225T160000
LOCATION:ZŠ Za Nádražím Český Krumlov\, Za Nádražím 222 Český Krumlov - Nád
 ražní Předměstí
SUMMARY:JC-U14Z-4A: VSK Český Krumlov-VK Madeta A
END:VEVENT
BEGIN:VEVENT
UID:38646139-6134-4632-b861-303365663762
DTSTAMP:20260422T033925Z
DESCRIPTION:1/2 Volejbal Rudolfov A - VSK Český Krumlov 2:0 (10\,19)
DTSTART;TZID=Europe/Berlin:20240225T100000
DTEND;TZID=Europe/Berlin:20240225T120000
LOCATION:Sportovní hala Rudolfov\, Adamovská 511 Rudolfov
SUMMARY:JC-U14Z-4A: Volejbal Rudolfov A-VSK Český Krumlov
END:VEVENT
BEGIN:VEVENT
UID:36363039-3232-4631-a136-616566343664
DTSTAMP:20260422T033925Z
DESCRIPTION:1/3 Škola volejbalu A - VSK Český Krumlov 2:1 (20\,-24\,14)
DTSTART;TZID=Europe/Berlin:20240225T110000
DTEND;TZID=Europe/Berlin:20240225T130000
LOCATION:Sportovní hala Hrdějovice\,  Hrdějovice597
SUMMARY:JC-U14Z-4A: Škola volejbalu A-VSK Český Krumlov
END:VEVENT
END:VCALENDAR
