BEGIN:VCALENDAR
VERSION:2.0
PRODID:-//VK AUSTIN Vsetín z.s.82167//NONSGML kigkonsult.se iCalcreator 2.41.80//
CALSCALE:GREGORIAN
UID:31366663-3537-4563-b463-643562333437
BEGIN:VEVENT
UID:62303232-6232-4165-b935-613764616433
DTSTAMP:20260423T035353Z
DESCRIPTION:1/1 VK AUSTIN Vsetín - TJ Slov.Slavia Uh.Hradiště B 2:0 (17\,15
 )
DTSTART;TZID=Europe/Berlin:20230916T090000
DTEND;TZID=Europe/Berlin:20230916T110000
LOCATION:Sportovní hala Na Lapači\, Na Lapači 247 Vsetín - Rokytnice
SUMMARY:PZLK-U16Z-A: VK AUSTIN Vsetín-TJ Slov.Slavia Uh.Hradiště B
END:VEVENT
BEGIN:VEVENT
UID:65663466-3437-4164-b930-663239396639
DTSTAMP:20260423T035353Z
DESCRIPTION:2/4 VK AUSTIN Vsetín - Uherské Hradiště 0:2 (-17\,-13)
DTSTART;TZID=Europe/Berlin:20230916T100000
DTEND;TZID=Europe/Berlin:20230916T120000
LOCATION:Sportovní hala Na Lapači\, Na Lapači 247 Vsetín - Rokytnice
SUMMARY:PZLK-U16Z-A: VK AUSTIN Vsetín-Uherské Hradiště
END:VEVENT
BEGIN:VEVENT
UID:65393432-3230-4937-b966-366531313365
DTSTAMP:20260423T035353Z
DESCRIPTION:4/10 VK AUSTIN Vsetín - Brumov - Bylnice A 2:1 (-17\,10\,15)
DTSTART;TZID=Europe/Berlin:20230916T120000
DTEND;TZID=Europe/Berlin:20230916T140000
LOCATION:Sportovní hala Na Lapači\, Na Lapači 247 Vsetín - Rokytnice
SUMMARY:PZLK-U16Z-A: VK AUSTIN Vsetín-Brumov - Bylnice A
END:VEVENT
BEGIN:VEVENT
UID:33383439-6164-4064-b765-303466373565
DTSTAMP:20260423T035353Z
DESCRIPTION:3/7 Zlín - VK AUSTIN Vsetín 2:0 (10\,11)
DTSTART;TZID=Europe/Berlin:20230916T110000
DTEND;TZID=Europe/Berlin:20230916T130000
LOCATION:ZŠ Okružní Zlín\, Okružní 4685 Zlín
SUMMARY:PZLK-U16Z-A: Zlín-VK AUSTIN Vsetín
END:VEVENT
BEGIN:VEVENT
UID:64663331-3063-4331-b037-323561626261
DTSTAMP:20260423T035353Z
DESCRIPTION:5/13 SKV Hošťálková - VK AUSTIN Vsetín 2:1 (-21\,17\,13)
DTSTART;TZID=Europe/Berlin:20230916T130000
DTEND;TZID=Europe/Berlin:20230916T150000
LOCATION:ZŠ Hošťálková \,  Hošťálková380
SUMMARY:PZLK-U16Z-A: SKV Hošťálková-VK AUSTIN Vsetín
END:VEVENT
BEGIN:VEVENT
UID:66336663-6565-4531-b364-306634313366
DTSTAMP:20260423T035353Z
DESCRIPTION:2/3 VK AUSTIN Vsetín - TJ Spartak Uh.Brod 2:1 (-19\,14\,9)
DTSTART;TZID=Europe/Berlin:20231007T100000
DTEND;TZID=Europe/Berlin:20231007T120000
LOCATION:Sportovní hala Na Lapači\, Na Lapači 247 Vsetín - Rokytnice
SUMMARY:ZLK-U16Z-1B: VK AUSTIN Vsetín-TJ Spartak Uh.Brod
END:VEVENT
BEGIN:VEVENT
UID:30373566-3665-4633-b731-303165316435
DTSTAMP:20260423T035353Z
DESCRIPTION:4/8 VK AUSTIN Vsetín - VC VESELÍ 0:2 (-22\,-14)
DTSTART;TZID=Europe/Berlin:20231007T120000
DTEND;TZID=Europe/Berlin:20231007T140000
LOCATION:Sportovní hala Na Lapači\, Na Lapači 247 Vsetín - Rokytnice
SUMMARY:ZLK-U16Z-1B: VK AUSTIN Vsetín-VC VESELÍ
END:VEVENT
BEGIN:VEVENT
UID:30333061-6534-4136-b565-663362633335
DTSTAMP:20260423T035353Z
DESCRIPTION:3/6 VK Napajedla B - VK AUSTIN Vsetín 0:2 (-24\,-18)
DTSTART;TZID=Europe/Berlin:20231007T110000
DTEND;TZID=Europe/Berlin:20231007T130000
LOCATION:2.ZŠ Napajedla\, Komenského 298 Napajedla
SUMMARY:ZLK-U16Z-1B: VK Napajedla B-VK AUSTIN Vsetín
END:VEVENT
BEGIN:VEVENT
UID:30646531-3766-4230-b963-386239626565
DTSTAMP:20260423T035353Z
DESCRIPTION:5/9 Brumov - Bylnice A - VK AUSTIN Vsetín 2:0 (19\,18)
DTSTART;TZID=Europe/Berlin:20231007T130000
DTEND;TZID=Europe/Berlin:20231007T150000
LOCATION:Sportovní hala Slavičín\, Školní 29 Slavičín
SUMMARY:ZLK-U16Z-1B: Brumov - Bylnice A-VK AUSTIN Vsetín
END:VEVENT
BEGIN:VEVENT
UID:38343532-3437-4362-b835-336266386137
DTSTAMP:20260423T035353Z
DESCRIPTION:1/2 VK AUSTIN Vsetín - SKV Hošťálková 1:2 (-15\,14\,-11)
DTSTART;TZID=Europe/Berlin:20231014T090000
DTEND;TZID=Europe/Berlin:20231014T110000
LOCATION:Sportovní hala Na Lapači\, Na Lapači 247 Vsetín - Rokytnice
SUMMARY:ZLK-VT-U16Z-1A: VK AUSTIN Vsetín-SKV Hošťálková
END:VEVENT
BEGIN:VEVENT
UID:30623233-3766-4564-a166-613632333938
DTSTAMP:20260423T035353Z
DESCRIPTION:4/7 VK AUSTIN Vsetín - VC Kroměříž A 0:2 (-20\,-22)
DTSTART;TZID=Europe/Berlin:20231014T120000
DTEND;TZID=Europe/Berlin:20231014T140000
LOCATION:Sportovní hala Na Lapači\, Na Lapači 247 Vsetín - Rokytnice
SUMMARY:ZLK-VT-U16Z-1A: VK AUSTIN Vsetín-VC Kroměříž A
END:VEVENT
BEGIN:VEVENT
UID:35346338-6465-4537-b362-303839613235
DTSTAMP:20260423T035353Z
DESCRIPTION:2/3 TJ Sokol Střítež - VK AUSTIN Vsetín 1:2 (-17\,15\,-8)
DTSTART;TZID=Europe/Berlin:20231014T100000
DTEND;TZID=Europe/Berlin:20231014T120000
LOCATION:Sokolovna\,  Střítež nad Bečvou1
SUMMARY:ZLK-VT-U16Z-1A: TJ Sokol Střítež-VK AUSTIN Vsetín
END:VEVENT
BEGIN:VEVENT
UID:63313261-3732-4166-b764-326434386234
DTSTAMP:20260423T035353Z
DESCRIPTION:5/10 VC VESELÍ - VK AUSTIN Vsetín 2:1 (15\,-17\,9)
DTSTART;TZID=Europe/Berlin:20231014T130000
DTEND;TZID=Europe/Berlin:20231014T150000
LOCATION:Městská sportovní hala\, Kollárova 1660 Veselí nad Moravou
SUMMARY:ZLK-VT-U16Z-1A: VC VESELÍ-VK AUSTIN Vsetín
END:VEVENT
BEGIN:VEVENT
UID:62326330-3136-4330-b262-636266323531
DTSTAMP:20260423T035353Z
DESCRIPTION:2/5 VK AUSTIN Vsetín - TJ Slov.Slavia Uh.Hradiště B 2:0 (16\,18
 )
DTSTART;TZID=Europe/Berlin:20240406T100000
DTEND;TZID=Europe/Berlin:20240406T120000
LOCATION:Sportovní hala Na Lapači\, Na Lapači 247 Vsetín - Rokytnice
SUMMARY:PZLK-U16Z-2: VK AUSTIN Vsetín-TJ Slov.Slavia Uh.Hradiště B
END:VEVENT
BEGIN:VEVENT
UID:39643930-6263-4230-b666-623566323536
DTSTAMP:20260423T035353Z
DESCRIPTION:3/7 VK AUSTIN Vsetín - TJ Spartak Uh.Brod 2:0 (24\,24)
DTSTART;TZID=Europe/Berlin:20240406T110000
DTEND;TZID=Europe/Berlin:20240406T130000
LOCATION:Sportovní hala Na Lapači\, Na Lapači 247 Vsetín - Rokytnice
SUMMARY:PZLK-U16Z-2: VK AUSTIN Vsetín-TJ Spartak Uh.Brod
END:VEVENT
BEGIN:VEVENT
UID:62313162-3133-4235-b733-646464333239
DTSTAMP:20260423T035353Z
DESCRIPTION:5/15 VK AUSTIN Vsetín - Brumov - Bylnice A 2:0 (17\,18)
DTSTART;TZID=Europe/Berlin:20240406T130000
DTEND;TZID=Europe/Berlin:20240406T150000
LOCATION:Sportovní hala Na Lapači\, Na Lapači 247 Vsetín - Rokytnice
SUMMARY:PZLK-U16Z-2: VK AUSTIN Vsetín-Brumov - Bylnice A
END:VEVENT
BEGIN:VEVENT
UID:37336538-6665-4134-b638-656338616639
DTSTAMP:20260423T035353Z
DESCRIPTION:1/3 VK Napajedla B - VK AUSTIN Vsetín 0:2 (-11\,-15)
DTSTART;TZID=Europe/Berlin:20240406T090000
DTEND;TZID=Europe/Berlin:20240406T110000
LOCATION:2.ZŠ Napajedla\, Komenského 298 Napajedla
SUMMARY:PZLK-U16Z-2: VK Napajedla B-VK AUSTIN Vsetín
END:VEVENT
BEGIN:VEVENT
UID:32313539-6165-4632-b631-373661386661
DTSTAMP:20260423T035353Z
DESCRIPTION:4/11 VC VESELÍ - VK AUSTIN Vsetín 2:1 (-25\,23\,5)
DTSTART;TZID=Europe/Berlin:20240406T120000
DTEND;TZID=Europe/Berlin:20240406T140000
LOCATION:Městská sportovní hala\, Kollárova 1660 Veselí nad Moravou
SUMMARY:PZLK-U16Z-2: VC VESELÍ-VK AUSTIN Vsetín
END:VEVENT
BEGIN:VEVENT
UID:37333338-3430-4761-b838-376433636332
DTSTAMP:20260423T035353Z
DESCRIPTION:1/2 VK AUSTIN Vsetín - VC Kroměříž B 2:0 (24\,14)
DTSTART;TZID=Europe/Berlin:20231111T090000
DTEND;TZID=Europe/Berlin:20231111T110000
LOCATION:Sportovní hala Na Lapači\, Na Lapači 247 Vsetín - Rokytnice
SUMMARY:ZLK-U16Z-2B: VK AUSTIN Vsetín-VC Kroměříž B
END:VEVENT
BEGIN:VEVENT
UID:63636231-3832-4062-b866-303939666464
DTSTAMP:20260423T035353Z
DESCRIPTION:4/7 VK AUSTIN Vsetín - SKV Hošťálková 2:0 (24\,16)
DTSTART;TZID=Europe/Berlin:20231111T120000
DTEND;TZID=Europe/Berlin:20231111T140000
LOCATION:Sportovní hala Na Lapači\, Na Lapači 247 Vsetín - Rokytnice
SUMMARY:ZLK-U16Z-2B: VK AUSTIN Vsetín-SKV Hošťálková
END:VEVENT
BEGIN:VEVENT
UID:31643061-3939-4430-b836-373862343232
DTSTAMP:20260423T035353Z
DESCRIPTION:2/3 TJ Bojkovice - VK AUSTIN Vsetín 2:0 (17\,19)
DTSTART;TZID=Europe/Berlin:20231111T100000
DTEND;TZID=Europe/Berlin:20231111T120000
LOCATION:ZŠ TGM Bojkovice\, Štefánikova 460 Bojkovice
SUMMARY:ZLK-U16Z-2B: TJ Bojkovice-VK AUSTIN Vsetín
END:VEVENT
BEGIN:VEVENT
UID:66663165-3934-4163-a561-656638343635
DTSTAMP:20260423T035353Z
DESCRIPTION:5/10 VAM Olomouc - VK AUSTIN Vsetín 2:0 (11\,15)
DTSTART;TZID=Europe/Berlin:20231111T130000
DTEND;TZID=Europe/Berlin:20231111T150000
LOCATION:VOŠ a SPŠE Olomouc\, Božetěchova 755 Olomouc - Hodolany
SUMMARY:ZLK-U16Z-2B: VAM Olomouc-VK AUSTIN Vsetín
END:VEVENT
BEGIN:VEVENT
UID:39623236-3231-4633-a430-313266626563
DTSTAMP:20260423T035353Z
DESCRIPTION:2/4 VK AUSTIN Vsetín - TJ Sokol Střítež 2:0 (24\,20)
DTSTART;TZID=Europe/Berlin:20231126T100000
DTEND;TZID=Europe/Berlin:20231126T120000
LOCATION:Sportovní hala Na Lapači\, Na Lapači 247 Vsetín - Rokytnice
SUMMARY:ZLK-VT-U16Z-2B: VK AUSTIN Vsetín-TJ Sokol Střítež
END:VEVENT
BEGIN:VEVENT
UID:38303434-3339-4137-b536-356466373634
DTSTAMP:20260423T035353Z
DESCRIPTION:5/9 VK AUSTIN Vsetín - TJ Slov.Slavia Uh.Hradiště B 2:0 (13\,11
 )
DTSTART;TZID=Europe/Berlin:20231126T130000
DTEND;TZID=Europe/Berlin:20231126T150000
LOCATION:Sportovní hala Na Lapači\, Na Lapači 247 Vsetín - Rokytnice
SUMMARY:ZLK-VT-U16Z-2B: VK AUSTIN Vsetín-TJ Slov.Slavia Uh.Hradiště B
END:VEVENT
BEGIN:VEVENT
UID:30626366-3262-4139-b463-343635356163
DTSTAMP:20260423T035353Z
DESCRIPTION:1/2 Brumov - Bylnice A - VK AUSTIN Vsetín 2:1 (-19\,19\,13)
DTSTART;TZID=Europe/Berlin:20231126T090000
DTEND;TZID=Europe/Berlin:20231126T110000
LOCATION:Sportovní hala Slavičín Školní 29 Slavičín
SUMMARY:ZLK-VT-U16Z-2B: Brumov - Bylnice A-VK AUSTIN Vsetín
END:VEVENT
BEGIN:VEVENT
UID:64343966-3561-4932-b164-323038613761
DTSTAMP:20260423T035353Z
DESCRIPTION:3/5 VK Napajedla B - VK AUSTIN Vsetín 0:2 (-10\,-7)
DTSTART;TZID=Europe/Berlin:20231126T110000
DTEND;TZID=Europe/Berlin:20231126T130000
LOCATION:2.ZŠ Napajedla\, Komenského 298 Napajedla
SUMMARY:ZLK-VT-U16Z-2B: VK Napajedla B-VK AUSTIN Vsetín
END:VEVENT
BEGIN:VEVENT
UID:35366134-6466-4166-b635-303836643634
DTSTAMP:20260423T035353Z
DESCRIPTION:1/1 VK AUSTIN Vsetín - VK Napajedla B 2:0 (22\,7)
DTSTART;TZID=Europe/Berlin:20231209T090000
DTEND;TZID=Europe/Berlin:20231209T110000
LOCATION:Sportovní hala Na Lapači\, Na Lapači 247 Vsetín - Rokytnice
SUMMARY:ZLK-U16Z-3C: VK AUSTIN Vsetín-VK Napajedla B
END:VEVENT
BEGIN:VEVENT
UID:34373439-6536-4333-b433-616539613339
DTSTAMP:20260423T035353Z
DESCRIPTION:3/6 VK AUSTIN Vsetín - Brumov - Bylnice B 2:0 (14\,7)
DTSTART;TZID=Europe/Berlin:20231209T110000
DTEND;TZID=Europe/Berlin:20231209T130000
LOCATION:Sportovní hala Na Lapači\, Na Lapači 247 Vsetín - Rokytnice
SUMMARY:ZLK-U16Z-3C: VK AUSTIN Vsetín-Brumov - Bylnice B
END:VEVENT
BEGIN:VEVENT
UID:32303435-6162-4166-b464-646463653764
DTSTAMP:20260423T035353Z
DESCRIPTION:2/4 VC Kroměříž B - VK AUSTIN Vsetín 0:2 (-20\,-10)
DTSTART;TZID=Europe/Berlin:20231209T100000
DTEND;TZID=Europe/Berlin:20231209T120000
LOCATION:ZŠ Slovan\, Zeyerova 3354 Kroměříž
SUMMARY:ZLK-U16Z-3C: VC Kroměříž B-VK AUSTIN Vsetín
END:VEVENT
BEGIN:VEVENT
UID:36653438-6163-4235-b865-333334666139
DTSTAMP:20260423T035353Z
DESCRIPTION:4/7 TJ Sokol Střítež - VK AUSTIN Vsetín 0:2 (-11\,-10)
DTSTART;TZID=Europe/Berlin:20231209T120000
DTEND;TZID=Europe/Berlin:20231209T140000
LOCATION:Sokolovna\,  Střítež nad Bečvou1
SUMMARY:ZLK-U16Z-3C: TJ Sokol Střítež-VK AUSTIN Vsetín
END:VEVENT
BEGIN:VEVENT
UID:63663539-3466-4635-b331-646264663661
DTSTAMP:20260423T035353Z
DESCRIPTION:2/3 VK AUSTIN Vsetín - VAM Olomouc 0:2 (-11\,-18)
DTSTART;TZID=Europe/Berlin:20240121T100000
DTEND;TZID=Europe/Berlin:20240121T120000
LOCATION:Sportovní hala Na Lapači\, Na Lapači 247 Vsetín - Rokytnice
SUMMARY:ZLK-VT-U16Z-3A: VK AUSTIN Vsetín-VAM Olomouc
END:VEVENT
BEGIN:VEVENT
UID:65623534-3837-4534-b432-333766626261
DTSTAMP:20260423T035353Z
DESCRIPTION:4/8 VK AUSTIN Vsetín - Brumov - Bylnice A 2:0 (18\,23)
DTSTART;TZID=Europe/Berlin:20240121T120000
DTEND;TZID=Europe/Berlin:20240121T140000
LOCATION:Sportovní hala Na Lapači\, Na Lapači 247 Vsetín - Rokytnice
SUMMARY:ZLK-VT-U16Z-3A: VK AUSTIN Vsetín-Brumov - Bylnice A
END:VEVENT
BEGIN:VEVENT
UID:37616137-3236-4165-b639-313535613933
DTSTAMP:20260423T035353Z
DESCRIPTION:3/6 KV Kopřivnice - VK AUSTIN Vsetín 2:0 (9\,23)
DTSTART;TZID=Europe/Berlin:20240121T110000
DTEND;TZID=Europe/Berlin:20240121T130000
SUMMARY:ZLK-VT-U16Z-3A: KV Kopřivnice-VK AUSTIN Vsetín
END:VEVENT
BEGIN:VEVENT
UID:62616666-3932-4063-a461-663034636634
DTSTAMP:20260423T035353Z
DESCRIPTION:5/9 VC Kroměříž A - VK AUSTIN Vsetín 0:2 (-20\,-21)
DTSTART;TZID=Europe/Berlin:20240121T130000
DTEND;TZID=Europe/Berlin:20240121T150000
LOCATION:ZŠ Zachar\, Albertova 4062 Kroměříž
SUMMARY:ZLK-VT-U16Z-3A: VC Kroměříž A-VK AUSTIN Vsetín
END:VEVENT
BEGIN:VEVENT
UID:37316231-3936-4133-b439-353163313164
DTSTAMP:20260423T035353Z
DESCRIPTION:3/5 VK AUSTIN Vsetín - SKV Hošťálková 0:2 (-23\,-18)
DTSTART;TZID=Europe/Berlin:20240113T110000
DTEND;TZID=Europe/Berlin:20240113T130000
LOCATION:Sportovní hala Na Lapači\, Na Lapači 247 Vsetín - Rokytnice
SUMMARY:ZLK-U16Z-4B: VK AUSTIN Vsetín-SKV Hošťálková
END:VEVENT
BEGIN:VEVENT
UID:36333932-3462-4431-a630-633638323335
DTSTAMP:20260423T035353Z
DESCRIPTION:5/10 VK AUSTIN Vsetín - TJ Slov.Slavia Uh.Hradiště B 2:0 (23\,1
 9)
DTSTART;TZID=Europe/Berlin:20240113T130000
DTEND;TZID=Europe/Berlin:20240113T150000
LOCATION:Sportovní hala Na Lapači\, Na Lapači 247 Vsetín - Rokytnice
SUMMARY:ZLK-U16Z-4B: VK AUSTIN Vsetín-TJ Slov.Slavia Uh.Hradiště B
END:VEVENT
BEGIN:VEVENT
UID:35633734-6265-4366-b733-666264636135
DTSTAMP:20260423T035353Z
DESCRIPTION:1/1 VK Napajedla A - VK AUSTIN Vsetín 2:0 (15\,23)
DTSTART;TZID=Europe/Berlin:20240113T090000
DTEND;TZID=Europe/Berlin:20240113T110000
LOCATION:2.ZŠ Napajedla\, Komenského 298 Napajedla
SUMMARY:ZLK-U16Z-4B: VK Napajedla A-VK AUSTIN Vsetín
END:VEVENT
BEGIN:VEVENT
UID:38343764-6462-4961-b765-326430323838
DTSTAMP:20260423T035353Z
DESCRIPTION:4/8 VK Napajedla B - VK AUSTIN Vsetín 0:2 (-15\,-16)
DTSTART;TZID=Europe/Berlin:20240113T120000
DTEND;TZID=Europe/Berlin:20240113T140000
LOCATION:2.ZŠ Napajedla\, Komenského 298 Napajedla
SUMMARY:ZLK-U16Z-4B: VK Napajedla B-VK AUSTIN Vsetín
END:VEVENT
BEGIN:VEVENT
UID:61643739-3137-4133-a631-636136396633
DTSTAMP:20260423T035353Z
DESCRIPTION:1/1 VK AUSTIN Vsetín - Brumov - Bylnice B 2:0 (0\,0)
DTSTART;TZID=Europe/Berlin:20240210T090000
DTEND;TZID=Europe/Berlin:20240210T110000
LOCATION:Sportovní hala Na Lapači\, Na Lapači 247 Vsetín - Rokytnice
SUMMARY:ZLK-U16Z-5C: VK AUSTIN Vsetín-Brumov - Bylnice B
END:VEVENT
BEGIN:VEVENT
UID:39363431-6237-4032-b265-356166616636
DTSTAMP:20260423T035353Z
DESCRIPTION:3/6 VK AUSTIN Vsetín - TJ Sokol Střítež 2:0 (15\,16)
DTSTART;TZID=Europe/Berlin:20240210T110000
DTEND;TZID=Europe/Berlin:20240210T130000
LOCATION:Sportovní hala Na Lapači\, Na Lapači 247 Vsetín - Rokytnice
SUMMARY:ZLK-U16Z-5C: VK AUSTIN Vsetín-TJ Sokol Střítež
END:VEVENT
BEGIN:VEVENT
UID:66656233-3231-4137-a636-323037373361
DTSTAMP:20260423T035353Z
DESCRIPTION:2/4 VK Napajedla B - VK AUSTIN Vsetín 0:2 (-21\,-15)
DTSTART;TZID=Europe/Berlin:20240210T100000
DTEND;TZID=Europe/Berlin:20240210T120000
LOCATION:2.ZŠ Napajedla\, Komenského 298 Napajedla
SUMMARY:ZLK-U16Z-5C: VK Napajedla B-VK AUSTIN Vsetín
END:VEVENT
BEGIN:VEVENT
UID:30373335-3261-4662-b732-343064366261
DTSTAMP:20260423T035353Z
DESCRIPTION:4/7 TJ Spartak Uh.Brod - VK AUSTIN Vsetín 2:1 (-17\,13\,4)
DTSTART;TZID=Europe/Berlin:20240210T120000
DTEND;TZID=Europe/Berlin:20240210T140000
LOCATION:TJ SPARTAK UHERSKÝ BROD z.s.\, U Stadionu 2295 Uherský Brod
SUMMARY:ZLK-U16Z-5C: TJ Spartak Uh.Brod-VK AUSTIN Vsetín
END:VEVENT
BEGIN:VEVENT
UID:34656334-6338-4534-a130-393365383166
DTSTAMP:20260423T035353Z
DESCRIPTION:1/2 VK AUSTIN Vsetín - KV Kopřivnice 0:2 (-21\,-22)
DTSTART;TZID=Europe/Berlin:20240316T090000
DTEND;TZID=Europe/Berlin:20240316T110000
LOCATION:Sportovní hala Na Lapači\, Na Lapači 247 Vsetín - Rokytnice
SUMMARY:ZLK-VT-U16Z-4A: VK AUSTIN Vsetín-KV Kopřivnice
END:VEVENT
BEGIN:VEVENT
UID:62613639-3034-4135-a534-386163633663
DTSTAMP:20260423T035353Z
DESCRIPTION:4/7 VK AUSTIN Vsetín - VAM Olomouc 0:2 (-13\,-8)
DTSTART;TZID=Europe/Berlin:20240316T120000
DTEND;TZID=Europe/Berlin:20240316T140000
LOCATION:Sportovní hala Na Lapači\, Na Lapači 247 Vsetín - Rokytnice
SUMMARY:ZLK-VT-U16Z-4A: VK AUSTIN Vsetín-VAM Olomouc
END:VEVENT
BEGIN:VEVENT
UID:35336464-3130-4239-b436-333132653038
DTSTAMP:20260423T035353Z
DESCRIPTION:2/3 TJ Slov.Slavia Uh.Hradiště B - VK AUSTIN Vsetín 1:2 (25\,-2
 3\,-10)
DTSTART;TZID=Europe/Berlin:20240316T100000
DTEND;TZID=Europe/Berlin:20240316T120000
LOCATION:Městská sportovní hala\, Stonky 860 Uherské Hradiště
SUMMARY:ZLK-VT-U16Z-4A: TJ Slov.Slavia Uh.Hradiště B-VK AUSTIN Vsetín
END:VEVENT
BEGIN:VEVENT
UID:36346231-6361-4330-b732-333537343961
DTSTAMP:20260423T035353Z
DESCRIPTION:5/10 VC VESELÍ - VK AUSTIN Vsetín 0:2 (-15\,-13)
DTSTART;TZID=Europe/Berlin:20240316T130000
DTEND;TZID=Europe/Berlin:20240316T150000
LOCATION:Městská sportovní hala\, Kollárova 1660 Veselí nad Moravou
SUMMARY:ZLK-VT-U16Z-4A: VC VESELÍ-VK AUSTIN Vsetín
END:VEVENT
BEGIN:VEVENT
UID:63616563-3034-4863-b733-346437663935
DTSTAMP:20260423T035353Z
DESCRIPTION:2/3 VK AUSTIN Vsetín - TJ Slov.Slavia Uh.Hradiště B 2:1 (-24\,2
 7\,13)
DTSTART;TZID=Europe/Berlin:20240309T100000
DTEND;TZID=Europe/Berlin:20240309T120000
LOCATION:Sportovní hala Na Lapači\, Na Lapači 247 Vsetín - Rokytnice
SUMMARY:ZLK-U16Z-6B: VK AUSTIN Vsetín-TJ Slov.Slavia Uh.Hradiště B
END:VEVENT
BEGIN:VEVENT
UID:39383130-6133-4466-b130-323733383363
DTSTAMP:20260423T035353Z
DESCRIPTION:4/8 VK AUSTIN Vsetín - TJ Spartak Uh.Brod 2:1 (-24\,22\,13)
DTSTART;TZID=Europe/Berlin:20240309T120000
DTEND;TZID=Europe/Berlin:20240309T140000
LOCATION:Sportovní hala Na Lapači\, Na Lapači 247 Vsetín - Rokytnice
SUMMARY:ZLK-U16Z-6B: VK AUSTIN Vsetín-TJ Spartak Uh.Brod
END:VEVENT
BEGIN:VEVENT
UID:38616339-3038-4661-b831-313234383933
DTSTAMP:20260423T035353Z
DESCRIPTION:3/6 SKV Hošťálková - VK AUSTIN Vsetín 2:0 (15\,26)
DTSTART;TZID=Europe/Berlin:20240309T110000
DTEND;TZID=Europe/Berlin:20240309T130000
LOCATION:ZŠ Hošťálková \,  Hošťálková380
SUMMARY:ZLK-U16Z-6B: SKV Hošťálková-VK AUSTIN Vsetín
END:VEVENT
BEGIN:VEVENT
UID:63653563-6564-4032-b034-306163366334
DTSTAMP:20260423T035353Z
DESCRIPTION:5/9 VK Napajedla A - VK AUSTIN Vsetín 0:2 (-11\,-18)
DTSTART;TZID=Europe/Berlin:20240309T130000
DTEND;TZID=Europe/Berlin:20240309T150000
LOCATION:2.ZŠ Napajedla\, Komenského 298 Napajedla
SUMMARY:ZLK-U16Z-6B: VK Napajedla A-VK AUSTIN Vsetín
END:VEVENT
END:VCALENDAR
