BEGIN:VCALENDAR
VERSION:2.0
PRODID:-//VK AUSTIN Vsetín z.s.82168//NONSGML kigkonsult.se iCalcreator 2.41.80//
CALSCALE:GREGORIAN
UID:63366632-3634-4335-a563-386538653833
BEGIN:VEVENT
UID:37643564-6664-4464-a533-386463376334
DTSTAMP:20260423T042807Z
DESCRIPTION:3/10 VK AUSTIN Vsetín - VK Napajedla 3:0 (13\,21\,20)
DTSTART;TZID=Europe/Berlin:20231014T100000
DTEND;TZID=Europe/Berlin:20231014T120000
LOCATION:Sportovní hala Na Lapači\, Na Lapači 247 Vsetín - Rokytnice
SUMMARY:ZLK-Z: VK AUSTIN Vsetín-VK Napajedla
END:VEVENT
BEGIN:VEVENT
UID:39353636-3265-4932-b064-333634656436
DTSTAMP:20260423T042807Z
DESCRIPTION:4/14 VK AUSTIN Vsetín - VK Napajedla 3:0 (19\,27\,15)
DTSTART;TZID=Europe/Berlin:20231014T130000
DTEND;TZID=Europe/Berlin:20231014T150000
LOCATION:Sportovní hala Na Lapači\, Na Lapači 247 Vsetín - Rokytnice
SUMMARY:ZLK-Z: VK AUSTIN Vsetín-VK Napajedla
END:VEVENT
BEGIN:VEVENT
UID:38643863-3336-4335-b562-336164346563
DTSTAMP:20260423T042807Z
DESCRIPTION:9/36 VK AUSTIN Vsetín - Uherské Hradiště 3:2 (16\,-22\,-25\,21\
 ,11)
DTSTART;TZID=Europe/Berlin:20231112T100000
DTEND;TZID=Europe/Berlin:20231112T120000
LOCATION:Sportovní hala Na Lapači\, Na Lapači 247 Vsetín - Rokytnice
SUMMARY:ZLK-Z: VK AUSTIN Vsetín-Uherské Hradiště
END:VEVENT
BEGIN:VEVENT
UID:30383533-6139-4631-a639-326464383861
DTSTAMP:20260423T042807Z
DESCRIPTION:10/40 VK AUSTIN Vsetín - Uherské Hradiště 1:3 (-24\,-19\,19\,-2
 3)
DTSTART;TZID=Europe/Berlin:20231112T130000
DTEND;TZID=Europe/Berlin:20231112T150000
LOCATION:Sportovní hala Na Lapači\, Na Lapači 247 Vsetín - Rokytnice
SUMMARY:ZLK-Z: VK AUSTIN Vsetín-Uherské Hradiště
END:VEVENT
BEGIN:VEVENT
UID:32343330-6264-4561-b166-333565633033
DTSTAMP:20260423T042807Z
DESCRIPTION:13/51 VK AUSTIN Vsetín - SKV Hošťálková 3:1 (-18\,10\,13\,16)
DTSTART;TZID=Europe/Berlin:20231201T160000
DTEND;TZID=Europe/Berlin:20231201T180000
LOCATION:Sportovní hala Na Lapači\, Na Lapači 247 Vsetín - Rokytnice
SUMMARY:ZLK-Z: VK AUSTIN Vsetín-SKV Hošťálková
END:VEVENT
BEGIN:VEVENT
UID:34363539-6231-4637-b634-666532306266
DTSTAMP:20260423T042807Z
DESCRIPTION:14/55 VK AUSTIN Vsetín - SKV Hošťálková 3:1 (21\,-19\,17\,14)
DTSTART;TZID=Europe/Berlin:20231201T180000
DTEND;TZID=Europe/Berlin:20231201T200000
LOCATION:Sportovní hala Na Lapači\, Na Lapači 247 Vsetín - Rokytnice
SUMMARY:ZLK-Z: VK AUSTIN Vsetín-SKV Hošťálková
END:VEVENT
BEGIN:VEVENT
UID:33363363-3830-4635-b065-383164613365
DTSTAMP:20260423T042807Z
DESCRIPTION:15/59 VK AUSTIN Vsetín - TJ Nivnice 3:0 (18\,15\,10)
DTSTART;TZID=Europe/Berlin:20240113T100000
DTEND;TZID=Europe/Berlin:20240113T120000
LOCATION:Sportovní hala Na Lapači\, Na Lapači 247 Vsetín - Rokytnice
SUMMARY:ZLK-Z: VK AUSTIN Vsetín-TJ Nivnice
END:VEVENT
BEGIN:VEVENT
UID:37353630-6438-4332-a431-653161303130
DTSTAMP:20260423T042807Z
DESCRIPTION:16/63 VK AUSTIN Vsetín - TJ Nivnice 3:0 (6\,8\,16)
DTSTART;TZID=Europe/Berlin:20240113T130000
DTEND;TZID=Europe/Berlin:20240113T150000
LOCATION:Sportovní hala Na Lapači\, Na Lapači 247 Vsetín - Rokytnice
SUMMARY:ZLK-Z: VK AUSTIN Vsetín-TJ Nivnice
END:VEVENT
BEGIN:VEVENT
UID:39326262-6564-4238-b932-633563643639
DTSTAMP:20260423T042807Z
DESCRIPTION:19/76 VK AUSTIN Vsetín - TJ Bojkovice 3:0 (14\,22\,11)
DTSTART;TZID=Europe/Berlin:20240127T100000
DTEND;TZID=Europe/Berlin:20240127T120000
LOCATION:Sportovní hala Na Lapači\, Na Lapači 247 Vsetín - Rokytnice
SUMMARY:ZLK-Z: VK AUSTIN Vsetín-TJ Bojkovice
END:VEVENT
BEGIN:VEVENT
UID:31373961-3663-4664-b366-363937643863
DTSTAMP:20260423T042807Z
DESCRIPTION:20/80 VK AUSTIN Vsetín - TJ Bojkovice 3:0 (9\,18\,14)
DTSTART;TZID=Europe/Berlin:20240127T130000
DTEND;TZID=Europe/Berlin:20240127T150000
LOCATION:Sportovní hala Na Lapači\, Na Lapači 247 Vsetín - Rokytnice
SUMMARY:ZLK-Z: VK AUSTIN Vsetín-TJ Bojkovice
END:VEVENT
BEGIN:VEVENT
UID:35666230-3466-4235-a338-343661383364
DTSTAMP:20260423T042807Z
DESCRIPTION:25/98 VK AUSTIN Vsetín - TJ Spartak Uh.Brod 3:1 (-16\,18\,22\,1
 5)
DTSTART;TZID=Europe/Berlin:20240303T090000
DTEND;TZID=Europe/Berlin:20240303T110000
LOCATION:Sportovní hala Na Lapači\, Na Lapači 247 Vsetín - Rokytnice
SUMMARY:ZLK-Z: VK AUSTIN Vsetín-TJ Spartak Uh.Brod
END:VEVENT
BEGIN:VEVENT
UID:61363232-3232-4935-a665-383231653463
DTSTAMP:20260423T042807Z
DESCRIPTION:26/102 VK AUSTIN Vsetín - TJ Spartak Uh.Brod 3:0 (13\,22\,11)
DTSTART;TZID=Europe/Berlin:20240303T120000
DTEND;TZID=Europe/Berlin:20240303T140000
LOCATION:Sportovní hala Na Lapači\, Na Lapači 247 Vsetín - Rokytnice
SUMMARY:ZLK-Z: VK AUSTIN Vsetín-TJ Spartak Uh.Brod
END:VEVENT
BEGIN:VEVENT
UID:32356634-6265-4234-b936-323334326131
DTSTAMP:20260423T042807Z
DESCRIPTION:1/3 TJ Nivnice - VK AUSTIN Vsetín 0:3 (-13\,-17\,-14)
DTSTART;TZID=Europe/Berlin:20231007T100000
DTEND;TZID=Europe/Berlin:20231007T120000
LOCATION:Sportovní hala Nivnice\, Podohradí 888 Nivnice
SUMMARY:ZLK-Z: TJ Nivnice-VK AUSTIN Vsetín
END:VEVENT
BEGIN:VEVENT
UID:32386665-6634-4763-b936-376135643437
DTSTAMP:20260423T042807Z
DESCRIPTION:2/7 TJ Nivnice - VK AUSTIN Vsetín 0:3 (-12\,-21\,-14)
DTSTART;TZID=Europe/Berlin:20231007T130000
DTEND;TZID=Europe/Berlin:20231007T150000
LOCATION:Sportovní hala Nivnice\, Podohradí 888 Nivnice
SUMMARY:ZLK-Z: TJ Nivnice-VK AUSTIN Vsetín
END:VEVENT
BEGIN:VEVENT
UID:31623465-6566-4536-a134-366532383065
DTSTAMP:20260423T042807Z
DESCRIPTION:5/20 TJ Bojkovice - VK AUSTIN Vsetín 0:3 (-18\,-14\,-13)
DTSTART;TZID=Europe/Berlin:20231001T100000
DTEND;TZID=Europe/Berlin:20231001T120000
LOCATION:ZŠ TGM Bojkovice\, Štefánikova 460 Bojkovice
SUMMARY:ZLK-Z: TJ Bojkovice-VK AUSTIN Vsetín
END:VEVENT
BEGIN:VEVENT
UID:32666434-3964-4963-b333-383964396535
DTSTAMP:20260423T042807Z
DESCRIPTION:6/24 TJ Bojkovice - VK AUSTIN Vsetín 1:3 (-8\,-20\,21\,-12)
DTSTART;TZID=Europe/Berlin:20231001T130000
DTEND;TZID=Europe/Berlin:20231001T150000
LOCATION:ZŠ TGM Bojkovice\, Štefánikova 460 Bojkovice
SUMMARY:ZLK-Z: TJ Bojkovice-VK AUSTIN Vsetín
END:VEVENT
BEGIN:VEVENT
UID:34623133-3930-4539-b066-376136343936
DTSTAMP:20260423T042807Z
DESCRIPTION:11/42 TJ Spartak Uh.Brod - VK AUSTIN Vsetín 0:3 (-19\,-17\,-18)
DTSTART;TZID=Europe/Berlin:20231119T100000
DTEND;TZID=Europe/Berlin:20231119T120000
LOCATION:TJ SPARTAK UHERSKÝ BROD z.s.\, U Stadionu 2295 Uherský Brod
SUMMARY:ZLK-Z: TJ Spartak Uh.Brod-VK AUSTIN Vsetín
END:VEVENT
BEGIN:VEVENT
UID:38356130-3637-4262-b032-356135333030
DTSTAMP:20260423T042807Z
DESCRIPTION:12/46 TJ Spartak Uh.Brod - VK AUSTIN Vsetín 1:3 (-21\,15\,-22\,
 -6)
DTSTART;TZID=Europe/Berlin:20231119T130000
DTEND;TZID=Europe/Berlin:20231119T150000
LOCATION:TJ SPARTAK UHERSKÝ BROD z.s.\, U Stadionu 2295 Uherský Brod
SUMMARY:ZLK-Z: TJ Spartak Uh.Brod-VK AUSTIN Vsetín
END:VEVENT
BEGIN:VEVENT
UID:62636638-6264-4831-b231-353865363962
DTSTAMP:20260423T042807Z
DESCRIPTION:17/66 VK Napajedla - VK AUSTIN Vsetín 0:3 (-21\,-18\,-20)
DTSTART;TZID=Europe/Berlin:20240120T100000
DTEND;TZID=Europe/Berlin:20240120T120000
LOCATION:2.ZŠ Napajedla\, Komenského 298 Napajedla
SUMMARY:ZLK-Z: VK Napajedla-VK AUSTIN Vsetín
END:VEVENT
BEGIN:VEVENT
UID:39303235-3166-4166-b362-323732316139
DTSTAMP:20260423T042807Z
DESCRIPTION:18/70 VK Napajedla - VK AUSTIN Vsetín 1:3 (24\,-15\,-19\,-19)
DTSTART;TZID=Europe/Berlin:20240120T130000
DTEND;TZID=Europe/Berlin:20240120T150000
LOCATION:2.ZŠ Napajedla\, Komenského 298 Napajedla
SUMMARY:ZLK-Z: VK Napajedla-VK AUSTIN Vsetín
END:VEVENT
BEGIN:VEVENT
UID:32343537-6163-4666-a337-343036313039
DTSTAMP:20260423T042807Z
DESCRIPTION:23/92 Uherské Hradiště - VK AUSTIN Vsetín 3:0 (22\,19\,25)
DTSTART;TZID=Europe/Berlin:20240210T100000
DTEND;TZID=Europe/Berlin:20240210T120000
LOCATION:Městská sportovní hala\, Stonky 860 Uherské Hradiště
SUMMARY:ZLK-Z: Uherské Hradiště-VK AUSTIN Vsetín
END:VEVENT
BEGIN:VEVENT
UID:61373838-3731-4963-b237-356637643462
DTSTAMP:20260423T042807Z
DESCRIPTION:24/96 Uherské Hradiště - VK AUSTIN Vsetín 3:0 (24\,21\,24)
DTSTART;TZID=Europe/Berlin:20240210T130000
DTEND;TZID=Europe/Berlin:20240210T150000
LOCATION:Městská sportovní hala\, Stonky 860 Uherské Hradiště
SUMMARY:ZLK-Z: Uherské Hradiště-VK AUSTIN Vsetín
END:VEVENT
BEGIN:VEVENT
UID:61613239-3032-4430-b630-643134333963
DTSTAMP:20260423T042807Z
DESCRIPTION:27/107 SKV Hošťálková - VK AUSTIN Vsetín 3:1 (-14\,15\,23\,16)
DTSTART;TZID=Europe/Berlin:20240309T100000
DTEND;TZID=Europe/Berlin:20240309T120000
LOCATION:ZŠ Hošťálková \,  Hošťálková380
SUMMARY:ZLK-Z: SKV Hošťálková-VK AUSTIN Vsetín
END:VEVENT
BEGIN:VEVENT
UID:31616131-3733-4433-a530-323535613964
DTSTAMP:20260423T042807Z
DESCRIPTION:28/111 SKV Hošťálková - VK AUSTIN Vsetín 2:3 (20\,-23\,22\,-17\
 ,-7)
DTSTART;TZID=Europe/Berlin:20240309T130000
DTEND;TZID=Europe/Berlin:20240309T150000
LOCATION:ZŠ Hošťálková \,  Hošťálková380
SUMMARY:ZLK-Z: SKV Hošťálková-VK AUSTIN Vsetín
END:VEVENT
END:VCALENDAR
