BEGIN:VCALENDAR
VERSION:2.0
PRODID:-//Volejbalová akademie mládeže Havířov82186//NONSGML kigkonsult.se iCalcreator 2.41.80//
CALSCALE:GREGORIAN
UID:66323933-6565-4662-a635-353732326161
BEGIN:VEVENT
UID:31646530-3266-4334-a561-303138343234
DTSTAMP:20260423T035335Z
DESCRIPTION:1/2 VAM Havířov - Opava 0:2 (-13\,-8)
DTSTART;TZID=Europe/Berlin:20231001T090000
DTEND;TZID=Europe/Berlin:20231001T110000
LOCATION:Sportovní hala Brušperk\, Sportovní 584 Brušperk
SUMMARY:MS-U16M-KVB: VAM Havířov-Opava
END:VEVENT
BEGIN:VEVENT
UID:62383539-3962-4630-a236-373131393132
DTSTAMP:20260423T035335Z
DESCRIPTION:3/5 VAM Havířov - TJ Sokol Palkovice 0:2 (-8\,-14)
DTSTART;TZID=Europe/Berlin:20231001T120000
DTEND;TZID=Europe/Berlin:20231001T140000
LOCATION:Sportovní hala Brušperk\, Sportovní 584 Brušperk
SUMMARY:MS-U16M-KVB: VAM Havířov-TJ Sokol Palkovice
END:VEVENT
BEGIN:VEVENT
UID:65383735-6238-4535-b931-353330366666
DTSTAMP:20260423T035335Z
DESCRIPTION:2/4 Blue Ostrava 'A' - VAM Havířov 2:0 (8\,22)
DTSTART;TZID=Europe/Berlin:20231001T103000
DTEND;TZID=Europe/Berlin:20231001T123000
LOCATION:Sportovní hala Brušperk\, Sportovní 584 Brušperk
SUMMARY:MS-U16M-KVB: Blue Ostrava 'A'-VAM Havířov
END:VEVENT
BEGIN:VEVENT
UID:36663338-3863-4232-b762-326233383932
DTSTAMP:20260423T035335Z
DESCRIPTION:5/9 VS Ostrava - VAM Havířov 2:0 (11\,14)
DTSTART;TZID=Europe/Berlin:20231001T150000
DTEND;TZID=Europe/Berlin:20231001T170000
LOCATION:Sportovní hala Brušperk\, Sportovní 584 Brušperk
SUMMARY:MS-U16M-KVB: VS Ostrava-VAM Havířov
END:VEVENT
BEGIN:VEVENT
UID:37366465-6531-4239-a136-343133646465
DTSTAMP:20260423T035335Z
DESCRIPTION:3/5 VAM Havířov - TJ Frenštát pod Radhoštěm 0:2 (-18\,-14)
DTSTART;TZID=Europe/Berlin:20231022T120000
DTEND;TZID=Europe/Berlin:20231022T140000
LOCATION:Tělocvičny ZŠ Komenského 66\, Komenského 571 Nový Jičín
SUMMARY:MS-U16M-T1C: VAM Havířov-TJ Frenštát pod Radhoštěm
END:VEVENT
BEGIN:VEVENT
UID:33393637-6535-4462-a530-653335313533
DTSTAMP:20260423T035335Z
DESCRIPTION:5/9 VAM Havířov - TJ Hlučín 1:2 (21\,-19\,-7)
DTSTART;TZID=Europe/Berlin:20231022T150000
DTEND;TZID=Europe/Berlin:20231022T170000
LOCATION:Tělocvičny ZŠ Komenského 66\, Komenského 571 Nový Jičín
SUMMARY:MS-U16M-T1C: VAM Havířov-TJ Hlučín
END:VEVENT
BEGIN:VEVENT
UID:39396539-3539-4365-a261-303361303635
DTSTAMP:20260423T035335Z
DESCRIPTION:1/2 Blue Ostrava 'B' - VAM Havířov 0:2 (-15\,-22)
DTSTART;TZID=Europe/Berlin:20231022T090000
DTEND;TZID=Europe/Berlin:20231022T110000
LOCATION:Tělocvičny ZŠ Komenského 66\, Komenského 571 Nový Jičín
SUMMARY:MS-U16M-T1C: Blue Ostrava 'B'-VAM Havířov
END:VEVENT
BEGIN:VEVENT
UID:31393938-3831-4662-a532-356532393562
DTSTAMP:20260423T035335Z
DESCRIPTION:4/7 SVK Nový Jičín 'A' - VAM Havířov 2:0 (23\,16)
DTSTART;TZID=Europe/Berlin:20231022T133000
DTEND;TZID=Europe/Berlin:20231022T153000
LOCATION:Tělocvičny ZŠ Komenského 66\, Komenského 571 Nový Jičín
SUMMARY:MS-U16M-T1C: SVK Nový Jičín 'A'-VAM Havířov
END:VEVENT
BEGIN:VEVENT
UID:37623136-6130-4665-b462-613232633464
DTSTAMP:20260423T035335Z
DESCRIPTION:3/6 VAM Havířov - Blue Ostrava 'B' 2:0 (18\,23)
DTSTART;TZID=Europe/Berlin:20231112T120000
DTEND;TZID=Europe/Berlin:20231112T140000
LOCATION:Tělocvičny ZŠ Komenského 66\, Komenského 571 Nový Jičín
SUMMARY:MS-U16M-T2C: VAM Havířov-Blue Ostrava 'B'
END:VEVENT
BEGIN:VEVENT
UID:34636438-3265-4135-b430-333464373764
DTSTAMP:20260423T035335Z
DESCRIPTION:5/9 VAM Havířov - SVK Nový Jičín 'A' 0:2 (-18\,-16)
DTSTART;TZID=Europe/Berlin:20231112T150000
DTEND;TZID=Europe/Berlin:20231112T170000
LOCATION:Tělocvičny ZŠ Komenského 66\, Komenského 571 Nový Jičín
SUMMARY:MS-U16M-T2C: VAM Havířov-SVK Nový Jičín 'A'
END:VEVENT
BEGIN:VEVENT
UID:35623736-3830-4130-b035-306536383630
DTSTAMP:20260423T035335Z
DESCRIPTION:1/2 VAM Olomouc - VAM Havířov 0:2 (-19\,-24)
DTSTART;TZID=Europe/Berlin:20231112T090000
DTEND;TZID=Europe/Berlin:20231112T110000
LOCATION:Tělocvičny ZŠ Komenského 66\, Komenského 571 Nový Jičín
SUMMARY:MS-U16M-T2C: VAM Olomouc-VAM Havířov
END:VEVENT
BEGIN:VEVENT
UID:61313265-3032-4439-b866-613034396134
DTSTAMP:20260423T035335Z
DESCRIPTION:4/7 VS Ostrava - VAM Havířov 2:0 (12\,18)
DTSTART;TZID=Europe/Berlin:20231112T133000
DTEND;TZID=Europe/Berlin:20231112T153000
LOCATION:Tělocvičny ZŠ Komenského 66\, Komenského 571 Nový Jičín
SUMMARY:MS-U16M-T2C: VS Ostrava-VAM Havířov
END:VEVENT
BEGIN:VEVENT
UID:32313439-3931-4332-b562-356234656434
DTSTAMP:20260423T035335Z
DESCRIPTION:2/3 VAM Havířov - TJ Frenštát pod Radhoštěm 0:2 (-19\,-14)
DTSTART;TZID=Europe/Berlin:20231210T103000
DTEND;TZID=Europe/Berlin:20231210T123000
LOCATION:Sportovní hala Ostrava -Třebovice\, 5. května 5649 Ostrava - Třebo
 vice
SUMMARY:MS-U16M-T3C: VAM Havířov-TJ Frenštát pod Radhoštěm
END:VEVENT
BEGIN:VEVENT
UID:38306663-6332-4132-b961-373766306633
DTSTAMP:20260423T035335Z
DESCRIPTION:5/10 VAM Havířov - VAM Olomouc 1:2 (16\,-25\,-13)
DTSTART;TZID=Europe/Berlin:20231210T150000
DTEND;TZID=Europe/Berlin:20231210T170000
LOCATION:Sportovní hala Ostrava -Třebovice\, 5. května 5649 Ostrava - Třebo
 vice
SUMMARY:MS-U16M-T3C: VAM Havířov-VAM Olomouc
END:VEVENT
BEGIN:VEVENT
UID:37313762-6332-4638-a430-346461616435
DTSTAMP:20260423T035335Z
DESCRIPTION:1/1 Blue Ostrava 'B' - VAM Havířov 1:2 (-18\,23\,-11)
DTSTART;TZID=Europe/Berlin:20231210T090000
DTEND;TZID=Europe/Berlin:20231210T110000
LOCATION:Sportovní hala Ostrava -Třebovice\, 5. května 5649 Ostrava - Třebo
 vice
SUMMARY:MS-U16M-T3C: Blue Ostrava 'B'-VAM Havířov
END:VEVENT
BEGIN:VEVENT
UID:39666330-6630-4963-b063-346532616239
DTSTAMP:20260423T035335Z
DESCRIPTION:3/6 TJ Hlučín - VAM Havířov 2:0 (10\,18)
DTSTART;TZID=Europe/Berlin:20231210T120000
DTEND;TZID=Europe/Berlin:20231210T140000
LOCATION:Sportovní hala Ostrava -Třebovice\, 5. května 5649 Ostrava - Třebo
 vice
SUMMARY:MS-U16M-T3C: TJ Hlučín-VAM Havířov
END:VEVENT
BEGIN:VEVENT
UID:63373537-6466-4731-b935-666561383232
DTSTAMP:20260423T035335Z
DESCRIPTION:5/9 VAM Havířov - Blue Ostrava 'B' 1:2 (20\,-22\,-11)
DTSTART;TZID=Europe/Berlin:20240114T150000
DTEND;TZID=Europe/Berlin:20240114T170000
LOCATION:ZŠ ALBRECHTICE\, Školní 20 Albrechtice
SUMMARY:MS-U16M-T4C: VAM Havířov-Blue Ostrava 'B'
END:VEVENT
BEGIN:VEVENT
UID:33656632-3363-4633-b135-623961656562
DTSTAMP:20260423T035335Z
DESCRIPTION:1/2 TJ Hlučín - VAM Havířov 2:0 (22\,21)
DTSTART;TZID=Europe/Berlin:20240114T090000
DTEND;TZID=Europe/Berlin:20240114T110000
LOCATION:ZŠ ALBRECHTICE\, Školní 20 Albrechtice
SUMMARY:MS-U16M-T4C: TJ Hlučín-VAM Havířov
END:VEVENT
BEGIN:VEVENT
UID:66333538-6437-4137-b232-633935316333
DTSTAMP:20260423T035335Z
DESCRIPTION:2/4 SVK Nový Jičín 'A' - VAM Havířov 2:0 (25\,20)
DTSTART;TZID=Europe/Berlin:20240114T103000
DTEND;TZID=Europe/Berlin:20240114T123000
LOCATION:ZŠ ALBRECHTICE\, Školní 20 Albrechtice
SUMMARY:MS-U16M-T4C: SVK Nový Jičín 'A'-VAM Havířov
END:VEVENT
BEGIN:VEVENT
UID:37396565-6632-4865-a366-623661363033
DTSTAMP:20260423T035335Z
DESCRIPTION:3/6 VS Ostrava - VAM Havířov 2:0 (13\,11)
DTSTART;TZID=Europe/Berlin:20240114T120000
DTEND;TZID=Europe/Berlin:20240114T140000
LOCATION:ZŠ ALBRECHTICE\, Školní 20 Albrechtice
SUMMARY:MS-U16M-T4C: VS Ostrava-VAM Havířov
END:VEVENT
BEGIN:VEVENT
UID:66656666-3731-4535-b635-613933393865
DTSTAMP:20260423T035335Z
DESCRIPTION:2/3 VAM Havířov - TJ Hlučín 2:1 (-21\,20\,13)
DTSTART;TZID=Europe/Berlin:20240225T103000
DTEND;TZID=Europe/Berlin:20240225T123000
LOCATION:ZŠ ALBRECHTICE\, Školní 20 Albrechtice
SUMMARY:MS-U16M-T5C: VAM Havířov-TJ Hlučín
END:VEVENT
BEGIN:VEVENT
UID:61656562-3430-4532-a333-353165623230
DTSTAMP:20260423T035335Z
DESCRIPTION:5/10 VAM Havířov - VAM Olomouc 0:2 (-15\,-8)
DTSTART;TZID=Europe/Berlin:20240225T150000
DTEND;TZID=Europe/Berlin:20240225T170000
LOCATION:ZŠ ALBRECHTICE\, Školní 20 Albrechtice
SUMMARY:MS-U16M-T5C: VAM Havířov-VAM Olomouc
END:VEVENT
BEGIN:VEVENT
UID:62633261-3563-4863-b236-306334643265
DTSTAMP:20260423T035335Z
DESCRIPTION:1/1 SVK Nový Jičín 'A' - VAM Havířov 2:0 (10\,21)
DTSTART;TZID=Europe/Berlin:20240225T090000
DTEND;TZID=Europe/Berlin:20240225T110000
LOCATION:ZŠ ALBRECHTICE\, Školní 20 Albrechtice
SUMMARY:MS-U16M-T5C: SVK Nový Jičín 'A'-VAM Havířov
END:VEVENT
BEGIN:VEVENT
UID:61363430-3638-4237-b432-636163626266
DTSTAMP:20260423T035335Z
DESCRIPTION:3/6 Blue Ostrava 'B' - VAM Havířov 2:0 (24\,16)
DTSTART;TZID=Europe/Berlin:20240225T120000
DTEND;TZID=Europe/Berlin:20240225T140000
LOCATION:ZŠ ALBRECHTICE\, Školní 20 Albrechtice
SUMMARY:MS-U16M-T5C: Blue Ostrava 'B'-VAM Havířov
END:VEVENT
BEGIN:VEVENT
UID:39626434-6333-4565-a632-663166366439
DTSTAMP:20260423T035335Z
DESCRIPTION:2/3 VAM Havířov - Blue Ostrava 'B' 0:2 (-18\,-25)
DTSTART;TZID=Europe/Berlin:20240324T103000
DTEND;TZID=Europe/Berlin:20240324T123000
LOCATION:ZŠ ALBRECHTICE\, Školní 20 Albrechtice
SUMMARY:MS-U16M-T6C: VAM Havířov-Blue Ostrava 'B'
END:VEVENT
BEGIN:VEVENT
UID:62363939-3736-4466-a631-376163336135
DTSTAMP:20260423T035335Z
DESCRIPTION:5/10 VAM Havířov - VAM Olomouc 0:2 (-19\,-11)
DTSTART;TZID=Europe/Berlin:20240324T150000
DTEND;TZID=Europe/Berlin:20240324T170000
LOCATION:ZŠ ALBRECHTICE\, Školní 20 Albrechtice
SUMMARY:MS-U16M-T6C: VAM Havířov-VAM Olomouc
END:VEVENT
BEGIN:VEVENT
UID:64386537-3637-4562-a661-346331323733
DTSTAMP:20260423T035335Z
DESCRIPTION:1/1 TJ Frenštát pod Radhoštěm - VAM Havířov 2:0 (14\,18)
DTSTART;TZID=Europe/Berlin:20240324T090000
DTEND;TZID=Europe/Berlin:20240324T110000
LOCATION:ZŠ ALBRECHTICE\, Školní 20 Albrechtice
SUMMARY:MS-U16M-T6C: TJ Frenštát pod Radhoštěm-VAM Havířov
END:VEVENT
BEGIN:VEVENT
UID:34643933-6264-4365-b138-663930613631
DTSTAMP:20260423T035335Z
DESCRIPTION:3/6 TJ Hlučín - VAM Havířov 2:0 (15\,8)
DTSTART;TZID=Europe/Berlin:20240324T120000
DTEND;TZID=Europe/Berlin:20240324T140000
LOCATION:ZŠ ALBRECHTICE\, Školní 20 Albrechtice
SUMMARY:MS-U16M-T6C: TJ Hlučín-VAM Havířov
END:VEVENT
END:VCALENDAR
