BEGIN:VCALENDAR
VERSION:2.0
PRODID:-//SK Volejbal Kolín82199//NONSGML kigkonsult.se iCalcreator 2.41.80//
CALSCALE:GREGORIAN
UID:31666534-6138-4236-b331-393333646231
BEGIN:VEVENT
UID:61373463-6465-4631-a236-373438353665
DTSTAMP:20260422T052757Z
DESCRIPTION:2/4 SK Volejbal Kolín - TJ Sokol Dolní Újezd 2:0 (23\,16)
DTSTART;TZID=Europe/Berlin:20230923T121500
DTEND;TZID=Europe/Berlin:20230923T141500
LOCATION:hala STAV\, SOŠ Kolín\, Brankovická 1417 Kolín - Kolín V
SUMMARY:CP-U16Z-V1C: SK Volejbal Kolín-TJ Sokol Dolní Újezd
END:VEVENT
BEGIN:VEVENT
UID:33613962-6438-4338-b163-633639373664
DTSTAMP:20260422T052757Z
DESCRIPTION:7/13 SK Volejbal Kolín - TJ Sokol Předklášteří 2:0 (17\,10)
DTSTART;TZID=Europe/Berlin:20230924T101500
DTEND;TZID=Europe/Berlin:20230924T121500
LOCATION:hala STAV\, SOŠ Kolín\, Brankovická 1417 Kolín - Kolín V
SUMMARY:CP-U16Z-V1C: SK Volejbal Kolín-TJ Sokol Předklášteří
END:VEVENT
BEGIN:VEVENT
UID:62396532-6464-4762-a266-663366346265
DTSTAMP:20260422T052757Z
DESCRIPTION:1/1 TJ Slovan Varnsdorf z.s. - SK Volejbal Kolín 0:2 (-10\,-20)
DTSTART;TZID=Europe/Berlin:20230923T110000
DTEND;TZID=Europe/Berlin:20230923T130000
LOCATION:Sportovní hala Varnsdorf\, Západní 2984 Varnsdorf
SUMMARY:CP-U16Z-V1C: TJ Slovan Varnsdorf z.s.-SK Volejbal Kolín
END:VEVENT
BEGIN:VEVENT
UID:34326135-3538-4139-b961-343334613432
DTSTAMP:20260422T052757Z
DESCRIPTION:4/7 Sokol Pouchov - SK Volejbal Kolín 0:2 (-11\,-20)
DTSTART;TZID=Europe/Berlin:20230923T144500
DTEND;TZID=Europe/Berlin:20230923T164500
LOCATION:Hala Pouchov\, K Sokolovně 544 Hradec Králové - Pouchov
SUMMARY:CP-U16Z-V1C: Sokol Pouchov-SK Volejbal Kolín
END:VEVENT
BEGIN:VEVENT
UID:61303132-3531-4464-b166-626434343134
DTSTAMP:20260422T052757Z
DESCRIPTION:8/14 TJ Sokol Pardubice I. - SK Volejbal Kolín 2:0 (19\,12)
DTSTART;TZID=Europe/Berlin:20230924T113000
DTEND;TZID=Europe/Berlin:20230924T133000
LOCATION:Sokolovna\, Jiráskova 29 Pardubice - Zelené Předměstí
SUMMARY:CP-U16Z-V1C: TJ Sokol Pardubice I.-SK Volejbal Kolín
END:VEVENT
BEGIN:VEVENT
UID:39326566-6235-4937-b736-393833373062
DTSTAMP:20260422T052757Z
DESCRIPTION:5/11 SK Volejbal Kolín - VK Raškovice 2:0 (23\,12)
DTSTART;TZID=Europe/Berlin:20231014T153000
DTEND;TZID=Europe/Berlin:20231014T173000
LOCATION:hala STAV\, SOŠ Kolín\, Brankovická 1417 Kolín - Kolín V
SUMMARY:CP-U16Z-V2B: SK Volejbal Kolín-VK Raškovice
END:VEVENT
BEGIN:VEVENT
UID:37616464-3866-4438-b164-306133633964
DTSTAMP:20260422T052757Z
DESCRIPTION:6/16 SK Volejbal Kolín - TJ Svitavy 1:2 (13\,-21\,-13)
DTSTART;TZID=Europe/Berlin:20231015T090000
DTEND;TZID=Europe/Berlin:20231015T110000
LOCATION:hala STAV\, SOŠ Kolín\, Brankovická 1417 Kolín - Kolín V
SUMMARY:CP-U16Z-V2B: SK Volejbal Kolín-TJ Svitavy
END:VEVENT
BEGIN:VEVENT
UID:65636564-3562-4164-a262-626138373235
DTSTAMP:20260422T052757Z
DESCRIPTION:7/19 SK Volejbal Kolín - TJ Ostrava 2:0 (11\,20)
DTSTART;TZID=Europe/Berlin:20231015T103000
DTEND;TZID=Europe/Berlin:20231015T123000
LOCATION:hala STAV\, SOŠ Kolín\, Brankovická 1417 Kolín - Kolín V
SUMMARY:CP-U16Z-V2B: SK Volejbal Kolín-TJ Ostrava
END:VEVENT
BEGIN:VEVENT
UID:61376232-6631-4865-a630-353662616532
DTSTAMP:20260422T052757Z
DESCRIPTION:2/4 TJ Jiskra Jaroměř - SK Volejbal Kolín 0:2 (-20\,-22)
DTSTART;TZID=Europe/Berlin:20231014T110000
DTEND;TZID=Europe/Berlin:20231014T130000
LOCATION:Hala SŠŘ\, Na Karlově 798 Jaroměř - Pražské Předměstí
SUMMARY:CP-U16Z-V2B: TJ Jiskra Jaroměř-SK Volejbal Kolín
END:VEVENT
BEGIN:VEVENT
UID:64653630-3637-4533-b633-323132663530
DTSTAMP:20260422T052757Z
DESCRIPTION:3/6 Volejbal Rudolfov - SK Volejbal Kolín 2:0 (24\,17)
DTSTART;TZID=Europe/Berlin:20231014T123000
DTEND;TZID=Europe/Berlin:20231014T143000
LOCATION:Sportovní hala Rudolfov\, Adamovská 511 Rudolfov
SUMMARY:CP-U16Z-V2B: Volejbal Rudolfov-SK Volejbal Kolín
END:VEVENT
BEGIN:VEVENT
UID:32323630-6462-4234-b935-373535306538
DTSTAMP:20260422T052757Z
DESCRIPTION:4/9 Happy Sport Opava - SK Volejbal Kolín 0:2 (-21\,-21)
DTSTART;TZID=Europe/Berlin:20231014T140000
DTEND;TZID=Europe/Berlin:20231014T160000
LOCATION:Sportovní hala Slezského gymnázia v Opavě\, Zámecký okruh 461 Opav
 a - Město
SUMMARY:CP-U16Z-V2B: Happy Sport Opava-SK Volejbal Kolín
END:VEVENT
BEGIN:VEVENT
UID:65333834-3366-4136-b038-343137336465
DTSTAMP:20260422T052757Z
DESCRIPTION:5/10 SK Volejbal Kolín - VK Prostějov 0:2 (-18\,-20)
DTSTART;TZID=Europe/Berlin:20231118T151500
DTEND;TZID=Europe/Berlin:20231118T171500
LOCATION:hala STAV\, SOŠ Kolín\, Brankovická 1417 Kolín - Kolín V
SUMMARY:CP-U16Z-V3A: SK Volejbal Kolín-VK Prostějov
END:VEVENT
BEGIN:VEVENT
UID:34356232-6462-4364-b564-383437633863
DTSTAMP:20260422T052757Z
DESCRIPTION:7/14 SK Volejbal Kolín - KP Brno A 0:2 (-20\,-12)
DTSTART;TZID=Europe/Berlin:20231118T174500
DTEND;TZID=Europe/Berlin:20231118T194500
LOCATION:hala STAV\, SOŠ Kolín\, Brankovická 1417 Kolín - Kolín V
SUMMARY:CP-U16Z-V3A: SK Volejbal Kolín-KP Brno A
END:VEVENT
BEGIN:VEVENT
UID:30373437-6434-4161-a462-613866393334
DTSTAMP:20260422T052757Z
DESCRIPTION:8/15 SK Volejbal Kolín - TJ Slavia Hradec Králové 0:2 (-16\,-20
 )
DTSTART;TZID=Europe/Berlin:20231119T090000
DTEND;TZID=Europe/Berlin:20231119T110000
LOCATION:hala STAV\, SOŠ Kolín\, Brankovická 1417 Kolín - Kolín V
SUMMARY:CP-U16Z-V3A: SK Volejbal Kolín-TJ Slavia Hradec Králové
END:VEVENT
BEGIN:VEVENT
UID:61303165-3538-4366-b563-643232363662
DTSTAMP:20260422T052757Z
DESCRIPTION:3/6 VO TJ Lanškroun A - SK Volejbal Kolín 2:0 (28\,22)
DTSTART;TZID=Europe/Berlin:20231118T124500
DTEND;TZID=Europe/Berlin:20231118T144500
LOCATION:SOŠ a SOU Lanškroun\, Sokolská 288 Lanškroun - Ostrovské Předměstí
SUMMARY:CP-U16Z-V3A: VO TJ Lanškroun A-SK Volejbal Kolín
END:VEVENT
BEGIN:VEVENT
UID:64666434-6665-4232-b663-646661376661
DTSTAMP:20260422T052757Z
DESCRIPTION:4/7 VK UP Olomouc - SK Volejbal Kolín 2:1 (18\,-21\,8)
DTSTART;TZID=Europe/Berlin:20231118T140000
DTEND;TZID=Europe/Berlin:20231118T160000
LOCATION:UP Olomouc\, U sportovní haly 38 Olomouc - Lazce
SUMMARY:CP-U16Z-V3A: VK UP Olomouc-SK Volejbal Kolín
END:VEVENT
BEGIN:VEVENT
UID:66383935-3233-4463-a362-313736303132
DTSTAMP:20260422T052757Z
DESCRIPTION:10/19 Volejbal Rudolfov - SK Volejbal Kolín 2:0 (22\,17)
DTSTART;TZID=Europe/Berlin:20231119T114500
DTEND;TZID=Europe/Berlin:20231119T134500
LOCATION:Sportovní hala Rudolfov\, Adamovská 511 Rudolfov
SUMMARY:CP-U16Z-V3A: Volejbal Rudolfov-SK Volejbal Kolín
END:VEVENT
BEGIN:VEVENT
UID:61633436-3038-4535-b363-646232323730
DTSTAMP:20260422T052757Z
DESCRIPTION:1/2 SK Volejbal Kolín - SK Volejbal Klatovy 0:2 (-21\,-17)
DTSTART;TZID=Europe/Berlin:20240127T093000
DTEND;TZID=Europe/Berlin:20240127T113000
LOCATION:hala STAV\, SOŠ Kolín\, Brankovická 1417 Kolín - Kolín V
SUMMARY:CP-U16Z-F1B: SK Volejbal Kolín-SK Volejbal Klatovy
END:VEVENT
BEGIN:VEVENT
UID:32663866-3535-4736-a363-656164623163
DTSTAMP:20260422T052757Z
DESCRIPTION:4/11 SK Volejbal Kolín - VK UP Olomouc 1:2 (22\,-10\,-15)
DTSTART;TZID=Europe/Berlin:20240127T140000
DTEND;TZID=Europe/Berlin:20240127T160000
LOCATION:hala STAV\, SOŠ Kolín\, Brankovická 1417 Kolín - Kolín V
SUMMARY:CP-U16Z-F1B: SK Volejbal Kolín-VK UP Olomouc
END:VEVENT
BEGIN:VEVENT
UID:35336136-6138-4338-b032-636435396432
DTSTAMP:20260422T052757Z
DESCRIPTION:9/24 SK Volejbal Kolín - Mikulova B 0:2 (-12\,-20)
DTSTART;TZID=Europe/Berlin:20240128T111500
DTEND;TZID=Europe/Berlin:20240128T131500
LOCATION:hala STAV\, SOŠ Kolín\, Brankovická 1417 Kolín - Kolín V
SUMMARY:CP-U16Z-F1B: SK Volejbal Kolín-Mikulova B
END:VEVENT
BEGIN:VEVENT
UID:65663665-3333-4862-a134-633461656133
DTSTAMP:20260422T052757Z
DESCRIPTION:2/5 SK Kometa Praha - SK Volejbal Kolín 0:2 (-16\,-16)
DTSTART;TZID=Europe/Berlin:20240127T110000
DTEND;TZID=Europe/Berlin:20240127T130000
LOCATION:Tělocvična ZŠ Na Šutce\, Na Šutce 440 Praha - Troja
SUMMARY:CP-U16Z-F1B: SK Kometa Praha-SK Volejbal Kolín
END:VEVENT
BEGIN:VEVENT
UID:65303038-3439-4536-b465-336361643164
DTSTAMP:20260422T052757Z
DESCRIPTION:5/15 Volejbal Rudolfov - SK Volejbal Kolín 2:0 (12\,20)
DTSTART;TZID=Europe/Berlin:20240127T153000
DTEND;TZID=Europe/Berlin:20240127T173000
LOCATION:Sportovní hala Rudolfov\, Adamovská 511 Rudolfov
SUMMARY:CP-U16Z-F1B: Volejbal Rudolfov-SK Volejbal Kolín
END:VEVENT
BEGIN:VEVENT
UID:38303638-6232-4031-b639-343163646536
DTSTAMP:20260422T052757Z
DESCRIPTION:8/20 ŠSK Bílovec - SK Volejbal Kolín 2:1 (-27\,6\,7)
DTSTART;TZID=Europe/Berlin:20240128T100000
DTEND;TZID=Europe/Berlin:20240128T120000
LOCATION:Hala ZŠ Komenského\, Komenského 701 Bílovec
SUMMARY:CP-U16Z-F1B: ŠSK Bílovec-SK Volejbal Kolín
END:VEVENT
BEGIN:VEVENT
UID:39653761-3764-4233-b063-343465313132
DTSTAMP:20260422T052757Z
DESCRIPTION:10/27 PVK Olymp Praha - SK Volejbal Kolín 0:2 (-18\,-17)
DTSTART;TZID=Europe/Berlin:20240128T123000
DTEND;TZID=Europe/Berlin:20240128T143000
LOCATION:VCM OLYMP PRAHA \, Radlická 115 Praha - Radlice
SUMMARY:CP-U16Z-F1B: PVK Olymp Praha-SK Volejbal Kolín
END:VEVENT
BEGIN:VEVENT
UID:63333538-3466-4137-b064-356233346165
DTSTAMP:20260422T052757Z
DESCRIPTION:2/4 SK Volejbal Kolín - Nymburské BOMBY 0:2 (-14\,-24)
DTSTART;TZID=Europe/Berlin:20240217T101500
DTEND;TZID=Europe/Berlin:20240217T121500
LOCATION:hala STAV\, SOŠ Kolín\, Brankovická 1417 Kolín - Kolín V
SUMMARY:CP-U16Z-F2C: SK Volejbal Kolín-Nymburské BOMBY
END:VEVENT
BEGIN:VEVENT
UID:65323361-6333-4339-a638-393238356364
DTSTAMP:20260422T052757Z
DESCRIPTION:4/8 SK Volejbal Kolín - TJ Baník Příbram 1:2 (22\,-19\,-14)
DTSTART;TZID=Europe/Berlin:20240217T124500
DTEND;TZID=Europe/Berlin:20240217T144500
LOCATION:hala STAV\, SOŠ Kolín\, Brankovická 1417 Kolín - Kolín V
SUMMARY:CP-U16Z-F2C: SK Volejbal Kolín-TJ Baník Příbram
END:VEVENT
BEGIN:VEVENT
UID:34313562-3837-4562-a535-316566633664
DTSTAMP:20260422T052757Z
DESCRIPTION:9/18 SK Volejbal Kolín - SK Kometa Praha 2:1 (22\,-20\,13)
DTSTART;TZID=Europe/Berlin:20240218T083000
DTEND;TZID=Europe/Berlin:20240218T103000
LOCATION:hala STAV\, SOŠ Kolín\, Brankovická 1417 Kolín - Kolín V
SUMMARY:CP-U16Z-F2C: SK Volejbal Kolín-SK Kometa Praha
END:VEVENT
BEGIN:VEVENT
UID:33356466-3863-4266-a466-643234396634
DTSTAMP:20260422T052757Z
DESCRIPTION:6/11 TJ Svitavy - SK Volejbal Kolín 0:2 (-22\,-18)
DTSTART;TZID=Europe/Berlin:20240217T151500
DTEND;TZID=Europe/Berlin:20240217T171500
LOCATION:Sportovní hala Na Střelnici\, Pražská 2162 Svitavy - Předměstí
SUMMARY:CP-U16Z-F2C: TJ Svitavy-SK Volejbal Kolín
END:VEVENT
BEGIN:VEVENT
UID:33353630-3962-4831-b234-376438333332
DTSTAMP:20260422T052757Z
DESCRIPTION:7/13 SK Volejbal Ústí n.L. - SK Volejbal Kolín 2:1 (19\,-15\,10
 )
DTSTART;TZID=Europe/Berlin:20240217T163000
DTEND;TZID=Europe/Berlin:20240217T183000
LOCATION:Základní škola Stříbrnická\, Stříbrnická 3031 Ústí nad Labem - Sev
 erní Terasa
SUMMARY:CP-U16Z-F2C: SK Volejbal Ústí n.L.-SK Volejbal Kolín
END:VEVENT
BEGIN:VEVENT
UID:38643638-3334-4530-b034-343037313533
DTSTAMP:20260422T052757Z
DESCRIPTION:12/24 Mikulova A - SK Volejbal Kolín 1:2 (12\,-18\,-7)
DTSTART;TZID=Europe/Berlin:20240218T121500
DTEND;TZID=Europe/Berlin:20240218T141500
LOCATION:tělocvičny ZŠ Mikulova\, Mikulova 1594 Praha - Chodov
SUMMARY:CP-U16Z-F2C: Mikulova A-SK Volejbal Kolín
END:VEVENT
BEGIN:VEVENT
UID:30393463-6533-4464-b539-653265363232
DTSTAMP:20260422T052757Z
DESCRIPTION:14/28 TJ Kralupy - SK Volejbal Kolín 1:2 (-20\,22\,-9)
DTSTART;TZID=Europe/Berlin:20240218T144500
DTEND;TZID=Europe/Berlin:20240218T164500
LOCATION:TJ KRALUPY\, z.s.\, Gen. Klapálka 1029 Kralupy nad Vltavou
SUMMARY:CP-U16Z-F2C: TJ Kralupy-SK Volejbal Kolín
END:VEVENT
BEGIN:VEVENT
UID:62636134-3437-4536-b537-643730633038
DTSTAMP:20260422T052757Z
DESCRIPTION:2/5 SK Volejbal Kolín - TJ Sokol Pardubice I. 2:0 (18\,27)
DTSTART;TZID=Europe/Berlin:20240316T104500
DTEND;TZID=Europe/Berlin:20240316T124500
LOCATION:hala STAV\, SOŠ Kolín\, Brankovická 1417 Kolín - Kolín V
SUMMARY:CP-U16Z-F3C: SK Volejbal Kolín-TJ Sokol Pardubice I.
END:VEVENT
BEGIN:VEVENT
UID:63383535-3661-4565-b830-363936336366
DTSTAMP:20260422T052757Z
DESCRIPTION:3/8 SK Volejbal Kolín - Kladno volejbal 1:2 (-20\,25\,-11)
DTSTART;TZID=Europe/Berlin:20240316T120000
DTEND;TZID=Europe/Berlin:20240316T140000
LOCATION:hala STAV\, SOŠ Kolín\, Brankovická 1417 Kolín - Kolín V
SUMMARY:CP-U16Z-F3C: SK Volejbal Kolín-Kladno volejbal
END:VEVENT
BEGIN:VEVENT
UID:65363338-3530-4166-a436-616535376363
DTSTAMP:20260422T052757Z
DESCRIPTION:5/12 SK Volejbal Kolín - Nymburské BOMBY 1:2 (-18\,12\,-13)
DTSTART;TZID=Europe/Berlin:20240316T143000
DTEND;TZID=Europe/Berlin:20240316T163000
LOCATION:hala STAV\, SOŠ Kolín\, Brankovická 1417 Kolín - Kolín V
SUMMARY:CP-U16Z-F3C: SK Volejbal Kolín-Nymburské BOMBY
END:VEVENT
BEGIN:VEVENT
UID:31643538-3231-4136-b064-393433663837
DTSTAMP:20260422T052757Z
DESCRIPTION:8/19 SK Volejbal Kolín - SK Volejbal Ústí n.L. 1:2 (-19\,20\,-1
 2)
DTSTART;TZID=Europe/Berlin:20240317T090000
DTEND;TZID=Europe/Berlin:20240317T110000
LOCATION:hala STAV\, SOŠ Kolín\, Brankovická 1417 Kolín - Kolín V
SUMMARY:CP-U16Z-F3C: SK Volejbal Kolín-SK Volejbal Ústí n.L.
END:VEVENT
BEGIN:VEVENT
UID:33356539-3431-4662-a138-333131336530
DTSTAMP:20260422T052757Z
DESCRIPTION:11/27 SK Volejbal Kolín - VK UP Olomouc 2:0 (11\,12)
DTSTART;TZID=Europe/Berlin:20240317T124500
DTEND;TZID=Europe/Berlin:20240317T144500
LOCATION:hala STAV\, SOŠ Kolín\, Brankovická 1417 Kolín - Kolín V
SUMMARY:CP-U16Z-F3C: SK Volejbal Kolín-VK UP Olomouc
END:VEVENT
BEGIN:VEVENT
UID:66623166-3437-4732-b561-343938353236
DTSTAMP:20260422T052757Z
DESCRIPTION:7/15 TJ Svitavy - SK Volejbal Kolín 0:2 (-19\,-25)
DTSTART;TZID=Europe/Berlin:20240316T154500
DTEND;TZID=Europe/Berlin:20240316T174500
LOCATION:Sportovní hala Na Střelnici\, Pražská 2162 Svitavy - Předměstí
SUMMARY:CP-U16Z-F3C: TJ Svitavy-SK Volejbal Kolín
END:VEVENT
BEGIN:VEVENT
UID:30656336-3933-4331-a233-376166643761
DTSTAMP:20260422T052757Z
DESCRIPTION:10/24 VK Prostějov - SK Volejbal Kolín 0:2 (-16\,-12)
DTSTART;TZID=Europe/Berlin:20240317T113000
DTEND;TZID=Europe/Berlin:20240317T133000
LOCATION:Národní sportovní centrum\, Za velodromem 4187 Prostějov
SUMMARY:CP-U16Z-F3C: VK Prostějov-SK Volejbal Kolín
END:VEVENT
END:VCALENDAR
