BEGIN:VCALENDAR
VERSION:2.0
PRODID:-//VK Ostrava82207//NONSGML kigkonsult.se iCalcreator 2.41.80//
CALSCALE:GREGORIAN
UID:63346438-6635-4233-b561-373261623362
BEGIN:VEVENT
UID:65623261-3733-4939-b131-326164366437
DTSTAMP:20260423T095656Z
DESCRIPTION:2/11008 Ostrava - Kladno 0:3 (-19\,-23\,-19)\nmíče MIKASA
DTSTART;TZID=Europe/Berlin:20231022T170000
DTEND;TZID=Europe/Berlin:20231022T190000
LOCATION:Hala Sareza\, Hrušovská 2953 Ostrava - Moravská Ostrava
SUMMARY:EX-M: Ostrava-Kladno
END:VEVENT
BEGIN:VEVENT
UID:66653538-3536-4232-a533-613038656562
DTSTAMP:20260423T095656Z
DESCRIPTION:4/11022 Ostrava - České Budějovice 1:3 (-21\,-21\,26\,-21)
DTSTART;TZID=Europe/Berlin:20231104T170000
DTEND;TZID=Europe/Berlin:20231104T190000
LOCATION:Hala Sareza\, Hrušovská 2953 Ostrava - Moravská Ostrava
SUMMARY:EX-M: Ostrava-České Budějovice
END:VEVENT
BEGIN:VEVENT
UID:34393030-3636-4762-b766-666364303663
DTSTAMP:20260423T095656Z
DESCRIPTION:6/11036 Ostrava - Karlovarsko 0:3 (-23\,-18\,-22)
DTSTART;TZID=Europe/Berlin:20231116T170000
DTEND;TZID=Europe/Berlin:20231116T190000
LOCATION:Hala Sareza\, Hrušovská 2953 Ostrava - Moravská Ostrava
SUMMARY:EX-M: Ostrava-Karlovarsko
END:VEVENT
BEGIN:VEVENT
UID:39346235-6261-4632-a362-626237646432
DTSTAMP:20260423T095656Z
DESCRIPTION:8/11050 Ostrava - Beskydy 1:3 (-26\,-22\,20\,-22)
DTSTART;TZID=Europe/Berlin:20231125T170000
DTEND;TZID=Europe/Berlin:20231125T190000
LOCATION:Hala Sareza\, Hrušovská 2953 Ostrava - Moravská Ostrava
SUMMARY:EX-M: Ostrava-Beskydy
END:VEVENT
BEGIN:VEVENT
UID:39643363-6637-4835-a161-626339343964
DTSTAMP:20260423T095656Z
DESCRIPTION:10/11064 Ostrava - Benátky n. J. 2:3 (-21\,16\,17\,-19\,-13)
DTSTART;TZID=Europe/Berlin:20231207T170000
DTEND;TZID=Europe/Berlin:20231207T190000
LOCATION:Hala Sareza\, Hrušovská 2953 Ostrava - Moravská Ostrava
SUMMARY:EX-M: Ostrava-Benátky n. J.
END:VEVENT
BEGIN:VEVENT
UID:61313830-3262-4432-b763-323330366634
DTSTAMP:20260423T095656Z
DESCRIPTION:12/11078 Ostrava - Zlín 3:1 (-22\,14\,22\,19)
DTSTART;TZID=Europe/Berlin:20231216T170000
DTEND;TZID=Europe/Berlin:20231216T190000
LOCATION:Hala Sareza\, Hrušovská 2953 Ostrava - Moravská Ostrava
SUMMARY:EX-M: Ostrava-Zlín
END:VEVENT
BEGIN:VEVENT
UID:63646135-6637-4563-b838-393662313766
DTSTAMP:20260423T095656Z
DESCRIPTION:14/11092 Ostrava - O. Voda 3:1 (19\,-16\,21\,22)
DTSTART;TZID=Europe/Berlin:20231228T170000
DTEND;TZID=Europe/Berlin:20231228T190000
LOCATION:Hala Sareza\, Hrušovská 2953 Ostrava - Moravská Ostrava
SUMMARY:EX-M: Ostrava-O. Voda
END:VEVENT
BEGIN:VEVENT
UID:31343038-6337-4361-b630-343464613666
DTSTAMP:20260423T095656Z
DESCRIPTION:16/11106 Ostrava - Praha 0:3 (-21\,-18\,-24)\nmíče MIKASA
DTSTART;TZID=Europe/Berlin:20240106T170000
DTEND;TZID=Europe/Berlin:20240106T190000
LOCATION:Hala Sareza\, Hrušovská 2953 Ostrava - Moravská Ostrava
SUMMARY:EX-M: Ostrava-Praha
END:VEVENT
BEGIN:VEVENT
UID:61326634-6661-4131-b633-666332653536
DTSTAMP:20260423T095656Z
DESCRIPTION:18/11120 Ostrava - Ústí n. L. 3:0 (21\,23\,24)
DTSTART;TZID=Europe/Berlin:20240120T150000
DTEND;TZID=Europe/Berlin:20240120T170000
LOCATION:Hala Sareza\, Hrušovská 2953 Ostrava - Moravská Ostrava
SUMMARY:EX-M: Ostrava-Ústí n. L.
END:VEVENT
BEGIN:VEVENT
UID:64363739-3363-4937-a337-396535343331
DTSTAMP:20260423T095656Z
DESCRIPTION:20/11134 Ostrava - Liberec 1:3 (-18\,-17\,26\,-25)
DTSTART;TZID=Europe/Berlin:20240127T170000
DTEND;TZID=Europe/Berlin:20240127T190000
LOCATION:Hala Sareza\, Hrušovská 2953 Ostrava - Moravská Ostrava
SUMMARY:EX-M: Ostrava-Liberec
END:VEVENT
BEGIN:VEVENT
UID:31303632-6335-4130-b835-346137636361
DTSTAMP:20260423T095656Z
DESCRIPTION:22/11148 Ostrava - Příbram 0:3 (-23\,-20\,-20)
DTSTART;TZID=Europe/Berlin:20240210T180000
DTEND;TZID=Europe/Berlin:20240210T200000
LOCATION:Hala Sareza\, Hrušovská 2953 Ostrava - Moravská Ostrava
SUMMARY:EX-M: Ostrava-Příbram
END:VEVENT
BEGIN:VEVENT
UID:39333361-6563-4137-b436-613835633465
DTSTAMP:20260423T095656Z
DESCRIPTION:24/11162 Ostrava - Brno 3:2 (-24\,11\,21\,-19\,11)
DTSTART;TZID=Europe/Berlin:20240229T170000
DTEND;TZID=Europe/Berlin:20240229T190000
LOCATION:Hala Sareza\, Hrušovská 2953 Ostrava - Moravská Ostrava
SUMMARY:EX-M: Ostrava-Brno
END:VEVENT
BEGIN:VEVENT
UID:38646631-3232-4435-a366-323932313933
DTSTAMP:20260423T095656Z
DESCRIPTION:1/11001 O. Voda - Ostrava 3:1 (20\,24\,-31\,19)
DTSTART;TZID=Europe/Berlin:20231029T170000
DTEND;TZID=Europe/Berlin:20231029T190000
LOCATION:Sportovní hala\, Ke Stadionu 375 Odolena Voda
SUMMARY:EX-M: O. Voda-Ostrava
END:VEVENT
BEGIN:VEVENT
UID:62626164-6635-4461-a362-346534363835
DTSTAMP:20260423T095656Z
DESCRIPTION:3/11015 Praha - Ostrava 3:0 (21\,17\,16)
DTSTART;TZID=Europe/Berlin:20231028T170000
DTEND;TZID=Europe/Berlin:20231028T190000
LOCATION:Unyp Aréna Sparta Praha Podvinný Mlýn \, Kovanecká 2405 Praha - Li
 beň
SUMMARY:EX-M: Praha-Ostrava
END:VEVENT
BEGIN:VEVENT
UID:39363338-3038-4430-a431-643434613038
DTSTAMP:20260423T095656Z
DESCRIPTION:5/11029 Ústí n. L. - Ostrava 3:0 (18\,17\,23)
DTSTART;TZID=Europe/Berlin:20231111T170000
DTEND;TZID=Europe/Berlin:20231111T190000
LOCATION:Sportcentrum SLUNETA\, Jateční 1026 Ústí nad Labem - Klíše
SUMMARY:EX-M: Ústí n. L.-Ostrava
END:VEVENT
BEGIN:VEVENT
UID:37303765-6463-4538-a362-386532353539
DTSTAMP:20260423T095656Z
DESCRIPTION:7/11043 Liberec - Ostrava 3:0 (17\,23\,23)
DTSTART;TZID=Europe/Berlin:20231118T183000
DTEND;TZID=Europe/Berlin:20231118T203000
LOCATION:Dukla Liberec\, Jeronýmova 558 Liberec - Liberec VII-Horní Růžodol
SUMMARY:EX-M: Liberec-Ostrava
END:VEVENT
BEGIN:VEVENT
UID:37653765-6561-4836-b163-623536373130
DTSTAMP:20260423T095656Z
DESCRIPTION:9/11057 Příbram - Ostrava 1:3 (-24\,-20\,17\,-23)
DTSTART;TZID=Europe/Berlin:20231202T170000
DTEND;TZID=Europe/Berlin:20231202T190000
LOCATION:sportovní hala Příbram\, Legionářů 378 Příbram - Příbram VII
SUMMARY:EX-M: Příbram-Ostrava
END:VEVENT
BEGIN:VEVENT
UID:66306363-3930-4634-b934-613734616631
DTSTAMP:20260423T095656Z
DESCRIPTION:11/11071 Brno - Ostrava 3:1 (21\,19\,-22\,19)
DTSTART;TZID=Europe/Berlin:20231209T160000
DTEND;TZID=Europe/Berlin:20231209T180000
LOCATION:TJ Sokol Brno I\, Kounicova 686 Brno - Veveří
SUMMARY:EX-M: Brno-Ostrava
END:VEVENT
BEGIN:VEVENT
UID:38343832-6234-4132-b334-663264393463
DTSTAMP:20260423T095656Z
DESCRIPTION:15/11099 Kladno - Ostrava 3:2 (15\,-18\,16\,-19\,15)
DTSTART;TZID=Europe/Berlin:20231230T190000
DTEND;TZID=Europe/Berlin:20231230T210000
LOCATION:Kladenská sportovní hala\, Sportovců 817 Kladno - Rozdělov
SUMMARY:EX-M: Kladno-Ostrava
END:VEVENT
BEGIN:VEVENT
UID:33643963-3036-4766-b038-633738626662
DTSTAMP:20260423T095656Z
DESCRIPTION:17/11113 České Budějovice - Ostrava 3:1 (19\,-18\,15\,18)\nmíče
  MIKASA
DTSTART;TZID=Europe/Berlin:20240113T180000
DTEND;TZID=Europe/Berlin:20240113T200000
LOCATION:Sportovní hala\, Stromovka 1216 České Budějovice - České Budějovic
 e 2
SUMMARY:EX-M: České Budějovice-Ostrava
END:VEVENT
BEGIN:VEVENT
UID:34343031-3666-4435-b363-343137323966
DTSTAMP:20260423T095656Z
DESCRIPTION:19/11127 Karlovarsko - Ostrava 3:0 (19\,22\,15)
DTSTART;TZID=Europe/Berlin:20240124T180000
DTEND;TZID=Europe/Berlin:20240124T200000
LOCATION:Mattoni Arena Hala míčových sportů\, Západní 1812 Karlovy Vary
SUMMARY:EX-M: Karlovarsko-Ostrava
END:VEVENT
BEGIN:VEVENT
UID:64396532-6533-4531-b136-326538316664
DTSTAMP:20260423T095656Z
DESCRIPTION:21/11141 Beskydy - Ostrava 3:2 (23\,18\,-16\,-29\,13)
DTSTART;TZID=Europe/Berlin:20240203T193000
DTEND;TZID=Europe/Berlin:20240203T213000
LOCATION:ZŠ Pionýrů 400 Frýdek-Místek\, Pionýrů 400 Frýdek-Místek - Místek
SUMMARY:EX-M: Beskydy-Ostrava
END:VEVENT
BEGIN:VEVENT
UID:64613061-3234-4231-b333-303334333330
DTSTAMP:20260423T095656Z
DESCRIPTION:23/11155 Benátky n. J. - Ostrava 3:0 (21\,23\,21)
DTSTART;TZID=Europe/Berlin:20240217T160000
DTEND;TZID=Europe/Berlin:20240217T180000
LOCATION:Nibe aréna\, městská sportovní hala\, 5. května 746 Benátky nad Ji
 zerou - Benátky nad Jizerou II
SUMMARY:EX-M: Benátky n. J.-Ostrava
END:VEVENT
BEGIN:VEVENT
UID:61643761-3863-4663-b537-363538376531
DTSTAMP:20260423T095656Z
DESCRIPTION:25/11169 Zlín - Ostrava 3:0 (21\,22\,25)
DTSTART;TZID=Europe/Berlin:20240302T180000
DTEND;TZID=Europe/Berlin:20240302T200000
LOCATION:Sportovní hala Datart Zlín\, U Zimního stadionu 4286 Zlín
SUMMARY:EX-M: Zlín-Ostrava
END:VEVENT
BEGIN:VEVENT
UID:65376466-3665-4333-a331-386534623236
DTSTAMP:20260423T095656Z
DESCRIPTION:3/10010 Ostrava - Praha 0:3 (-14\,-10\,-17)\nmíče MIKASA
DTSTART;TZID=Europe/Berlin:20240107T170000
DTEND;TZID=Europe/Berlin:20240107T190000
LOCATION:Hala Sareza\, Hrušovská 2953 Ostrava - Moravská Ostrava
SUMMARY:CP-M: Ostrava-Praha
END:VEVENT
BEGIN:VEVENT
UID:66363765-6238-4561-b935-303130393035
DTSTAMP:20260423T095656Z
DESCRIPTION:2/10008 Blue Ostrava - Ostrava 1:3 (23\,-10\,-19\,-23)
DTSTART;TZID=Europe/Berlin:20231020T190000
DTEND;TZID=Europe/Berlin:20231020T210000
LOCATION:Sportovní hala Ostrava -Třebovice\, 5. května 5649 Ostrava - Třebo
 vice
SUMMARY:CP-M: Blue Ostrava-Ostrava
END:VEVENT
END:VCALENDAR
