BEGIN:VCALENDAR
VERSION:2.0
PRODID:-//SKV Ústí nad Labem82217//NONSGML kigkonsult.se iCalcreator 2.41.80//
CALSCALE:GREGORIAN
UID:64396261-6435-4261-b439-633362383664
BEGIN:VEVENT
UID:31346133-3264-4261-b466-363266363037
DTSTAMP:20260422T205240Z
DESCRIPTION:1/11003 Ústí n. L. - Benátky n. J. 1:3 (-17\,-15\,26\,-20)
DTSTART;TZID=Europe/Berlin:20231130T180000
DTEND;TZID=Europe/Berlin:20231130T200000
LOCATION:Sportcentrum SLUNETA\, Jateční 1026 Ústí nad Labem - Klíše
SUMMARY:EX-M: Ústí n. L.-Benátky n. J.
END:VEVENT
BEGIN:VEVENT
UID:61396435-6238-4166-a563-643332663635
DTSTAMP:20260422T205240Z
DESCRIPTION:3/11016 Ústí n. L. - O. Voda 2:3 (23\,-17\,21\,-19\,-10)
DTSTART;TZID=Europe/Berlin:20231028T170000
DTEND;TZID=Europe/Berlin:20231028T190000
LOCATION:Sportcentrum SLUNETA\, Jateční 1026 Ústí nad Labem - Klíše
SUMMARY:EX-M: Ústí n. L.-O. Voda
END:VEVENT
BEGIN:VEVENT
UID:61313062-3465-4638-b831-393339666532
DTSTAMP:20260422T205240Z
DESCRIPTION:5/11029 Ústí n. L. - Ostrava 3:0 (18\,17\,23)
DTSTART;TZID=Europe/Berlin:20231111T170000
DTEND;TZID=Europe/Berlin:20231111T190000
LOCATION:Sportcentrum SLUNETA\, Jateční 1026 Ústí nad Labem - Klíše
SUMMARY:EX-M: Ústí n. L.-Ostrava
END:VEVENT
BEGIN:VEVENT
UID:65633264-6534-4531-b339-663435306461
DTSTAMP:20260422T205240Z
DESCRIPTION:6/11042 Ústí n. L. - Liberec 2:3 (-20\,22\,16\,-17\,-6)\nTV
DTSTART;TZID=Europe/Berlin:20231116T170000
DTEND;TZID=Europe/Berlin:20231116T190000
LOCATION:Sportcentrum SLUNETA\, Jateční 1026 Ústí nad Labem - Klíše
SUMMARY:EX-M: Ústí n. L.-Liberec
END:VEVENT
BEGIN:VEVENT
UID:34306664-3136-4131-a633-376366333832
DTSTAMP:20260422T205240Z
DESCRIPTION:8/11055 Ústí n. L. - Brno 0:3 (-22\,-17\,-20)
DTSTART;TZID=Europe/Berlin:20231125T170000
DTEND;TZID=Europe/Berlin:20231125T190000
LOCATION:Sportcentrum SLUNETA\, Jateční 1026 Ústí nad Labem - Klíše
SUMMARY:EX-M: Ústí n. L.-Brno
END:VEVENT
BEGIN:VEVENT
UID:38633566-6230-4530-b135-313062663831
DTSTAMP:20260422T205240Z
DESCRIPTION:10/11068 Ústí n. L. - Kladno 0:3 (-14\,-22\,-13)\nMíče Mikasa
DTSTART;TZID=Europe/Berlin:20231207T180000
DTEND;TZID=Europe/Berlin:20231207T200000
LOCATION:Sportcentrum SLUNETA\, Jateční 1026 Ústí nad Labem - Klíše
SUMMARY:EX-M: Ústí n. L.-Kladno
END:VEVENT
BEGIN:VEVENT
UID:33643464-3331-4736-a430-343961623934
DTSTAMP:20260422T205240Z
DESCRIPTION:12/11081 Ústí n. L. - Karlovarsko 0:3 (-13\,-23\,-20)\nMíče Mik
 asa
DTSTART;TZID=Europe/Berlin:20231216T170000
DTEND;TZID=Europe/Berlin:20231216T190000
LOCATION:Sportcentrum SLUNETA\, Jateční 1026 Ústí nad Labem - Klíše
SUMMARY:EX-M: Ústí n. L.-Karlovarsko
END:VEVENT
BEGIN:VEVENT
UID:30653066-3436-4337-b936-386633313638
DTSTAMP:20260422T205240Z
DESCRIPTION:15/11104 Ústí n. L. - Zlín 1:3 (17\,-23\,-20\,-22)
DTSTART;TZID=Europe/Berlin:20231230T170000
DTEND;TZID=Europe/Berlin:20231230T190000
LOCATION:Sportcentrum SLUNETA\, Jateční 1026 Ústí nad Labem - Klíše
SUMMARY:EX-M: Ústí n. L.-Zlín
END:VEVENT
BEGIN:VEVENT
UID:36613464-3362-4238-a339-653438346565
DTSTAMP:20260422T205240Z
DESCRIPTION:17/11119 Ústí n. L. - Praha 2:3 (20\,24\,-27\,-17\,-9)\nmíče MI
 KASA
DTSTART;TZID=Europe/Berlin:20240113T170000
DTEND;TZID=Europe/Berlin:20240113T190000
LOCATION:Sportcentrum SLUNETA\, Jateční 1026 Ústí nad Labem - Klíše
SUMMARY:EX-M: Ústí n. L.-Praha
END:VEVENT
BEGIN:VEVENT
UID:65646439-3733-4162-b535-363431633462
DTSTAMP:20260422T205240Z
DESCRIPTION:20/11135 Ústí n. L. - Příbram 1:3 (-27\,19\,-20\,-15)
DTSTART;TZID=Europe/Berlin:20240127T170000
DTEND;TZID=Europe/Berlin:20240127T190000
LOCATION:Sportcentrum SLUNETA\, Jateční 1026 Ústí nad Labem - Klíše
SUMMARY:EX-M: Ústí n. L.-Příbram
END:VEVENT
BEGIN:VEVENT
UID:65303832-3539-4539-b033-666164643639
DTSTAMP:20260422T205240Z
DESCRIPTION:24/11165 Ústí n. L. - České Budějovice 1:3 (-22\,21\,-20\,-20)
DTSTART;TZID=Europe/Berlin:20240229T180000
DTEND;TZID=Europe/Berlin:20240229T200000
LOCATION:Sportcentrum SLUNETA\, Jateční 1026 Ústí nad Labem - Klíše
SUMMARY:EX-M: Ústí n. L.-České Budějovice
END:VEVENT
BEGIN:VEVENT
UID:38643662-6431-4465-a664-303733356335
DTSTAMP:20260422T205240Z
DESCRIPTION:26/11180 Ústí n. L. - Beskydy 3:0 (18\,22\,21)
DTSTART;TZID=Europe/Berlin:20240215T170000
DTEND;TZID=Europe/Berlin:20240215T190000
LOCATION:Sportcentrum SLUNETA\, Jateční 1026 Ústí nad Labem - Klíše
SUMMARY:EX-M: Ústí n. L.-Beskydy
END:VEVENT
BEGIN:VEVENT
UID:62393939-3530-4266-a666-373132623531
DTSTAMP:20260422T205240Z
DESCRIPTION:2/11013 Zlín - Ústí n. L. 3:1 (21\,-21\,23\,23)
DTSTART;TZID=Europe/Berlin:20231021T170000
DTEND;TZID=Europe/Berlin:20231021T190000
LOCATION:Sportovní hala Datart Zlín\, U Zimního stadionu 4286 Zlín
SUMMARY:EX-M: Zlín-Ústí n. L.
END:VEVENT
BEGIN:VEVENT
UID:30623838-6238-4862-b461-323861393436
DTSTAMP:20260422T205240Z
DESCRIPTION:4/11028 Praha - Ústí n. L. 3:0 (21\,16\,17)
DTSTART;TZID=Europe/Berlin:20231104T180000
DTEND;TZID=Europe/Berlin:20231104T200000
LOCATION:Unyp Aréna Sparta Praha Podvinný Mlýn \, Kovanecká 2405 Praha - Li
 beň
SUMMARY:EX-M: Praha-Ústí n. L.
END:VEVENT
BEGIN:VEVENT
UID:36303165-6163-4836-a263-356231346531
DTSTAMP:20260422T205240Z
DESCRIPTION:7/11044 Příbram - Ústí n. L. 3:1 (23\,-18\,20\,14)
DTSTART;TZID=Europe/Berlin:20231118T170000
DTEND;TZID=Europe/Berlin:20231118T190000
LOCATION:sportovní hala Příbram\, Legionářů 378 Příbram - Příbram VII
SUMMARY:EX-M: Příbram-Ústí n. L.
END:VEVENT
BEGIN:VEVENT
UID:39633439-3464-4565-a639-396363313931
DTSTAMP:20260422T205240Z
DESCRIPTION:11/11074 České Budějovice - Ústí n. L. 3:0 (16\,21\,17)\nmíče M
 IKASA
DTSTART;TZID=Europe/Berlin:20231209T180000
DTEND;TZID=Europe/Berlin:20231209T200000
LOCATION:Sportovní hala\, Stromovka 1216 České Budějovice - České Budějovic
 e 2
SUMMARY:EX-M: České Budějovice-Ústí n. L.
END:VEVENT
BEGIN:VEVENT
UID:65333239-3539-4036-b036-343738643737
DTSTAMP:20260422T205240Z
DESCRIPTION:13/11089 Beskydy - Ústí n. L. 1:3 (-17\,24\,-20\,-20)
DTSTART;TZID=Europe/Berlin:20231109T170000
DTEND;TZID=Europe/Berlin:20231109T190000
LOCATION:Sportovní hala Ostrava -Třebovice\, 5. května 5649 Ostrava - Třebo
 vice
SUMMARY:EX-M: Beskydy-Ústí n. L.
END:VEVENT
BEGIN:VEVENT
UID:37313831-3230-4333-b763-343061613039
DTSTAMP:20260422T205240Z
DESCRIPTION:14/11094 Benátky n. J. - Ústí n. L. 3:2 (-19\,21\,21\,-23\,9)
DTSTART;TZID=Europe/Berlin:20231228T180000
DTEND;TZID=Europe/Berlin:20231228T200000
LOCATION:Nibe aréna\, městská sportovní hala\, 5. května 746 Benátky nad Ji
 zerou - Benátky nad Jizerou II
SUMMARY:EX-M: Benátky n. J.-Ústí n. L.
END:VEVENT
BEGIN:VEVENT
UID:64323637-6434-4938-a533-653833313335
DTSTAMP:20260422T205240Z
DESCRIPTION:16/11107 O. Voda - Ústí n. L. 3:1 (20\,17\,-23\,22)
DTSTART;TZID=Europe/Berlin:20240106T170000
DTEND;TZID=Europe/Berlin:20240106T190000
LOCATION:Sportovní hala\, Ke Stadionu 375 Odolena Voda
SUMMARY:EX-M: O. Voda-Ústí n. L.
END:VEVENT
BEGIN:VEVENT
UID:31633162-3866-4265-a130-633033366232
DTSTAMP:20260422T205240Z
DESCRIPTION:18/11120 Ostrava - Ústí n. L. 3:0 (21\,23\,24)
DTSTART;TZID=Europe/Berlin:20240120T150000
DTEND;TZID=Europe/Berlin:20240120T170000
LOCATION:Hala Sareza\, Hrušovská 2953 Ostrava - Moravská Ostrava
SUMMARY:EX-M: Ostrava-Ústí n. L.
END:VEVENT
BEGIN:VEVENT
UID:38663864-3663-4739-a139-646437626539
DTSTAMP:20260422T205240Z
DESCRIPTION:19/11133 Liberec - Ústí n. L. 3:0 (18\,20\,15)
DTSTART;TZID=Europe/Berlin:20240125T183000
DTEND;TZID=Europe/Berlin:20240125T203000
LOCATION:Dukla Liberec\, Jeronýmova 558 Liberec - Liberec VII-Horní Růžodol
SUMMARY:EX-M: Liberec-Ústí n. L.
END:VEVENT
BEGIN:VEVENT
UID:66363137-6232-4162-a336-616263653735
DTSTAMP:20260422T205240Z
DESCRIPTION:21/11146 Brno - Ústí n. L. 2:3 (22\,-25\,21\,-27\,-12)
DTSTART;TZID=Europe/Berlin:20240203T160000
DTEND;TZID=Europe/Berlin:20240203T180000
LOCATION:TJ Sokol Brno I\, Kounicova 686 Brno - Veveří
SUMMARY:EX-M: Brno-Ústí n. L.
END:VEVENT
BEGIN:VEVENT
UID:62653662-3739-4430-b430-633733656464
DTSTAMP:20260422T205240Z
DESCRIPTION:23/11159 Kladno - Ústí n. L. 3:2 (16\,13\,-27\,-17\,11)\nTV
DTSTART;TZID=Europe/Berlin:20240221T163000
DTEND;TZID=Europe/Berlin:20240221T183000
LOCATION:Kladenská sportovní hala\, Sportovců 817 Kladno - Rozdělov
SUMMARY:EX-M: Kladno-Ústí n. L.
END:VEVENT
BEGIN:VEVENT
UID:62303233-6637-4764-b938-613930333062
DTSTAMP:20260422T205240Z
DESCRIPTION:25/11172 Karlovarsko - Ústí n. L. 3:0 (19\,15\,17)
DTSTART;TZID=Europe/Berlin:20240302T180000
DTEND;TZID=Europe/Berlin:20240302T200000
LOCATION:Mattoni Arena Hala míčových sportů\, Západní 1812 Karlovy Vary
SUMMARY:EX-M: Karlovarsko-Ústí n. L.
END:VEVENT
BEGIN:VEVENT
UID:62623230-3866-4362-b261-666261613635
DTSTAMP:20260422T205240Z
DESCRIPTION:2/10003 O. Voda - Ústí n. L. 3:0 (25\,22\,24)
DTSTART;TZID=Europe/Berlin:20231018T180000
DTEND;TZID=Europe/Berlin:20231018T200000
LOCATION:Sportovní hala\, Ke Stadionu 375 Odolena Voda
SUMMARY:CP-M: O. Voda-Ústí n. L.
END:VEVENT
BEGIN:VEVENT
UID:63316637-3330-4262-a436-303830333538
DTSTAMP:20260422T205240Z
DESCRIPTION:1/11227 Ústí n. L. - Dobřichovice 1:3 (21\,-5\,-24\,-21)
DTSTART;TZID=Europe/Berlin:20240413T170000
DTEND;TZID=Europe/Berlin:20240413T190000
LOCATION:Sportcentrum SLUNETA\, Jateční 1026 Ústí nad Labem - Klíše
SUMMARY:EX-M-K: Ústí n. L.-Dobřichovice
END:VEVENT
BEGIN:VEVENT
UID:61663438-3035-4736-b338-373930373362
DTSTAMP:20260422T205240Z
DESCRIPTION:1/11228 Ústí n. L. - Dobřichovice 1:3 (-23\,16\,-20\,-20)
DTSTART;TZID=Europe/Berlin:20240414T150000
DTEND;TZID=Europe/Berlin:20240414T170000
LOCATION:Sportcentrum SLUNETA\, Jateční 1026 Ústí nad Labem - Klíše
SUMMARY:EX-M-K: Ústí n. L.-Dobřichovice
END:VEVENT
BEGIN:VEVENT
UID:33653330-3230-4338-b137-653439363431
DTSTAMP:20260422T205240Z
DESCRIPTION:1/11231 Ústí n. L. - Dobřichovice 3:0 (19\,23\,22)
DTSTART;TZID=Europe/Berlin:20240426T180000
DTEND;TZID=Europe/Berlin:20240426T200000
LOCATION:Sportcentrum SLUNETA\, Jateční 1026 Ústí nad Labem - Klíše
SUMMARY:EX-M-K: Ústí n. L.-Dobřichovice
END:VEVENT
BEGIN:VEVENT
UID:62633738-6432-4661-b834-306639663362
DTSTAMP:20260422T205240Z
DESCRIPTION:1/11229 Dobřichovice - Ústí n. L. 1:3 (-20\,20\,-22\,-26)
DTSTART;TZID=Europe/Berlin:20240419T190000
DTEND;TZID=Europe/Berlin:20240419T210000
LOCATION:BIOS\, Pražská 375 Dobřichovice
SUMMARY:EX-M-K: Dobřichovice-Ústí n. L.
END:VEVENT
BEGIN:VEVENT
UID:65633735-6463-4439-b565-366536326364
DTSTAMP:20260422T205240Z
DESCRIPTION:1/11230 Dobřichovice - Ústí n. L. 0:3 (-19\,-23\,-21)
DTSTART;TZID=Europe/Berlin:20240420T180000
DTEND;TZID=Europe/Berlin:20240420T200000
LOCATION:BIOS\, Pražská 375 Dobřichovice
SUMMARY:EX-M-K: Dobřichovice-Ústí n. L.
END:VEVENT
END:VCALENDAR
