BEGIN:VCALENDAR
VERSION:2.0
PRODID:-//VK Madeta České Budějovice82247//NONSGML kigkonsult.se iCalcreator 2.41.80//
CALSCALE:GREGORIAN
UID:34616161-3462-4833-b163-353933646661
BEGIN:VEVENT
UID:35376332-3961-4437-b865-663832353430
DTSTAMP:20260422T053821Z
DESCRIPTION:3/22007 Č. Budějovice - Dobřichovice 1:3 (12\,-25\,-17\,-21)
DTSTART;TZID=Europe/Berlin:20230929T190000
DTEND;TZID=Europe/Berlin:20230929T210000
LOCATION:ZŠ Oskara Nedbala České Budějovice\, O. Nedbala 882 České Budějovi
 ce - České Budějovice 2
SUMMARY:1-Z-A: Č. Budějovice-Dobřichovice
END:VEVENT
BEGIN:VEVENT
UID:35316564-6663-4737-b830-653366613432
DTSTAMP:20260422T053821Z
DESCRIPTION:4/22010 Č. Budějovice - Dobřichovice 3:1 (19\,-25\,13\,21)
DTSTART;TZID=Europe/Berlin:20230930T100000
DTEND;TZID=Europe/Berlin:20230930T120000
LOCATION:Sportovní hala\, Stromovka 1216 České Budějovice - České Budějovic
 e 2
SUMMARY:1-Z-A: Č. Budějovice-Dobřichovice
END:VEVENT
BEGIN:VEVENT
UID:37613430-6635-4933-a631-616132646462
DTSTAMP:20260422T053821Z
DESCRIPTION:7/22019 Č. Budějovice - Rudolfov 3:0 (15\,16\,9)
DTSTART;TZID=Europe/Berlin:20231020T190000
DTEND;TZID=Europe/Berlin:20231020T210000
LOCATION:Sportovní hala\, Stromovka 1216 České Budějovice - České Budějovic
 e 2
SUMMARY:1-Z-A: Č. Budějovice-Rudolfov
END:VEVENT
BEGIN:VEVENT
UID:31363965-3937-4865-b833-333264363938
DTSTAMP:20260422T053821Z
DESCRIPTION:8/22022 Č. Budějovice - Rudolfov 3:0 (18\,17\,13)
DTSTART;TZID=Europe/Berlin:20231021T100000
DTEND;TZID=Europe/Berlin:20231021T120000
LOCATION:Sportovní hala\, Stromovka 1216 České Budějovice - České Budějovic
 e 2
SUMMARY:1-Z-A: Č. Budějovice-Rudolfov
END:VEVENT
BEGIN:VEVENT
UID:64393866-3131-4631-b366-653135353965
DTSTAMP:20260422T053821Z
DESCRIPTION:11/22031 Č. Budějovice - Plzeň 0:3 (-23\,-15\,-24)
DTSTART;TZID=Europe/Berlin:20231103T190000
DTEND;TZID=Europe/Berlin:20231103T210000
LOCATION:Sportovní hala\, Stromovka 1216 České Budějovice - České Budějovic
 e 2
SUMMARY:1-Z-A: Č. Budějovice-Plzeň
END:VEVENT
BEGIN:VEVENT
UID:31656435-3937-4134-a135-623263343337
DTSTAMP:20260422T053821Z
DESCRIPTION:12/22034 Č. Budějovice - Plzeň 3:0 (19\,16\,18)
DTSTART;TZID=Europe/Berlin:20231104T100000
DTEND;TZID=Europe/Berlin:20231104T120000
LOCATION:Sportovní hala\, Stromovka 1216 České Budějovice - České Budějovic
 e 2
SUMMARY:1-Z-A: Č. Budějovice-Plzeň
END:VEVENT
BEGIN:VEVENT
UID:36386133-6136-4334-a633-613531633331
DTSTAMP:20260422T053821Z
DESCRIPTION:15/22043 Č. Budějovice - Nusle 3:0 (15\,16\,11)
DTSTART;TZID=Europe/Berlin:20231124T190000
DTEND;TZID=Europe/Berlin:20231124T210000
LOCATION:Sportovní hala\, Stromovka 1216 České Budějovice - České Budějovic
 e 2
SUMMARY:1-Z-A: Č. Budějovice-Nusle
END:VEVENT
BEGIN:VEVENT
UID:34393839-3065-4530-b065-373135343664
DTSTAMP:20260422T053821Z
DESCRIPTION:16/22046 Č. Budějovice - Nusle 3:1 (15\,-15\,23\,16)
DTSTART;TZID=Europe/Berlin:20231125T090000
DTEND;TZID=Europe/Berlin:20231125T110000
LOCATION:ZŠ Oskara Nedbala České Budějovice\, O. Nedbala 882 České Budějovi
 ce - České Budějovice 2
SUMMARY:1-Z-A: Č. Budějovice-Nusle
END:VEVENT
BEGIN:VEVENT
UID:33383562-3239-4161-a364-646437383832
DTSTAMP:20260422T053821Z
DESCRIPTION:19/22055 Č. Budějovice - Bižuterie 0:3 (-7\,-21\,-19)
DTSTART;TZID=Europe/Berlin:20231215T190000
DTEND;TZID=Europe/Berlin:20231215T210000
LOCATION:Sportovní hala\, Stromovka 1216 České Budějovice - České Budějovic
 e 2
SUMMARY:1-Z-A: Č. Budějovice-Bižuterie
END:VEVENT
BEGIN:VEVENT
UID:36363939-3162-4565-b333-653730623166
DTSTAMP:20260422T053821Z
DESCRIPTION:20/22058 Č. Budějovice - Bižuterie 3:1 (20\,23\,-15\,21)
DTSTART;TZID=Europe/Berlin:20231216T100000
DTEND;TZID=Europe/Berlin:20231216T120000
LOCATION:Sportovní hala\, Stromovka 1216 České Budějovice - České Budějovic
 e 2
SUMMARY:1-Z-A: Č. Budějovice-Bižuterie
END:VEVENT
BEGIN:VEVENT
UID:37366661-6635-4033-b438-333066613234
DTSTAMP:20260422T053821Z
DESCRIPTION:1/22001 Plzeň - Č. Budějovice 1:3 (23\,-12\,-21\,-23)
DTSTART;TZID=Europe/Berlin:20230915T190000
DTEND;TZID=Europe/Berlin:20230915T210000
LOCATION:Hala PF ZČU Plzeň\, Klatovská třída 1736 Plzeň - Jižní Předměstí
SUMMARY:1-Z-A: Plzeň-Č. Budějovice
END:VEVENT
BEGIN:VEVENT
UID:63653630-3163-4666-b864-326564653339
DTSTAMP:20260422T053821Z
DESCRIPTION:2/22004 Plzeň - Č. Budějovice 1:3 (23\,-18\,-11\,-24)
DTSTART;TZID=Europe/Berlin:20230916T130000
DTEND;TZID=Europe/Berlin:20230916T150000
LOCATION:Městská sportovní hala  -  hala 1\, Úslavská 2357 Plzeň - Východní
  Předměstí
SUMMARY:1-Z-A: Plzeň-Č. Budějovice
END:VEVENT
BEGIN:VEVENT
UID:36373034-6161-4562-a538-386265643666
DTSTAMP:20260422T053821Z
DESCRIPTION:5/22013 Nusle - Č. Budějovice 1:3 (-24\,-20\,24\,-12)
DTSTART;TZID=Europe/Berlin:20231006T180000
DTEND;TZID=Europe/Berlin:20231006T200000
LOCATION:TJ Sokol Nusle\, Na květnici 700 Praha - Nusle
SUMMARY:1-Z-A: Nusle-Č. Budějovice
END:VEVENT
BEGIN:VEVENT
UID:30643530-6637-4631-a562-636166323962
DTSTAMP:20260422T053821Z
DESCRIPTION:6/22016 Nusle - Č. Budějovice 1:3 (-22\,-20\,23\,-18)
DTSTART;TZID=Europe/Berlin:20231007T110000
DTEND;TZID=Europe/Berlin:20231007T130000
LOCATION:TJ Sokol Nusle\, Na květnici 700 Praha - Nusle
SUMMARY:1-Z-A: Nusle-Č. Budějovice
END:VEVENT
BEGIN:VEVENT
UID:66376339-3230-4533-a630-356530336138
DTSTAMP:20260422T053821Z
DESCRIPTION:9/22025 Bižuterie - Č. Budějovice 3:0 (18\,15\,17)
DTSTART;TZID=Europe/Berlin:20231027T190000
DTEND;TZID=Europe/Berlin:20231027T210000
LOCATION:Městská sportovní hala\, U Přehrady 4747 Jablonec nad Nisou
SUMMARY:1-Z-A: Bižuterie-Č. Budějovice
END:VEVENT
BEGIN:VEVENT
UID:61363864-3031-4539-a634-636132356336
DTSTAMP:20260422T053821Z
DESCRIPTION:10/22028 Bižuterie - Č. Budějovice 3:0 (20\,20\,19)
DTSTART;TZID=Europe/Berlin:20231028T100000
DTEND;TZID=Europe/Berlin:20231028T120000
LOCATION:Městská sportovní hala\, U Přehrady 4747 Jablonec nad Nisou
SUMMARY:1-Z-A: Bižuterie-Č. Budějovice
END:VEVENT
BEGIN:VEVENT
UID:62353230-6462-4439-a433-656534383566
DTSTAMP:20260422T053821Z
DESCRIPTION:13/22037 Dobřichovice - Č. Budějovice 1:3 (-19\,22\,-22\,-21)
DTSTART;TZID=Europe/Berlin:20231117T100000
DTEND;TZID=Europe/Berlin:20231117T120000
LOCATION:TJ Sokol Dobřichovice\, Pražská 375 Dobřichovice
SUMMARY:1-Z-A: Dobřichovice-Č. Budějovice
END:VEVENT
BEGIN:VEVENT
UID:64643339-6365-4337-b633-643838653834
DTSTAMP:20260422T053821Z
DESCRIPTION:14/22040 Dobřichovice - Č. Budějovice 3:0 (19\,18\,25)
DTSTART;TZID=Europe/Berlin:20231116T190000
DTEND;TZID=Europe/Berlin:20231116T210000
LOCATION:TJ Sokol Dobřichovice\, Pražská 375 Dobřichovice
SUMMARY:1-Z-A: Dobřichovice-Č. Budějovice
END:VEVENT
BEGIN:VEVENT
UID:30343064-6535-4132-b066-656637333636
DTSTAMP:20260422T053821Z
DESCRIPTION:17/22049 Rudolfov - Č. Budějovice 0:3 (-23\,-19\,-22)
DTSTART;TZID=Europe/Berlin:20231208T180000
DTEND;TZID=Europe/Berlin:20231208T200000
LOCATION:Sportovní hala Rudolfov\, Adamovská 511 Rudolfov
SUMMARY:1-Z-A: Rudolfov-Č. Budějovice
END:VEVENT
BEGIN:VEVENT
UID:64316436-6261-4839-b764-303430393438
DTSTAMP:20260422T053821Z
DESCRIPTION:18/22052 Rudolfov - Č. Budějovice 1:3 (20\,-23\,-19\,-24)
DTSTART;TZID=Europe/Berlin:20231209T120000
DTEND;TZID=Europe/Berlin:20231209T140000
LOCATION:Sportovní hala Rudolfov\, Adamovská 511 Rudolfov
SUMMARY:1-Z-A: Rudolfov-Č. Budějovice
END:VEVENT
BEGIN:VEVENT
UID:33623363-3765-4631-b465-353330643038
DTSTAMP:20260422T053821Z
DESCRIPTION:2/3 Č. Budějovice - Nusle 1:3 (-15\,16\,-21\,-27)
DTSTART;TZID=Europe/Berlin:20230909T133000
DTEND;TZID=Europe/Berlin:20230909T153000
LOCATION:Kladenská sportovní hala\, Sportovců 817 Kladno - Rozdělov
SUMMARY:CP-Z-A: Č. Budějovice-Nusle
END:VEVENT
BEGIN:VEVENT
UID:65396430-6330-4736-a131-333162303935
DTSTAMP:20260422T053821Z
DESCRIPTION:1/1 Kladno - Č. Budějovice 3:1 (22\,-21\,25\,19)
DTSTART;TZID=Europe/Berlin:20230909T100000
DTEND;TZID=Europe/Berlin:20230909T120000
LOCATION:Kladenská sportovní hala\, Sportovců 817 Kladno - Rozdělov
SUMMARY:CP-Z-A: Kladno-Č. Budějovice
END:VEVENT
BEGIN:VEVENT
UID:62346262-6630-4434-a161-626135386562
DTSTAMP:20260422T053821Z
DESCRIPTION:3/5 Dobřichovice - Č. Budějovice 3:2 (-22\,18\,-24\,13\,7)
DTSTART;TZID=Europe/Berlin:20230909T170000
DTEND;TZID=Europe/Berlin:20230909T190000
LOCATION:Kladenská sportovní hala\, Sportovců 817 Kladno - Rozdělov
SUMMARY:CP-Z-A: Dobřichovice-Č. Budějovice
END:VEVENT
BEGIN:VEVENT
UID:32313566-6232-4332-a365-643565666232
DTSTAMP:20260422T053821Z
DESCRIPTION:1/22122 Č. Budějovice - Lvi Praha 3:1 (14\,-20\,19\,22)
DTSTART;TZID=Europe/Berlin:20240112T183000
DTEND;TZID=Europe/Berlin:20240112T203000
LOCATION:Sportovní hala\, Stromovka 1216 České Budějovice - České Budějovic
 e 2
SUMMARY:1-Z-I: Č. Budějovice-Lvi Praha
END:VEVENT
BEGIN:VEVENT
UID:38646634-3833-4861-b435-326535386531
DTSTAMP:20260422T053821Z
DESCRIPTION:2/22125 Č. Budějovice - Lvi Praha 3:0 (14\,25\,10)
DTSTART;TZID=Europe/Berlin:20240113T120000
DTEND;TZID=Europe/Berlin:20240113T140000
LOCATION:Sportovní hala\, Stromovka 1216 České Budějovice - České Budějovic
 e 2
SUMMARY:1-Z-I: Č. Budějovice-Lvi Praha
END:VEVENT
BEGIN:VEVENT
UID:65386134-6461-4938-a663-336232396462
DTSTAMP:20260422T053821Z
DESCRIPTION:5/22134 Č. Budějovice - Střešovice 3:1 (-22\,23\,21\,13)
DTSTART;TZID=Europe/Berlin:20240202T190000
DTEND;TZID=Europe/Berlin:20240202T210000
LOCATION:ZŠ Oskara Nedbala České Budějovice\, O. Nedbala 882 České Budějovi
 ce - České Budějovice 2
SUMMARY:1-Z-I: Č. Budějovice-Střešovice
END:VEVENT
BEGIN:VEVENT
UID:38313934-3534-4361-b833-323963396534
DTSTAMP:20260422T053821Z
DESCRIPTION:6/22137 Č. Budějovice - Střešovice 3:0 (25\,22\,18)
DTSTART;TZID=Europe/Berlin:20240203T110000
DTEND;TZID=Europe/Berlin:20240203T130000
LOCATION:ZŠ Oskara Nedbala České Budějovice\, O. Nedbala 882 České Budějovi
 ce - České Budějovice 2
SUMMARY:1-Z-I: Č. Budějovice-Střešovice
END:VEVENT
BEGIN:VEVENT
UID:38333535-3766-4365-b565-356537303734
DTSTAMP:20260422T053821Z
DESCRIPTION:9/22146 Č. Budějovice - H. Králové 1:3 (-14\,10\,-13\,-21)
DTSTART;TZID=Europe/Berlin:20240223T190000
DTEND;TZID=Europe/Berlin:20240223T210000
LOCATION:Sportovní hala\, Stromovka 1216 České Budějovice - České Budějovic
 e 2
SUMMARY:1-Z-I: Č. Budějovice-H. Králové
END:VEVENT
BEGIN:VEVENT
UID:36623266-3165-4737-b764-353864626334
DTSTAMP:20260422T053821Z
DESCRIPTION:10/22149 Č. Budějovice - H. Králové 1:3 (-19\,-17\,19\,-16)
DTSTART;TZID=Europe/Berlin:20240224T100000
DTEND;TZID=Europe/Berlin:20240224T120000
LOCATION:ZŠ Oskara Nedbala České Budějovice\, O. Nedbala 882 České Budějovi
 ce - České Budějovice 2
SUMMARY:1-Z-I: Č. Budějovice-H. Králové
END:VEVENT
BEGIN:VEVENT
UID:64333566-3231-4934-b661-336636383362
DTSTAMP:20260422T053821Z
DESCRIPTION:3/22128 H. Králové - Č. Budějovice 3:0 (11\,13\,15)
DTSTART;TZID=Europe/Berlin:20240119T190000
DTEND;TZID=Europe/Berlin:20240119T210000
LOCATION:TJ Slavia Hradec Králové\, Víta Nejedlého 1216 Hradec Králové
SUMMARY:1-Z-I: H. Králové-Č. Budějovice
END:VEVENT
BEGIN:VEVENT
UID:31623537-3730-4664-b835-643835376231
DTSTAMP:20260422T053821Z
DESCRIPTION:4/22131 H. Králové - Č. Budějovice 3:1 (18\,-21\,24\,17)
DTSTART;TZID=Europe/Berlin:20240120T110000
DTEND;TZID=Europe/Berlin:20240120T130000
LOCATION:TJ Slavia Hradec Králové\, Víta Nejedlého 1216 Hradec Králové
SUMMARY:1-Z-I: H. Králové-Č. Budějovice
END:VEVENT
BEGIN:VEVENT
UID:65333835-3766-4464-b663-663866393766
DTSTAMP:20260422T053821Z
DESCRIPTION:7/22140 Lvi Praha - Č. Budějovice 3:1 (23\,26\,-21\,17)
DTSTART;TZID=Europe/Berlin:20240209T190000
DTEND;TZID=Europe/Berlin:20240209T210000
LOCATION:ZŠ Balabenka\, náměstí Na Balabence 800 Praha - Libeň
SUMMARY:1-Z-I: Lvi Praha-Č. Budějovice
END:VEVENT
BEGIN:VEVENT
UID:38383137-3561-4564-a563-303735386462
DTSTAMP:20260422T053821Z
DESCRIPTION:8/22143 Lvi Praha - Č. Budějovice 3:1 (20\,-18\,22\,24)
DTSTART;TZID=Europe/Berlin:20240210T110000
DTEND;TZID=Europe/Berlin:20240210T130000
LOCATION:ZŠ Balabenka\, náměstí Na Balabence 800 Praha - Libeň
SUMMARY:1-Z-I: Lvi Praha-Č. Budějovice
END:VEVENT
BEGIN:VEVENT
UID:64346337-3331-4335-a334-613862303930
DTSTAMP:20260422T053821Z
DESCRIPTION:11/22152 Střešovice - Č. Budějovice 1:3 (-23\,-20\,22\,-15)
DTSTART;TZID=Europe/Berlin:20240301T180000
DTEND;TZID=Europe/Berlin:20240301T200000
LOCATION:TJ Tatran Střešovice\, Sibeliova 368 Praha - Střešovice
SUMMARY:1-Z-I: Střešovice-Č. Budějovice
END:VEVENT
BEGIN:VEVENT
UID:30356262-3061-4761-b733-306136376339
DTSTAMP:20260422T053821Z
DESCRIPTION:12/22155 Střešovice - Č. Budějovice 3:0 (18\,12\,12)
DTSTART;TZID=Europe/Berlin:20240302T100000
DTEND;TZID=Europe/Berlin:20240302T120000
LOCATION:TJ Tatran Střešovice\, Sibeliova 368 Praha - Střešovice
SUMMARY:1-Z-I: Střešovice-Č. Budějovice
END:VEVENT
BEGIN:VEVENT
UID:37663031-6263-4431-a266-323166656536
DTSTAMP:20260422T053821Z
DESCRIPTION:1/22200 Č. Budějovice - Střešovice 3:2 (25\,15\,-21\,-22\,12)\n
 1. kolo
DTSTART;TZID=Europe/Berlin:20240316T160000
DTEND;TZID=Europe/Berlin:20240316T180000
LOCATION:ZŠ Oskara Nedbala České Budějovice\, O. Nedbala 882 České Budějovi
 ce - České Budějovice 2
SUMMARY:1-Z-III: Č. Budějovice-Střešovice
END:VEVENT
BEGIN:VEVENT
UID:39313665-3534-4836-b932-333132363430
DTSTAMP:20260422T053821Z
DESCRIPTION:2/22202 Č. Budějovice - H. Králové 3:0 (24\,18\,12)\n2. kolo
DTSTART;TZID=Europe/Berlin:20240322T190000
DTEND;TZID=Europe/Berlin:20240322T210000
LOCATION:Sportovní hala\, Stromovka 1216 České Budějovice - České Budějovic
 e 2
SUMMARY:1-Z-III: Č. Budějovice-H. Králové
END:VEVENT
BEGIN:VEVENT
UID:64343461-3330-4735-a134-353532633734
DTSTAMP:20260422T053821Z
DESCRIPTION:3/22206 Č. Budějovice - Bižuterie 3:0 (17\,18\,18)\nFinále
DTSTART;TZID=Europe/Berlin:20240328T190000
DTEND;TZID=Europe/Berlin:20240328T210000
LOCATION:Sportovní hala\, Stromovka 1216 České Budějovice - České Budějovic
 e 2
SUMMARY:1-Z-III: Č. Budějovice-Bižuterie
END:VEVENT
BEGIN:VEVENT
UID:63643537-6530-4533-b261-616463666434
DTSTAMP:20260422T053821Z
DESCRIPTION:3/22207 Č. Budějovice - Bižuterie 3:2 (19\,11\,-22\,-17\,9)\nFi
 nále
DTSTART;TZID=Europe/Berlin:20240329T100000
DTEND;TZID=Europe/Berlin:20240329T120000
LOCATION:ZŠ Oskara Nedbala České Budějovice\, O. Nedbala 882 České Budějovi
 ce - České Budějovice 2
SUMMARY:1-Z-III: Č. Budějovice-Bižuterie
END:VEVENT
BEGIN:VEVENT
UID:65396430-6638-4364-b861-326232653365
DTSTAMP:20260422T053821Z
DESCRIPTION:1/22196 Střešovice - Č. Budějovice 2:3 (-18\,-19\,13\,17\,-9)\n
 1. kolo
DTSTART;TZID=Europe/Berlin:20240315T180000
DTEND;TZID=Europe/Berlin:20240315T200000
LOCATION:TJ Tatran Střešovice\, Sibeliova 368 Praha - Střešovice
SUMMARY:1-Z-III: Střešovice-Č. Budějovice
END:VEVENT
BEGIN:VEVENT
UID:62316339-3631-4431-a163-363532383339
DTSTAMP:20260422T053821Z
DESCRIPTION:2/22204 H. Králové - Č. Budějovice 3:0 (25\,18\,22)\n2. kolo\; 
 GS 13:15
DTSTART;TZID=Europe/Berlin:20240323T190000
DTEND;TZID=Europe/Berlin:20240323T210000
LOCATION:TJ Slavia Hradec Králové\, Víta Nejedlého 1216 Hradec Králové
SUMMARY:1-Z-III: H. Králové-Č. Budějovice
END:VEVENT
BEGIN:VEVENT
UID:38663339-3361-4739-a265-393164663263
DTSTAMP:20260422T053821Z
DESCRIPTION:3/22208 Bižuterie - Č. Budějovice 3:2 (19\,-22\,-19\,17\,11)\nF
 inále
DTSTART;TZID=Europe/Berlin:20240405T180000
DTEND;TZID=Europe/Berlin:20240405T200000
LOCATION:Dukla Liberec\, Jeronýmova 558 Liberec - Liberec VII-Horní Růžodol
SUMMARY:1-Z-III: Bižuterie-Č. Budějovice
END:VEVENT
BEGIN:VEVENT
UID:62306166-3332-4335-b433-646162393965
DTSTAMP:20260422T053821Z
DESCRIPTION:3/22209 Bižuterie - Č. Budějovice 3:1 (13\,-23\,15\,13)\nFinále
DTSTART;TZID=Europe/Berlin:20240406T140000
DTEND;TZID=Europe/Berlin:20240406T160000
LOCATION:Dukla Liberec\, Jeronýmova 558 Liberec - Liberec VII-Horní Růžodol
SUMMARY:1-Z-III: Bižuterie-Č. Budějovice
END:VEVENT
BEGIN:VEVENT
UID:30633338-6331-4433-b732-393961663166
DTSTAMP:20260422T053821Z
DESCRIPTION:3/22210 Bižuterie - Č. Budějovice 3:0 (22\,25\,14)\nFinále
DTSTART;TZID=Europe/Berlin:20240407T100000
DTEND;TZID=Europe/Berlin:20240407T120000
LOCATION:Dukla Liberec\, Jeronýmova 558 Liberec - Liberec VII-Horní Růžodol
SUMMARY:1-Z-III: Bižuterie-Č. Budějovice
END:VEVENT
BEGIN:VEVENT
UID:65386634-6561-4461-a436-623762323439
DTSTAMP:20260422T053821Z
DESCRIPTION:1/21176 Č. Budějovice - Šternberk 3:1 (-22\,15\,21\,14)
DTSTART;TZID=Europe/Berlin:20240420T143000
DTEND;TZID=Europe/Berlin:20240420T163000
LOCATION:Sportovní hala\, Stromovka 1216 České Budějovice - České Budějovic
 e 2
SUMMARY:EX-Z-K: Č. Budějovice-Šternberk
END:VEVENT
BEGIN:VEVENT
UID:39393235-3566-4564-b864-366161653663
DTSTAMP:20260422T053821Z
DESCRIPTION:1/21174 Šternberk - Č. Budějovice 1:3 (22\,-21\,-19\,-22)
DTSTART;TZID=Europe/Berlin:20240413T180000
DTEND;TZID=Europe/Berlin:20240413T200000
LOCATION:Ecce Homo Šternberk\, Dvorská 2515 Šternberk
SUMMARY:EX-Z-K: Šternberk-Č. Budějovice
END:VEVENT
BEGIN:VEVENT
UID:32623834-3864-4464-a466-636465343631
DTSTAMP:20260422T053821Z
DESCRIPTION:1/21175 Šternberk - Č. Budějovice 1:3 (20\,-14\,-21\,-22)
DTSTART;TZID=Europe/Berlin:20240414T140000
DTEND;TZID=Europe/Berlin:20240414T160000
LOCATION:Ecce Homo Šternberk\, Dvorská 2515 Šternberk
SUMMARY:EX-Z-K: Šternberk-Č. Budějovice
END:VEVENT
END:VCALENDAR
