BEGIN:VCALENDAR
VERSION:2.0
PRODID:-//VK Prostějov B82249//NONSGML kigkonsult.se iCalcreator 2.41.80//
CALSCALE:GREGORIAN
UID:37313537-3462-4762-b832-626336383536
BEGIN:VEVENT
UID:39646538-3633-4430-b434-366334346463
DTSTAMP:20260422T165918Z
DESCRIPTION:3/22067 Prostějov B - Hronov 3:0 (22\,18\,14)
DTSTART;TZID=Europe/Berlin:20230929T180000
DTEND;TZID=Europe/Berlin:20230929T200000
LOCATION:Národní sportovní centrum\, Za velodromem 4187 Prostějov
SUMMARY:1-Z-B: Prostějov B-Hronov
END:VEVENT
BEGIN:VEVENT
UID:36633930-3636-4339-a137-633136633066
DTSTAMP:20260422T165918Z
DESCRIPTION:4/22070 Prostějov B - Hronov 3:0 (20\,16\,19)
DTSTART;TZID=Europe/Berlin:20230930T110000
DTEND;TZID=Europe/Berlin:20230930T130000
LOCATION:Národní sportovní centrum\, Za velodromem 4187 Prostějov
SUMMARY:1-Z-B: Prostějov B-Hronov
END:VEVENT
BEGIN:VEVENT
UID:62666638-3864-4136-b531-383738623733
DTSTAMP:20260422T165918Z
DESCRIPTION:7/22079 Prostějov B - Lvi Praha 1:3 (-18\,19\,-19\,-17)
DTSTART;TZID=Europe/Berlin:20231020T200000
DTEND;TZID=Europe/Berlin:20231020T220000
LOCATION:Národní sportovní centrum\, Za velodromem 4187 Prostějov
SUMMARY:1-Z-B: Prostějov B-Lvi Praha
END:VEVENT
BEGIN:VEVENT
UID:36633537-6531-4665-b361-616334623533
DTSTAMP:20260422T165918Z
DESCRIPTION:8/22082 Prostějov B - Lvi Praha 0:3 (-16\,-22\,-24)
DTSTART;TZID=Europe/Berlin:20231021T110000
DTEND;TZID=Europe/Berlin:20231021T130000
LOCATION:Národní sportovní centrum\, Za velodromem 4187 Prostějov
SUMMARY:1-Z-B: Prostějov B-Lvi Praha
END:VEVENT
BEGIN:VEVENT
UID:38613264-3132-4938-a466-643631656334
DTSTAMP:20260422T165918Z
DESCRIPTION:11/22091 Prostějov B - H. Králové 3:0 (19\,23\,22)
DTSTART;TZID=Europe/Berlin:20231103T190000
DTEND;TZID=Europe/Berlin:20231103T210000
LOCATION:Národní sportovní centrum\, Za velodromem 4187 Prostějov
SUMMARY:1-Z-B: Prostějov B-H. Králové
END:VEVENT
BEGIN:VEVENT
UID:38636330-6566-4365-b565-373934656336
DTSTAMP:20260422T165918Z
DESCRIPTION:12/22094 Prostějov B - H. Králové 0:3 (-22\,-14\,-20)
DTSTART;TZID=Europe/Berlin:20231104T100000
DTEND;TZID=Europe/Berlin:20231104T120000
LOCATION:Národní sportovní centrum\, Za velodromem 4187 Prostějov
SUMMARY:1-Z-B: Prostějov B-H. Králové
END:VEVENT
BEGIN:VEVENT
UID:62643330-3261-4339-b639-323038633365
DTSTAMP:20260422T165918Z
DESCRIPTION:15/22103 Prostějov B - Střešovice 1:3 (19\,-23\,-20\,-16)
DTSTART;TZID=Europe/Berlin:20231124T190000
DTEND;TZID=Europe/Berlin:20231124T210000
LOCATION:Národní sportovní centrum\, Za velodromem 4187 Prostějov
SUMMARY:1-Z-B: Prostějov B-Střešovice
END:VEVENT
BEGIN:VEVENT
UID:34353037-3138-4639-b863-353130633462
DTSTAMP:20260422T165918Z
DESCRIPTION:16/22106 Prostějov B - Střešovice 3:2 (11\,-19\,19\,-16\,12)
DTSTART;TZID=Europe/Berlin:20231125T113000
DTEND;TZID=Europe/Berlin:20231125T133000
LOCATION:Národní sportovní centrum\, Za velodromem 4187 Prostějov
SUMMARY:1-Z-B: Prostějov B-Střešovice
END:VEVENT
BEGIN:VEVENT
UID:32356637-3231-4636-a231-636335323164
DTSTAMP:20260422T165918Z
DESCRIPTION:19/22115 Prostějov B - NVC ČVS 2:3 (20\,-20\,-22\,18\,-12)
DTSTART;TZID=Europe/Berlin:20231216T113000
DTEND;TZID=Europe/Berlin:20231216T133000
LOCATION:Národní sportovní centrum\, Za velodromem 4187 Prostějov
SUMMARY:1-Z-B: Prostějov B-NVC ČVS
END:VEVENT
BEGIN:VEVENT
UID:65633136-3336-4534-b238-666463363437
DTSTAMP:20260422T165918Z
DESCRIPTION:20/22118 Prostějov B - NVC ČVS 1:3 (-28\,24\,-21\,-10)
DTSTART;TZID=Europe/Berlin:20231216T160000
DTEND;TZID=Europe/Berlin:20231216T180000
LOCATION:Národní sportovní centrum\, Za velodromem 4187 Prostějov
SUMMARY:1-Z-B: Prostějov B-NVC ČVS
END:VEVENT
BEGIN:VEVENT
UID:30316664-6438-4638-a662-313865653931
DTSTAMP:20260422T165918Z
DESCRIPTION:1/22061 H. Králové - Prostějov B 3:0 (18\,21\,24)
DTSTART;TZID=Europe/Berlin:20230915T190000
DTEND;TZID=Europe/Berlin:20230915T210000
LOCATION:TJ Slavia Hradec Králové\, Víta Nejedlého 1216 Hradec Králové
SUMMARY:1-Z-B: H. Králové-Prostějov B
END:VEVENT
BEGIN:VEVENT
UID:34343364-3466-4338-b235-623564653937
DTSTAMP:20260422T165918Z
DESCRIPTION:2/22064 H. Králové - Prostějov B 3:0 (13\,22\,15)
DTSTART;TZID=Europe/Berlin:20230916T100000
DTEND;TZID=Europe/Berlin:20230916T120000
LOCATION:TJ Slavia Hradec Králové\, Víta Nejedlého 1216 Hradec Králové
SUMMARY:1-Z-B: H. Králové-Prostějov B
END:VEVENT
BEGIN:VEVENT
UID:63646335-6537-4431-a561-306665643434
DTSTAMP:20260422T165918Z
DESCRIPTION:5/22073 Střešovice - Prostějov B 3:0 (10\,19\,10)
DTSTART;TZID=Europe/Berlin:20231006T180000
DTEND;TZID=Europe/Berlin:20231006T200000
LOCATION:TJ Tatran Střešovice\, Sibeliova 368 Praha - Střešovice
SUMMARY:1-Z-B: Střešovice-Prostějov B
END:VEVENT
BEGIN:VEVENT
UID:65646137-6536-4963-b638-373037313133
DTSTAMP:20260422T165918Z
DESCRIPTION:6/22076 Střešovice - Prostějov B 3:0 (7\,14\,13)
DTSTART;TZID=Europe/Berlin:20231007T110000
DTEND;TZID=Europe/Berlin:20231007T130000
LOCATION:TJ Tatran Střešovice\, Sibeliova 368 Praha - Střešovice
SUMMARY:1-Z-B: Střešovice-Prostějov B
END:VEVENT
BEGIN:VEVENT
UID:66383037-3334-4366-a532-623036633062
DTSTAMP:20260422T165918Z
DESCRIPTION:9/22085 NVC ČVS - Prostějov B 1:3 (18\,-22\,-22\,-22)
DTSTART;TZID=Europe/Berlin:20231028T120000
DTEND;TZID=Europe/Berlin:20231028T140000
LOCATION:Hala BIOS\, Jana Palacha 1840 Kladno
SUMMARY:1-Z-B: NVC ČVS-Prostějov B
END:VEVENT
BEGIN:VEVENT
UID:37396639-3839-4832-b530-323430633232
DTSTAMP:20260422T165918Z
DESCRIPTION:10/22088 NVC ČVS - Prostějov B 3:0 (10\,20\,22)
DTSTART;TZID=Europe/Berlin:20231028T160000
DTEND;TZID=Europe/Berlin:20231028T180000
LOCATION:Hala BIOS\, Jana Palacha 1840 Kladno
SUMMARY:1-Z-B: NVC ČVS-Prostějov B
END:VEVENT
BEGIN:VEVENT
UID:37616664-3663-4533-a337-626165656166
DTSTAMP:20260422T165918Z
DESCRIPTION:13/22097 Hronov - Prostějov B 3:1 (-22\,21\,14\,22)
DTSTART;TZID=Europe/Berlin:20231117T190000
DTEND;TZID=Europe/Berlin:20231117T210000
LOCATION:ZŠ Hronov\, Palackého 162 Hronov
SUMMARY:1-Z-B: Hronov-Prostějov B
END:VEVENT
BEGIN:VEVENT
UID:62383662-3837-4665-b534-326438306662
DTSTAMP:20260422T165918Z
DESCRIPTION:14/22100 Hronov - Prostějov B 3:2 (16\,-23\,16\,-23\,11)
DTSTART;TZID=Europe/Berlin:20231118T120000
DTEND;TZID=Europe/Berlin:20231118T140000
LOCATION:ZŠ Hronov\, Palackého 162 Hronov
SUMMARY:1-Z-B: Hronov-Prostějov B
END:VEVENT
BEGIN:VEVENT
UID:32653634-3361-4638-b865-633838653335
DTSTAMP:20260422T165918Z
DESCRIPTION:17/22109 Lvi Praha - Prostějov B 3:0 (21\,18\,24)
DTSTART;TZID=Europe/Berlin:20231208T190000
DTEND;TZID=Europe/Berlin:20231208T210000
LOCATION:ZŠ Balabenka\, náměstí Na Balabence 800 Praha - Libeň
SUMMARY:1-Z-B: Lvi Praha-Prostějov B
END:VEVENT
BEGIN:VEVENT
UID:33313332-3164-4230-a537-326361306537
DTSTAMP:20260422T165918Z
DESCRIPTION:18/22112 Lvi Praha - Prostějov B 3:0 (20\,11\,22)
DTSTART;TZID=Europe/Berlin:20231209T100000
DTEND;TZID=Europe/Berlin:20231209T120000
LOCATION:ZŠ Balabenka\, náměstí Na Balabence 800 Praha - Libeň
SUMMARY:1-Z-B: Lvi Praha-Prostějov B
END:VEVENT
BEGIN:VEVENT
UID:65393764-6165-4431-b435-333732323862
DTSTAMP:20260422T165918Z
DESCRIPTION:7/22176 Prostějov B - Plzeň 3:0 (8\,16\,18)
DTSTART;TZID=Europe/Berlin:20240209T180000
DTEND;TZID=Europe/Berlin:20240209T200000
LOCATION:Národní sportovní centrum\, Za velodromem 4187 Prostějov
SUMMARY:1-Z-II: Prostějov B-Plzeň
END:VEVENT
BEGIN:VEVENT
UID:36306637-3661-4062-b930-303835396632
DTSTAMP:20260422T165918Z
DESCRIPTION:8/22179 Prostějov B - Plzeň 3:0 (10\,13\,19)
DTSTART;TZID=Europe/Berlin:20240210T090000
DTEND;TZID=Europe/Berlin:20240210T110000
LOCATION:Národní sportovní centrum\, Za velodromem 4187 Prostějov
SUMMARY:1-Z-II: Prostějov B-Plzeň
END:VEVENT
BEGIN:VEVENT
UID:62326332-3739-4538-a164-636632396131
DTSTAMP:20260422T165918Z
DESCRIPTION:9/22181 Prostějov B - Nusle 3:0 (19\,17\,20)
DTSTART;TZID=Europe/Berlin:20240223T190000
DTEND;TZID=Europe/Berlin:20240223T210000
LOCATION:Národní sportovní centrum\, Za velodromem 4187 Prostějov
SUMMARY:1-Z-II: Prostějov B-Nusle
END:VEVENT
BEGIN:VEVENT
UID:62393737-3066-4732-a164-613736313734
DTSTAMP:20260422T165918Z
DESCRIPTION:10/22184 Prostějov B - Nusle 3:0 (16\,19\,18)
DTSTART;TZID=Europe/Berlin:20240224T110000
DTEND;TZID=Europe/Berlin:20240224T130000
LOCATION:Národní sportovní centrum\, Za velodromem 4187 Prostějov
SUMMARY:1-Z-II: Prostějov B-Nusle
END:VEVENT
BEGIN:VEVENT
UID:65343363-6639-4463-b933-363063303030
DTSTAMP:20260422T165918Z
DESCRIPTION:11/22189 Prostějov B - Rudolfov 3:1 (17\,21\,-23\,14)
DTSTART;TZID=Europe/Berlin:20240301T190000
DTEND;TZID=Europe/Berlin:20240301T210000
LOCATION:Národní sportovní centrum\, Za velodromem 4187 Prostějov
SUMMARY:1-Z-II: Prostějov B-Rudolfov
END:VEVENT
BEGIN:VEVENT
UID:61343235-3837-4666-a534-636530306561
DTSTAMP:20260422T165918Z
DESCRIPTION:12/22192 Prostějov B - Rudolfov 3:0 (13\,19\,18)
DTSTART;TZID=Europe/Berlin:20240302T110000
DTEND;TZID=Europe/Berlin:20240302T130000
LOCATION:Národní sportovní centrum\, Za velodromem 4187 Prostějov
SUMMARY:1-Z-II: Prostějov B-Rudolfov
END:VEVENT
BEGIN:VEVENT
UID:39383138-3331-4837-b931-303664316237
DTSTAMP:20260422T165918Z
DESCRIPTION:1/22158 Plzeň - Prostějov B 3:0 (19\,20\,13)
DTSTART;TZID=Europe/Berlin:20240112T180000
DTEND;TZID=Europe/Berlin:20240112T200000
LOCATION:Městská sportovní hala  -  hala 2\, Úslavská 2357 Plzeň - Východní
  Předměstí
SUMMARY:1-Z-II: Plzeň-Prostějov B
END:VEVENT
BEGIN:VEVENT
UID:38303264-6163-4036-b966-333538613131
DTSTAMP:20260422T165918Z
DESCRIPTION:2/22161 Plzeň - Prostějov B 2:3 (-12\,22\,16\,-23\,-11)
DTSTART;TZID=Europe/Berlin:20240113T100000
DTEND;TZID=Europe/Berlin:20240113T120000
LOCATION:Městská sportovní hala  -  hala 2\, Úslavská 2357 Plzeň - Východní
  Předměstí
SUMMARY:1-Z-II: Plzeň-Prostějov B
END:VEVENT
BEGIN:VEVENT
UID:34303834-6262-4539-b863-323938376638
DTSTAMP:20260422T165918Z
DESCRIPTION:3/22163 Nusle - Prostějov B 3:0 (25\,25\,10)
DTSTART;TZID=Europe/Berlin:20240119T180000
DTEND;TZID=Europe/Berlin:20240119T200000
LOCATION:TJ Sokol Nusle\, Na květnici 700 Praha - Nusle
SUMMARY:1-Z-II: Nusle-Prostějov B
END:VEVENT
BEGIN:VEVENT
UID:61643539-3637-4035-b937-663738383562
DTSTAMP:20260422T165918Z
DESCRIPTION:4/22166 Nusle - Prostějov B 3:0 (25\,25\,20)
DTSTART;TZID=Europe/Berlin:20240120T090000
DTEND;TZID=Europe/Berlin:20240120T110000
LOCATION:TJ Sokol Nusle\, Na květnici 700 Praha - Nusle
SUMMARY:1-Z-II: Nusle-Prostějov B
END:VEVENT
BEGIN:VEVENT
UID:39336661-3835-4635-a563-366632616234
DTSTAMP:20260422T165918Z
DESCRIPTION:5/22171 Rudolfov - Prostějov B 3:1 (23\,-21\,21\,14)
DTSTART;TZID=Europe/Berlin:20240202T190000
DTEND;TZID=Europe/Berlin:20240202T210000
LOCATION:Sportovní hala Rudolfov\, Adamovská 511 Rudolfov
SUMMARY:1-Z-II: Rudolfov-Prostějov B
END:VEVENT
BEGIN:VEVENT
UID:63663162-3031-4161-b836-363233393836
DTSTAMP:20260422T165918Z
DESCRIPTION:6/22174 Rudolfov - Prostějov B 3:0 (20\,23\,14)
DTSTART;TZID=Europe/Berlin:20240203T110000
DTEND;TZID=Europe/Berlin:20240203T130000
LOCATION:Sportovní hala Rudolfov\, Adamovská 511 Rudolfov
SUMMARY:1-Z-II: Rudolfov-Prostějov B
END:VEVENT
END:VCALENDAR
