BEGIN:VCALENDAR
VERSION:2.0
PRODID:-//Volejbal Domažlice82283//NONSGML kigkonsult.se iCalcreator 2.41.80//
CALSCALE:GREGORIAN
UID:30326131-3134-4336-a636-323665313364
BEGIN:VEVENT
UID:32653137-3861-4264-a437-383466633136
DTSTAMP:20260422T191404Z
DESCRIPTION:1/4 Domažlice - Kralupy 2:3 (22\,-17\,-23\,17\,-14)
DTSTART;TZID=Europe/Berlin:20231007T110000
DTEND;TZID=Europe/Berlin:20231007T130000
LOCATION:Sportovní hala ZŠ Komenského Domažlice\, Komenského 17 Domažlice -
  Týnské Předměstí
SUMMARY:2-Z-A: Domažlice-Kralupy
END:VEVENT
BEGIN:VEVENT
UID:36623234-3331-4361-b266-633463363230
DTSTAMP:20260422T191404Z
DESCRIPTION:2/9 Domažlice - Kralupy 0:3 (-16\,-20\,-23)
DTSTART;TZID=Europe/Berlin:20231007T150000
DTEND;TZID=Europe/Berlin:20231007T170000
LOCATION:Sportovní hala ZŠ Komenského Domažlice\, Komenského 17 Domažlice -
  Týnské Předměstí
SUMMARY:2-Z-A: Domažlice-Kralupy
END:VEVENT
BEGIN:VEVENT
UID:30623330-3139-4862-b933-376436306131
DTSTAMP:20260422T191404Z
DESCRIPTION:5/23 Domažlice - Děčín 2:3 (24\,-22\,23\,-15\,-14)
DTSTART;TZID=Europe/Berlin:20231021T110000
DTEND;TZID=Europe/Berlin:20231021T130000
LOCATION:Sportovní hala ZŠ Komenského Domažlice\, Komenského 17 Domažlice -
  Týnské Předměstí
SUMMARY:2-Z-A: Domažlice-Děčín
END:VEVENT
BEGIN:VEVENT
UID:35346639-3031-4130-b862-666662316637
DTSTAMP:20260422T191404Z
DESCRIPTION:6/28 Domažlice - Děčín 3:1 (27\,25\,-12\,22)
DTSTART;TZID=Europe/Berlin:20231021T150000
DTEND;TZID=Europe/Berlin:20231021T170000
LOCATION:Sportovní hala ZŠ Komenského Domažlice\, Komenského 17 Domažlice -
  Týnské Předměstí
SUMMARY:2-Z-A: Domažlice-Děčín
END:VEVENT
BEGIN:VEVENT
UID:35373335-3464-4539-b039-313363633962
DTSTAMP:20260422T191404Z
DESCRIPTION:9/42 Domažlice - Chabařovice 3:1 (22\,-14\,18\,18)
DTSTART;TZID=Europe/Berlin:20231111T110000
DTEND;TZID=Europe/Berlin:20231111T130000
LOCATION:Sportovní hala ZŠ Komenského Domažlice\, Komenského 17 Domažlice -
  Týnské Předměstí
SUMMARY:2-Z-A: Domažlice-Chabařovice
END:VEVENT
BEGIN:VEVENT
UID:62376666-6631-4537-a534-373539326532
DTSTAMP:20260422T191404Z
DESCRIPTION:10/47 Domažlice - Chabařovice 3:1 (23\,17\,-21\,23)
DTSTART;TZID=Europe/Berlin:20231111T150000
DTEND;TZID=Europe/Berlin:20231111T170000
LOCATION:Sportovní hala ZŠ Komenského Domažlice\, Komenského 17 Domažlice -
  Týnské Předměstí
SUMMARY:2-Z-A: Domažlice-Chabařovice
END:VEVENT
BEGIN:VEVENT
UID:33663035-3633-4231-b434-386465333537
DTSTAMP:20260422T191404Z
DESCRIPTION:13/61 Domažlice - Liberec 3:0 (23\,24\,17)
DTSTART;TZID=Europe/Berlin:20231202T110000
DTEND;TZID=Europe/Berlin:20231202T130000
LOCATION:Sportovní hala ZŠ Komenského Domažlice\, Komenského 17 Domažlice -
  Týnské Předměstí
SUMMARY:2-Z-A: Domažlice-Liberec
END:VEVENT
BEGIN:VEVENT
UID:36383831-6561-4634-b934-393564613065
DTSTAMP:20260422T191404Z
DESCRIPTION:14/66 Domažlice - Liberec 1:3 (-16\,-19\,26\,-17)
DTSTART;TZID=Europe/Berlin:20231202T150000
DTEND;TZID=Europe/Berlin:20231202T170000
LOCATION:Sportovní hala ZŠ Komenského Domažlice\, Komenského 17 Domažlice -
  Týnské Předměstí
SUMMARY:2-Z-A: Domažlice-Liberec
END:VEVENT
BEGIN:VEVENT
UID:62323066-3135-4565-a162-373635343236
DTSTAMP:20260422T191404Z
DESCRIPTION:15/75 Domažlice - Tuchlovice 3:2 (-17\,16\,-21\,17\,9)
DTSTART;TZID=Europe/Berlin:20231209T090000
DTEND;TZID=Europe/Berlin:20231209T110000
LOCATION:Sportovní hala ZŠ Komenského Domažlice\, Komenského 17 Domažlice -
  Týnské Předměstí
SUMMARY:2-Z-A: Domažlice-Tuchlovice
END:VEVENT
BEGIN:VEVENT
UID:62363462-6537-4161-a334-343465626561
DTSTAMP:20260422T191404Z
DESCRIPTION:16/80 Domažlice - Tuchlovice 0:3 (-14\,-23\,-23)
DTSTART;TZID=Europe/Berlin:20231209T130000
DTEND;TZID=Europe/Berlin:20231209T150000
LOCATION:Sportovní hala ZŠ Komenského Domažlice\, Komenského 17 Domažlice -
  Týnské Předměstí
SUMMARY:2-Z-A: Domažlice-Tuchlovice
END:VEVENT
BEGIN:VEVENT
UID:35636132-3636-4464-a163-363264393036
DTSTAMP:20260422T191404Z
DESCRIPTION:21/103 Domažlice - Plzeň B 3:1 (-19\,21\,21\,20)
DTSTART;TZID=Europe/Berlin:20240120T090000
DTEND;TZID=Europe/Berlin:20240120T110000
LOCATION:Sportovní hala ZŠ Komenského Domažlice\, Komenského 17 Domažlice -
  Týnské Předměstí
SUMMARY:2-Z-A: Domažlice-Plzeň B
END:VEVENT
BEGIN:VEVENT
UID:36366631-3032-4737-a134-336134393161
DTSTAMP:20260422T191404Z
DESCRIPTION:22/108 Domažlice - Plzeň B 2:3 (10\,-19\,18\,-9\,-7)
DTSTART;TZID=Europe/Berlin:20240120T130000
DTEND;TZID=Europe/Berlin:20240120T150000
LOCATION:Sportovní hala ZŠ Komenského Domažlice\, Komenského 17 Domažlice -
  Týnské Předměstí
SUMMARY:2-Z-A: Domažlice-Plzeň B
END:VEVENT
BEGIN:VEVENT
UID:64663961-3163-4462-b336-326439386233
DTSTAMP:20260422T191404Z
DESCRIPTION:25/124 Domažlice - Kladno 1:3 (-21\,-14\,16\,-20)
DTSTART;TZID=Europe/Berlin:20240210T100000
DTEND;TZID=Europe/Berlin:20240210T120000
LOCATION:Sportovní hala ZŠ Komenského Domažlice\, Komenského 17 Domažlice -
  Týnské Předměstí
SUMMARY:2-Z-A: Domažlice-Kladno
END:VEVENT
BEGIN:VEVENT
UID:37383438-6566-4961-b265-636138376264
DTSTAMP:20260422T191404Z
DESCRIPTION:26/129 Domažlice - Kladno 0:3 (-23\,-23\,-12)
DTSTART;TZID=Europe/Berlin:20240210T140000
DTEND;TZID=Europe/Berlin:20240210T160000
LOCATION:Sportovní hala ZŠ Komenského Domažlice\, Komenského 17 Domažlice -
  Týnské Předměstí
SUMMARY:2-Z-A: Domažlice-Kladno
END:VEVENT
BEGIN:VEVENT
UID:36623764-3233-4665-b732-323861656664
DTSTAMP:20260422T191404Z
DESCRIPTION:29/145 Domažlice - S V B C 3:0 (18\,19\,20)
DTSTART;TZID=Europe/Berlin:20240224T090000
DTEND;TZID=Europe/Berlin:20240224T110000
LOCATION:Sportovní hala ZŠ Komenského Domažlice\, Komenského 17 Domažlice -
  Týnské Předměstí
SUMMARY:2-Z-A: Domažlice-S V B C
END:VEVENT
BEGIN:VEVENT
UID:31363538-3738-4431-a338-663264633035
DTSTAMP:20260422T191404Z
DESCRIPTION:30/150 Domažlice - S V B C 2:3 (-23\,26\,-16\,21\,-15)
DTSTART;TZID=Europe/Berlin:20240224T130000
DTEND;TZID=Europe/Berlin:20240224T150000
LOCATION:Sportovní hala ZŠ Komenského Domažlice\, Komenského 17 Domažlice -
  Týnské Předměstí
SUMMARY:2-Z-A: Domažlice-S V B C
END:VEVENT
BEGIN:VEVENT
UID:31373234-6530-4030-b930-303935633562
DTSTAMP:20260422T191404Z
DESCRIPTION:35/172 Domažlice - Mn. Hradiště 3:1 (15\,-22\,17\,18)
DTSTART;TZID=Europe/Berlin:20240323T110000
DTEND;TZID=Europe/Berlin:20240323T130000
LOCATION:Sportovní hala ZŠ Komenského Domažlice\, Komenského 17 Domažlice -
  Týnské Předměstí
SUMMARY:2-Z-A: Domažlice-Mn. Hradiště
END:VEVENT
BEGIN:VEVENT
UID:34393430-3432-4332-b534-393738666631
DTSTAMP:20260422T191404Z
DESCRIPTION:36/177 Domažlice - Mn. Hradiště 3:1 (-22\,24\,19\,18)
DTSTART;TZID=Europe/Berlin:20240323T150000
DTEND;TZID=Europe/Berlin:20240323T170000
LOCATION:Sportovní hala ZŠ Komenského Domažlice\, Komenského 17 Domažlice -
  Týnské Předměstí
SUMMARY:2-Z-A: Domažlice-Mn. Hradiště
END:VEVENT
BEGIN:VEVENT
UID:30636265-6234-4534-b537-306365623263
DTSTAMP:20260422T191404Z
DESCRIPTION:3/13 Plzeň B - Domažlice 3:1 (-22\,15\,18\,14)
DTSTART;TZID=Europe/Berlin:20231014T100000
DTEND;TZID=Europe/Berlin:20231014T120000
LOCATION:Městská sportovní hala  -  hala 2\, Úslavská 2357 Plzeň - Východní
  Předměstí
SUMMARY:2-Z-A: Plzeň B-Domažlice
END:VEVENT
BEGIN:VEVENT
UID:61316436-6436-4233-b435-303439303263
DTSTAMP:20260422T191404Z
DESCRIPTION:4/18 Plzeň B - Domažlice 3:1 (18\,18\,-21\,19)
DTSTART;TZID=Europe/Berlin:20231014T140000
DTEND;TZID=Europe/Berlin:20231014T160000
LOCATION:Městská sportovní hala  -  hala 2\, Úslavská 2357 Plzeň - Východní
  Předměstí
SUMMARY:2-Z-A: Plzeň B-Domažlice
END:VEVENT
BEGIN:VEVENT
UID:34633763-3462-4538-a661-393339646230
DTSTAMP:20260422T191404Z
DESCRIPTION:7/34 Kladno - Domažlice 3:0 (17\,21\,20)
DTSTART;TZID=Europe/Berlin:20231104T090000
DTEND;TZID=Europe/Berlin:20231104T110000
LOCATION:Kladenská sportovní hala\, Sportovců 817 Kladno - Rozdělov
SUMMARY:2-Z-A: Kladno-Domažlice
END:VEVENT
BEGIN:VEVENT
UID:33663433-3735-4663-b038-353431636338
DTSTAMP:20260422T191404Z
DESCRIPTION:8/39 Kladno - Domažlice 3:0 (10\,23\,25)
DTSTART;TZID=Europe/Berlin:20231104T130000
DTEND;TZID=Europe/Berlin:20231104T150000
LOCATION:Kladenská sportovní hala\, Sportovců 817 Kladno - Rozdělov
SUMMARY:2-Z-A: Kladno-Domažlice
END:VEVENT
BEGIN:VEVENT
UID:34656663-3164-4535-b363-633434343630
DTSTAMP:20260422T191404Z
DESCRIPTION:11/55 S V B C - Domažlice 3:0 (18\,15\,17)
DTSTART;TZID=Europe/Berlin:20231118T100000
DTEND;TZID=Europe/Berlin:20231118T120000
LOCATION:Sportovní hala Řevnice \, Školní 600 Řevnice
SUMMARY:2-Z-A: S V B C-Domažlice
END:VEVENT
BEGIN:VEVENT
UID:39623164-3034-4139-a463-306362396432
DTSTAMP:20260422T191404Z
DESCRIPTION:12/60 S V B C - Domažlice 3:0 (12\,23\,18)
DTSTART;TZID=Europe/Berlin:20231118T140000
DTEND;TZID=Europe/Berlin:20231118T160000
LOCATION:Sportovní hala Řevnice \, Školní 600 Řevnice
SUMMARY:2-Z-A: S V B C-Domažlice
END:VEVENT
BEGIN:VEVENT
UID:30613962-3139-4133-b931-353731633465
DTSTAMP:20260422T191404Z
DESCRIPTION:17/82 Mn. Hradiště - Domažlice 3:2 (22\,-24\,15\,-19\,14)
DTSTART;TZID=Europe/Berlin:20231216T110000
DTEND;TZID=Europe/Berlin:20231216T130000
LOCATION:Sportovní hala BIOS\, Sokolovská 254 Mnichovo Hradiště
SUMMARY:2-Z-A: Mn. Hradiště-Domažlice
END:VEVENT
BEGIN:VEVENT
UID:63623639-3734-4539-b164-333336646539
DTSTAMP:20260422T191404Z
DESCRIPTION:18/87 Mn. Hradiště - Domažlice 3:0 (14\,15\,19)
DTSTART;TZID=Europe/Berlin:20231216T150000
DTEND;TZID=Europe/Berlin:20231216T170000
LOCATION:Sportovní hala BIOS\, Sokolovská 254 Mnichovo Hradiště
SUMMARY:2-Z-A: Mn. Hradiště-Domažlice
END:VEVENT
BEGIN:VEVENT
UID:32363466-3037-4365-a134-613335303065
DTSTAMP:20260422T191404Z
DESCRIPTION:19/94 Kralupy - Domažlice 3:1 (15\,15\,-14\,18)
DTSTART;TZID=Europe/Berlin:20240113T100000
DTEND;TZID=Europe/Berlin:20240113T120000
LOCATION:TJ KRALUPY\, z.s.\, Gen. Klapálka 1029 Kralupy nad Vltavou
SUMMARY:2-Z-A: Kralupy-Domažlice
END:VEVENT
BEGIN:VEVENT
UID:35626532-3838-4464-a333-393037343939
DTSTAMP:20260422T191404Z
DESCRIPTION:20/99 Kralupy - Domažlice 3:0 (20\,24\,19)
DTSTART;TZID=Europe/Berlin:20240113T140000
DTEND;TZID=Europe/Berlin:20240113T160000
LOCATION:TJ KRALUPY\, z.s.\, Gen. Klapálka 1029 Kralupy nad Vltavou
SUMMARY:2-Z-A: Kralupy-Domažlice
END:VEVENT
BEGIN:VEVENT
UID:61326334-6330-4038-b165-613466356265
DTSTAMP:20260422T191404Z
DESCRIPTION:23/113 Děčín - Domažlice 3:1 (19\,-22\,16\,12)
DTSTART;TZID=Europe/Berlin:20240127T110000
DTEND;TZID=Europe/Berlin:20240127T130000
LOCATION:Tělocvična OA Rumburk\, Komenského 927 Rumburk - Rumburk 1
SUMMARY:2-Z-A: Děčín-Domažlice
END:VEVENT
BEGIN:VEVENT
UID:62393336-6665-4539-a630-333832303537
DTSTAMP:20260422T191404Z
DESCRIPTION:24/118 Děčín - Domažlice 3:0 (9\,20\,23)
DTSTART;TZID=Europe/Berlin:20240127T140000
DTEND;TZID=Europe/Berlin:20240127T160000
LOCATION:Tělocvična OA Rumburk\, Komenského 927 Rumburk - Rumburk 1
SUMMARY:2-Z-A: Děčín-Domažlice
END:VEVENT
BEGIN:VEVENT
UID:31353062-3762-4032-b938-643263643462
DTSTAMP:20260422T191404Z
DESCRIPTION:27/132 Chabařovice - Domažlice 3:0 (14\,21\,12)
DTSTART;TZID=Europe/Berlin:20240217T100000
DTEND;TZID=Europe/Berlin:20240217T120000
LOCATION:Sportovní hala Chabařovice\, V Aleji 400 Chabařovice
SUMMARY:2-Z-A: Chabařovice-Domažlice
END:VEVENT
BEGIN:VEVENT
UID:37396230-6461-4465-b137-353735313432
DTSTAMP:20260422T191404Z
DESCRIPTION:28/137 Chabařovice - Domažlice 3:1 (-19\,23\,11\,18)
DTSTART;TZID=Europe/Berlin:20240217T140000
DTEND;TZID=Europe/Berlin:20240217T160000
LOCATION:Sportovní hala Chabařovice\, V Aleji 400 Chabařovice
SUMMARY:2-Z-A: Chabařovice-Domažlice
END:VEVENT
BEGIN:VEVENT
UID:35376538-3936-4332-b462-613665643764
DTSTAMP:20260422T191404Z
DESCRIPTION:31/151 Liberec - Domažlice 3:0 (15\,11\,13)
DTSTART;TZID=Europe/Berlin:20240309T110000
DTEND;TZID=Europe/Berlin:20240309T130000
LOCATION:TJ Lokomotiva Liberec 1.\, z.s.\, Jablonecká 562 Liberec - Liberec
  I-Staré Město
SUMMARY:2-Z-A: Liberec-Domažlice
END:VEVENT
BEGIN:VEVENT
UID:37623066-6331-4139-a163-363734333039
DTSTAMP:20260422T191405Z
DESCRIPTION:32/156 Liberec - Domažlice 3:1 (-20\,14\,18\,18)
DTSTART;TZID=Europe/Berlin:20240309T150000
DTEND;TZID=Europe/Berlin:20240309T170000
LOCATION:TJ Lokomotiva Liberec 1.\, z.s.\, Jablonecká 562 Liberec - Liberec
  I-Staré Město
SUMMARY:2-Z-A: Liberec-Domažlice
END:VEVENT
BEGIN:VEVENT
UID:39653537-3533-4261-b864-343938623462
DTSTAMP:20260422T191405Z
DESCRIPTION:33/165 Tuchlovice - Domažlice 3:1 (-24\,16\,14\,20)
DTSTART;TZID=Europe/Berlin:20240316T090000
DTEND;TZID=Europe/Berlin:20240316T110000
LOCATION:Sportovní hala - Doksy\, Sokolská 230 Doksy
SUMMARY:2-Z-A: Tuchlovice-Domažlice
END:VEVENT
BEGIN:VEVENT
UID:37303862-6131-4731-b837-333530613730
DTSTAMP:20260422T191405Z
DESCRIPTION:34/170 Tuchlovice - Domažlice 3:0 (24\,17\,21)
DTSTART;TZID=Europe/Berlin:20240316T130000
DTEND;TZID=Europe/Berlin:20240316T150000
LOCATION:Sportovní hala - Doksy\, Sokolská 230 Doksy
SUMMARY:2-Z-A: Tuchlovice-Domažlice
END:VEVENT
END:VCALENDAR
