BEGIN:VCALENDAR
VERSION:2.0
PRODID:-//S V B C82297//NONSGML kigkonsult.se iCalcreator 2.41.80//
CALSCALE:GREGORIAN
UID:39643138-3833-4361-b063-303363373639
BEGIN:VEVENT
UID:35633630-3034-4535-a466-346138376238
DTSTAMP:20260422T154722Z
DESCRIPTION:1/3 S V B C - Plzeň B 3:1 (-20\,13\,12\,22)
DTSTART;TZID=Europe/Berlin:20231007T100000
DTEND;TZID=Europe/Berlin:20231007T120000
LOCATION:Sportovní hala Řevnice \, Školní 600 Řevnice
SUMMARY:2-Z-A: S V B C-Plzeň B
END:VEVENT
BEGIN:VEVENT
UID:36653536-3732-4931-a662-646266653065
DTSTAMP:20260422T154722Z
DESCRIPTION:2/8 S V B C - Plzeň B 3:0 (13\,20\,20)
DTSTART;TZID=Europe/Berlin:20231007T140000
DTEND;TZID=Europe/Berlin:20231007T160000
LOCATION:Sportovní hala Řevnice \, Školní 600 Řevnice
SUMMARY:2-Z-A: S V B C-Plzeň B
END:VEVENT
BEGIN:VEVENT
UID:39313866-3530-4132-a539-313866373233
DTSTAMP:20260422T154722Z
DESCRIPTION:5/22 S V B C - Kladno 0:3 (-18\,-19\,-22)
DTSTART;TZID=Europe/Berlin:20231021T100000
DTEND;TZID=Europe/Berlin:20231021T120000
LOCATION:Sportovní hala Řevnice \, Školní 600 Řevnice
SUMMARY:2-Z-A: S V B C-Kladno
END:VEVENT
BEGIN:VEVENT
UID:36653333-3862-4163-a663-333434333935
DTSTAMP:20260422T154722Z
DESCRIPTION:6/27 S V B C - Kladno 0:3 (-23\,-23\,-18)
DTSTART;TZID=Europe/Berlin:20231021T140000
DTEND;TZID=Europe/Berlin:20231021T160000
LOCATION:Sportovní hala Řevnice \, Školní 600 Řevnice
SUMMARY:2-Z-A: S V B C-Kladno
END:VEVENT
BEGIN:VEVENT
UID:37303630-3139-4237-a436-393136656561
DTSTAMP:20260422T154722Z
DESCRIPTION:9/41 S V B C - Liberec 3:0 (20\,24\,18)
DTSTART;TZID=Europe/Berlin:20231111T100000
DTEND;TZID=Europe/Berlin:20231111T120000
LOCATION:Sportovní hala Řevnice \, Školní 600 Řevnice
SUMMARY:2-Z-A: S V B C-Liberec
END:VEVENT
BEGIN:VEVENT
UID:64326338-3163-4332-b737-306130663962
DTSTAMP:20260422T154722Z
DESCRIPTION:10/46 S V B C - Liberec 2:3 (-16\,23\,-19\,18\,-5)
DTSTART;TZID=Europe/Berlin:20231111T140000
DTEND;TZID=Europe/Berlin:20231111T160000
LOCATION:Sportovní hala Řevnice \, Školní 600 Řevnice
SUMMARY:2-Z-A: S V B C-Liberec
END:VEVENT
BEGIN:VEVENT
UID:34663336-3933-4636-b437-656433346137
DTSTAMP:20260422T154722Z
DESCRIPTION:11/55 S V B C - Domažlice 3:0 (18\,15\,17)
DTSTART;TZID=Europe/Berlin:20231118T100000
DTEND;TZID=Europe/Berlin:20231118T120000
LOCATION:Sportovní hala Řevnice \, Školní 600 Řevnice
SUMMARY:2-Z-A: S V B C-Domažlice
END:VEVENT
BEGIN:VEVENT
UID:63313664-3931-4263-b732-636430343961
DTSTAMP:20260422T154722Z
DESCRIPTION:12/60 S V B C - Domažlice 3:0 (12\,23\,18)
DTSTART;TZID=Europe/Berlin:20231118T140000
DTEND;TZID=Europe/Berlin:20231118T160000
LOCATION:Sportovní hala Řevnice \, Školní 600 Řevnice
SUMMARY:2-Z-A: S V B C-Domažlice
END:VEVENT
BEGIN:VEVENT
UID:34383633-6262-4730-b036-313066663330
DTSTAMP:20260422T154722Z
DESCRIPTION:15/74 S V B C - Mn. Hradiště 3:2 (20\,-20\,18\,-20\,9)
DTSTART;TZID=Europe/Berlin:20231209T100000
DTEND;TZID=Europe/Berlin:20231209T120000
LOCATION:Sportovní hala Řevnice \, Školní 600 Řevnice
SUMMARY:2-Z-A: S V B C-Mn. Hradiště
END:VEVENT
BEGIN:VEVENT
UID:39663636-3834-4262-b530-646234326364
DTSTAMP:20260422T154722Z
DESCRIPTION:16/79 S V B C - Mn. Hradiště 3:0 (21\,15\,21)
DTSTART;TZID=Europe/Berlin:20231209T140000
DTEND;TZID=Europe/Berlin:20231209T160000
LOCATION:Sportovní hala Řevnice \, Školní 600 Řevnice
SUMMARY:2-Z-A: S V B C-Mn. Hradiště
END:VEVENT
BEGIN:VEVENT
UID:31363231-3236-4562-b239-363530353130
DTSTAMP:20260422T154722Z
DESCRIPTION:21/104 S V B C - Děčín 3:1 (-20\,14\,24\,11)
DTSTART;TZID=Europe/Berlin:20240120T100000
DTEND;TZID=Europe/Berlin:20240120T120000
LOCATION:Sportovní hala Řevnice \, Školní 600 Řevnice
SUMMARY:2-Z-A: S V B C-Děčín
END:VEVENT
BEGIN:VEVENT
UID:33303263-3235-4031-b339-313432643134
DTSTAMP:20260422T154722Z
DESCRIPTION:22/109 S V B C - Děčín 3:0 (12\,12\,14)
DTSTART;TZID=Europe/Berlin:20240120T140000
DTEND;TZID=Europe/Berlin:20240120T160000
LOCATION:Sportovní hala Řevnice \, Školní 600 Řevnice
SUMMARY:2-Z-A: S V B C-Děčín
END:VEVENT
BEGIN:VEVENT
UID:61366563-6430-4465-a437-353439313330
DTSTAMP:20260422T154722Z
DESCRIPTION:25/125 S V B C - Chabařovice 0:3 (-20\,-13\,-20)
DTSTART;TZID=Europe/Berlin:20240210T100000
DTEND;TZID=Europe/Berlin:20240210T120000
LOCATION:Sportovní hala Řevnice \, Školní 600 Řevnice
SUMMARY:2-Z-A: S V B C-Chabařovice
END:VEVENT
BEGIN:VEVENT
UID:37633838-6463-4230-a233-636464353363
DTSTAMP:20260422T154722Z
DESCRIPTION:26/130 S V B C - Chabařovice 3:1 (23\,19\,-14\,21)
DTSTART;TZID=Europe/Berlin:20240210T140000
DTEND;TZID=Europe/Berlin:20240210T160000
LOCATION:Sportovní hala Řevnice \, Školní 600 Řevnice
SUMMARY:2-Z-A: S V B C-Chabařovice
END:VEVENT
BEGIN:VEVENT
UID:39346265-3064-4338-b139-346163333566
DTSTAMP:20260422T154722Z
DESCRIPTION:31/152 S V B C - Tuchlovice 3:0 (14\,5\,15)
DTSTART;TZID=Europe/Berlin:20240309T100000
DTEND;TZID=Europe/Berlin:20240309T120000
LOCATION:Sportovní hala Řevnice \, Školní 600 Řevnice
SUMMARY:2-Z-A: S V B C-Tuchlovice
END:VEVENT
BEGIN:VEVENT
UID:61303861-6537-4964-a438-636165373234
DTSTAMP:20260422T154722Z
DESCRIPTION:32/157 S V B C - Tuchlovice 3:0 (20\,19\,20)
DTSTART;TZID=Europe/Berlin:20240309T140000
DTEND;TZID=Europe/Berlin:20240309T160000
LOCATION:Sportovní hala Řevnice \, Školní 600 Řevnice
SUMMARY:2-Z-A: S V B C-Tuchlovice
END:VEVENT
BEGIN:VEVENT
UID:66373665-6662-4333-a638-663566336633
DTSTAMP:20260422T154722Z
DESCRIPTION:35/173 S V B C - Kralupy 0:3 (-23\,-15\,-19)
DTSTART;TZID=Europe/Berlin:20240323T100000
DTEND;TZID=Europe/Berlin:20240323T120000
LOCATION:Sportovní hala Řevnice \, Školní 600 Řevnice
SUMMARY:2-Z-A: S V B C-Kralupy
END:VEVENT
BEGIN:VEVENT
UID:37663838-3230-4437-a164-386534623036
DTSTAMP:20260422T154722Z
DESCRIPTION:36/178 S V B C - Kralupy 0:3 (-11\,-23\,-20)
DTSTART;TZID=Europe/Berlin:20240323T140000
DTEND;TZID=Europe/Berlin:20240323T160000
LOCATION:Sportovní hala Řevnice \, Školní 600 Řevnice
SUMMARY:2-Z-A: S V B C-Kralupy
END:VEVENT
BEGIN:VEVENT
UID:33653466-6532-4134-a431-663165303730
DTSTAMP:20260422T154722Z
DESCRIPTION:3/14 Děčín - S V B C 3:1 (22\,22\,-16\,21)
DTSTART;TZID=Europe/Berlin:20231014T100000
DTEND;TZID=Europe/Berlin:20231014T120000
LOCATION:Tělocvična OA Rumburk\, Komenského 927 Rumburk - Rumburk 1
SUMMARY:2-Z-A: Děčín-S V B C
END:VEVENT
BEGIN:VEVENT
UID:33383165-3662-4335-b434-633466396266
DTSTAMP:20260422T154722Z
DESCRIPTION:4/19 Děčín - S V B C 0:3 (-15\,-19\,-20)
DTSTART;TZID=Europe/Berlin:20231014T140000
DTEND;TZID=Europe/Berlin:20231014T160000
LOCATION:Tělocvična OA Rumburk\, Komenského 927 Rumburk - Rumburk 1
SUMMARY:2-Z-A: Děčín-S V B C
END:VEVENT
BEGIN:VEVENT
UID:31663339-6330-4366-b261-353131313238
DTSTAMP:20260422T154722Z
DESCRIPTION:7/35 Chabařovice - S V B C 3:2 (-23\,23\,-14\,21\,14)
DTSTART;TZID=Europe/Berlin:20231104T100000
DTEND;TZID=Europe/Berlin:20231104T120000
LOCATION:Střední průmyslová škola strojní a elektro\, Resslova 210 Ústí nad
  Labem - Klíše
SUMMARY:2-Z-A: Chabařovice-S V B C
END:VEVENT
BEGIN:VEVENT
UID:61353039-3331-4530-a134-316239633532
DTSTAMP:20260422T154722Z
DESCRIPTION:8/40 Chabařovice - S V B C 0:3 (-16\,-12\,-22)
DTSTART;TZID=Europe/Berlin:20231104T140000
DTEND;TZID=Europe/Berlin:20231104T160000
LOCATION:Střední průmyslová škola strojní a elektro\, Resslova 210 Ústí nad
  Labem - Klíše
SUMMARY:2-Z-A: Chabařovice-S V B C
END:VEVENT
BEGIN:VEVENT
UID:30623238-6266-4338-b239-313363633537
DTSTAMP:20260422T154722Z
DESCRIPTION:13/62 Tuchlovice - S V B C 0:3 (-23\,-9\,-23)
DTSTART;TZID=Europe/Berlin:20231202T090000
DTEND;TZID=Europe/Berlin:20231202T110000
LOCATION:Sportovní hala - Doksy\, Sokolská 230 Doksy
SUMMARY:2-Z-A: Tuchlovice-S V B C
END:VEVENT
BEGIN:VEVENT
UID:63643337-3435-4465-b266-376366666331
DTSTAMP:20260422T154722Z
DESCRIPTION:14/67 Tuchlovice - S V B C 3:1 (-17\,14\,2\,0)
DTSTART;TZID=Europe/Berlin:20231202T130000
DTEND;TZID=Europe/Berlin:20231202T150000
LOCATION:Sportovní hala - Doksy\, Sokolská 230 Doksy
SUMMARY:2-Z-A: Tuchlovice-S V B C
END:VEVENT
BEGIN:VEVENT
UID:34663034-3033-4861-a366-366231613664
DTSTAMP:20260422T154722Z
DESCRIPTION:17/83 Kralupy - S V B C 2:3 (20\,-19\,-23\,17\,-12)
DTSTART;TZID=Europe/Berlin:20231216T100000
DTEND;TZID=Europe/Berlin:20231216T120000
LOCATION:TJ KRALUPY\, z.s.\, Gen. Klapálka 1029 Kralupy nad Vltavou
SUMMARY:2-Z-A: Kralupy-S V B C
END:VEVENT
BEGIN:VEVENT
UID:31666263-3832-4631-a336-383163663064
DTSTAMP:20260422T154722Z
DESCRIPTION:18/88 Kralupy - S V B C 3:1 (18\,-22\,22\,16)
DTSTART;TZID=Europe/Berlin:20231216T140000
DTEND;TZID=Europe/Berlin:20231216T160000
LOCATION:TJ KRALUPY\, z.s.\, Gen. Klapálka 1029 Kralupy nad Vltavou
SUMMARY:2-Z-A: Kralupy-S V B C
END:VEVENT
BEGIN:VEVENT
UID:35666231-6463-4437-b565-323637396264
DTSTAMP:20260422T154722Z
DESCRIPTION:19/93 Plzeň B - S V B C 0:3 (-13\,-13\,-18)
DTSTART;TZID=Europe/Berlin:20240113T110000
DTEND;TZID=Europe/Berlin:20240113T130000
LOCATION:Městská sportovní hala  -  hala 2\, Úslavská 2357 Plzeň - Východní
  Předměstí
SUMMARY:2-Z-A: Plzeň B-S V B C
END:VEVENT
BEGIN:VEVENT
UID:31356534-3336-4336-b031-376535613661
DTSTAMP:20260422T154722Z
DESCRIPTION:20/98 Plzeň B - S V B C 0:3 (-21\,-21\,-20)
DTSTART;TZID=Europe/Berlin:20240113T150000
DTEND;TZID=Europe/Berlin:20240113T170000
LOCATION:Městská sportovní hala  -  hala 2\, Úslavská 2357 Plzeň - Východní
  Předměstí
SUMMARY:2-Z-A: Plzeň B-S V B C
END:VEVENT
BEGIN:VEVENT
UID:33386438-3865-4362-a130-626261386139
DTSTAMP:20260422T154722Z
DESCRIPTION:23/112 Kladno - S V B C 3:1 (-28\,22\,23\,21)
DTSTART;TZID=Europe/Berlin:20240127T100000
DTEND;TZID=Europe/Berlin:20240127T120000
LOCATION:Kladenská sportovní hala\, Sportovců 817 Kladno - Rozdělov
SUMMARY:2-Z-A: Kladno-S V B C
END:VEVENT
BEGIN:VEVENT
UID:38303235-6139-4735-b837-383763333334
DTSTAMP:20260422T154722Z
DESCRIPTION:24/117 Kladno - S V B C 3:2 (19\,20\,-22\,-16\,18)
DTSTART;TZID=Europe/Berlin:20240127T140000
DTEND;TZID=Europe/Berlin:20240127T160000
LOCATION:Kladenská sportovní hala\, Sportovců 817 Kladno - Rozdělov
SUMMARY:2-Z-A: Kladno-S V B C
END:VEVENT
BEGIN:VEVENT
UID:63303833-3632-4233-b266-323166343035
DTSTAMP:20260422T154722Z
DESCRIPTION:27/131 Liberec - S V B C 0:3 (-19\,-14\,-15)
DTSTART;TZID=Europe/Berlin:20240217T100000
DTEND;TZID=Europe/Berlin:20240217T120000
LOCATION:TJ Lokomotiva Liberec 1.\, z.s.\, Jablonecká 562 Liberec - Liberec
  I-Staré Město
SUMMARY:2-Z-A: Liberec-S V B C
END:VEVENT
BEGIN:VEVENT
UID:35326233-6537-4234-b962-363934613039
DTSTAMP:20260422T154722Z
DESCRIPTION:28/136 Liberec - S V B C 0:3 (-16\,-12\,-18)
DTSTART;TZID=Europe/Berlin:20240217T140000
DTEND;TZID=Europe/Berlin:20240217T160000
LOCATION:TJ Lokomotiva Liberec 1.\, z.s.\, Jablonecká 562 Liberec - Liberec
  I-Staré Město
SUMMARY:2-Z-A: Liberec-S V B C
END:VEVENT
BEGIN:VEVENT
UID:63313362-3263-4430-a537-393661366634
DTSTAMP:20260422T154722Z
DESCRIPTION:29/145 Domažlice - S V B C 3:0 (18\,19\,20)
DTSTART;TZID=Europe/Berlin:20240224T090000
DTEND;TZID=Europe/Berlin:20240224T110000
LOCATION:Sportovní hala ZŠ Komenského Domažlice\, Komenského 17 Domažlice -
  Týnské Předměstí
SUMMARY:2-Z-A: Domažlice-S V B C
END:VEVENT
BEGIN:VEVENT
UID:33626166-3766-4364-b761-663936653035
DTSTAMP:20260422T154722Z
DESCRIPTION:30/150 Domažlice - S V B C 2:3 (-23\,26\,-16\,21\,-15)
DTSTART;TZID=Europe/Berlin:20240224T130000
DTEND;TZID=Europe/Berlin:20240224T150000
LOCATION:Sportovní hala ZŠ Komenského Domažlice\, Komenského 17 Domažlice -
  Týnské Předměstí
SUMMARY:2-Z-A: Domažlice-S V B C
END:VEVENT
BEGIN:VEVENT
UID:31653638-3935-4139-a361-373962613666
DTSTAMP:20260422T154722Z
DESCRIPTION:33/164 Mn. Hradiště - S V B C 1:3 (-20\,20\,-16\,-25)
DTSTART;TZID=Europe/Berlin:20240316T100000
DTEND;TZID=Europe/Berlin:20240316T120000
LOCATION:Sportovní hala BIOS\, Sokolovská 254 Mnichovo Hradiště
SUMMARY:2-Z-A: Mn. Hradiště-S V B C
END:VEVENT
BEGIN:VEVENT
UID:64316362-3061-4161-b136-316331363461
DTSTAMP:20260422T154722Z
DESCRIPTION:34/169 Mn. Hradiště - S V B C 1:3 (-21\,26\,-20\,-15)
DTSTART;TZID=Europe/Berlin:20240316T140000
DTEND;TZID=Europe/Berlin:20240316T160000
LOCATION:Sportovní hala BIOS\, Sokolovská 254 Mnichovo Hradiště
SUMMARY:2-Z-A: Mn. Hradiště-S V B C
END:VEVENT
END:VCALENDAR
