BEGIN:VCALENDAR
VERSION:2.0
PRODID:-//PVK Olymp Praha82336//NONSGML kigkonsult.se iCalcreator 2.41.80//
CALSCALE:GREGORIAN
UID:61393435-3633-4365-b932-616564356630
BEGIN:VEVENT
UID:39656239-3235-4332-b037-656631643063
DTSTAMP:20260423T162018Z
DESCRIPTION:1/1 Olymp - Plzeň 3:0 (22\,16\,16)
DTSTART;TZID=Europe/Berlin:20230917T100000
DTEND;TZID=Europe/Berlin:20230917T120000
LOCATION:VCM OLYMP PRAHA \, Radlická 115 Praha - Radlice
SUMMARY:EX-U22Z-1C: Olymp-Plzeň
END:VEVENT
BEGIN:VEVENT
UID:61326266-3239-4866-a334-363131336662
DTSTAMP:20260423T162018Z
DESCRIPTION:1/3 Kr. Pole - Olymp 0:3 (-23\,-19\,-11)
DTSTART;TZID=Europe/Berlin:20230917T170000
DTEND;TZID=Europe/Berlin:20230917T190000
LOCATION:VCM OLYMP PRAHA \, Radlická 115 Praha - Radlice
SUMMARY:EX-U22Z-1C: Kr. Pole-Olymp
END:VEVENT
BEGIN:VEVENT
UID:36303364-6336-4938-a134-626637353637
DTSTAMP:20260423T162018Z
DESCRIPTION:2/3 Olymp - Liberec 0:3 (-21\,-25\,-19)
DTSTART;TZID=Europe/Berlin:20231008T100000
DTEND;TZID=Europe/Berlin:20231008T120000
LOCATION:Dukla Liberec\, Jeronýmova 558 Liberec - Liberec VII-Horní Růžodol
SUMMARY:EX-U22Z-2A: Olymp-Liberec
END:VEVENT
BEGIN:VEVENT
UID:34663961-6465-4235-b439-346265646138
DTSTAMP:20260423T162018Z
DESCRIPTION:2/2 Hradec Králové - Olymp 0:3 (-16\,-12\,-13)
DTSTART;TZID=Europe/Berlin:20231008T133000
DTEND;TZID=Europe/Berlin:20231008T153000
LOCATION:Dukla Liberec\, Jeronýmova 558 Liberec - Liberec VII-Horní Růžodol
SUMMARY:EX-U22Z-2A: Hradec Králové-Olymp
END:VEVENT
BEGIN:VEVENT
UID:31663866-3936-4330-b565-613035353162
DTSTAMP:20260423T162018Z
DESCRIPTION:3/1 Olymp - Liberec 3:2 (-20\,18\,20\,-19\,5)
DTSTART;TZID=Europe/Berlin:20231105T100000
DTEND;TZID=Europe/Berlin:20231105T120000
LOCATION:PVK Olymp Praha\, Přípotoční 300 Praha - Vršovice
SUMMARY:EX-U22Z-3A: Olymp-Liberec
END:VEVENT
BEGIN:VEVENT
UID:62633561-3563-4233-b861-393437376566
DTSTAMP:20260423T162018Z
DESCRIPTION:3/3 Ostrava - Olymp 1:3 (-20\,-23\,15\,-18)
DTSTART;TZID=Europe/Berlin:20231105T170000
DTEND;TZID=Europe/Berlin:20231105T190000
LOCATION:PVK Olymp Praha\, Přípotoční 300 Praha - Vršovice
SUMMARY:EX-U22Z-3A: Ostrava-Olymp
END:VEVENT
BEGIN:VEVENT
UID:39343465-3563-4738-b731-323263336136
DTSTAMP:20260423T162018Z
DESCRIPTION:4/2 Olymp - Liberec 0:3 (-27\,-18\,-15)
DTSTART;TZID=Europe/Berlin:20231126T133000
DTEND;TZID=Europe/Berlin:20231126T153000
LOCATION:TJ Slavia Hradec Králové\, Víta Nejedlého 1216 Hradec Králové
SUMMARY:EX-U22Z-4A: Olymp-Liberec
END:VEVENT
BEGIN:VEVENT
UID:62646431-6431-4830-a264-623132333636
DTSTAMP:20260423T162018Z
DESCRIPTION:4/1 Hradec Králové - Olymp 3:0 (22\,23\,21)
DTSTART;TZID=Europe/Berlin:20231126T100000
DTEND;TZID=Europe/Berlin:20231126T120000
LOCATION:TJ Slavia Hradec Králové\, Víta Nejedlého 1216 Hradec Králové
SUMMARY:EX-U22Z-4A: Hradec Králové-Olymp
END:VEVENT
BEGIN:VEVENT
UID:36636166-6164-4039-a537-636365393736
DTSTAMP:20260423T162018Z
DESCRIPTION:5/3 Olymp - Junior 3:2 (21\,-18\,-20\,19\,12)
DTSTART;TZID=Europe/Berlin:20240121T170000
DTEND;TZID=Europe/Berlin:20240121T190000
LOCATION:ZŠ Holzova 1\, Holzova 1461 Brno - Líšeň
SUMMARY:EX-U22Z-5B: Olymp-Junior
END:VEVENT
BEGIN:VEVENT
UID:61653262-6632-4534-b833-623531396166
DTSTAMP:20260423T162018Z
DESCRIPTION:5/2 Střešovice - Olymp 0:3 (-22\,-22\,-22)
DTSTART;TZID=Europe/Berlin:20240121T133000
DTEND;TZID=Europe/Berlin:20240121T153000
LOCATION:ZŠ Holzova 1\, Holzova 1461 Brno - Líšeň
SUMMARY:EX-U22Z-5B: Střešovice-Olymp
END:VEVENT
BEGIN:VEVENT
UID:39616564-6133-4634-b333-306538363864
DTSTAMP:20260423T162018Z
DESCRIPTION:6/1 Olymp - Liberec 2:3 (19\,-23\,-16\,20\,-7)
DTSTART;TZID=Europe/Berlin:20240204T100000
DTEND;TZID=Europe/Berlin:20240204T120000
LOCATION:PVK Olymp Praha\, Přípotoční 300 Praha - Vršovice
SUMMARY:EX-U22Z-6A: Olymp-Liberec
END:VEVENT
BEGIN:VEVENT
UID:33323235-3033-4462-b532-333732636537
DTSTAMP:20260423T162018Z
DESCRIPTION:6/3 Kr. Pole - Olymp 1:3 (-18\,19\,-17\,-16)
DTSTART;TZID=Europe/Berlin:20240204T170000
DTEND;TZID=Europe/Berlin:20240204T190000
LOCATION:PVK Olymp Praha\, Přípotoční 300 Praha - Vršovice
SUMMARY:EX-U22Z-6A: Kr. Pole-Olymp
END:VEVENT
BEGIN:VEVENT
UID:38363036-3166-4936-b662-663163613237
DTSTAMP:20260423T162018Z
DESCRIPTION:7/2 Olymp - Junior 2:3 (13\,-10\,24\,-18\,-12)
DTSTART;TZID=Europe/Berlin:20240303T133000
DTEND;TZID=Europe/Berlin:20240303T153000
LOCATION:Dukla Liberec\, Jeronýmova 558 Liberec - Liberec VII-Horní Růžodol
SUMMARY:EX-U22Z-7A: Olymp-Junior
END:VEVENT
BEGIN:VEVENT
UID:63316130-3962-4362-a566-333265306131
DTSTAMP:20260423T162018Z
DESCRIPTION:7/1 Liberec - Olymp 3:1 (-19\,20\,20\,18)
DTSTART;TZID=Europe/Berlin:20240303T100000
DTEND;TZID=Europe/Berlin:20240303T120000
LOCATION:Dukla Liberec\, Jeronýmova 558 Liberec - Liberec VII-Horní Růžodol
SUMMARY:EX-U22Z-7A: Liberec-Olymp
END:VEVENT
BEGIN:VEVENT
UID:62663333-6638-4961-b336-653664643534
DTSTAMP:20260423T162018Z
DESCRIPTION:1/1 Olymp - Junior 3:1 (-16\,18\,11\,17)
DTSTART;TZID=Europe/Berlin:20240425T160000
DTEND;TZID=Europe/Berlin:20240425T180000
LOCATION:Hala míčových sportů\, Varenská 3098 Ostrava - Moravská Ostrava
SUMMARY:EX-U22Z-F2: Olymp-Junior
END:VEVENT
BEGIN:VEVENT
UID:66343566-6366-4634-a337-303339616638
DTSTAMP:20260423T162018Z
DESCRIPTION:2/3 Olymp - Kr. Pole 3:1 (17\,-24\,19\,19)
DTSTART;TZID=Europe/Berlin:20240426T150000
DTEND;TZID=Europe/Berlin:20240426T170000
LOCATION:Hala míčových sportů\, Varenská 3098 Ostrava - Moravská Ostrava
SUMMARY:EX-U22Z-F2: Olymp-Kr. Pole
END:VEVENT
BEGIN:VEVENT
UID:38323663-3265-4538-b963-393232623830
DTSTAMP:20260423T162018Z
DESCRIPTION:1/3 Olymp - Ostrava 3:0 (23\,26\,19)\n1F2-2F1
DTSTART;TZID=Europe/Berlin:20240427T160000
DTEND;TZID=Europe/Berlin:20240427T180000
LOCATION:PVK Olymp Praha\, Přípotoční 300 Praha - Vršovice
SUMMARY:EX-U22Z-F: Olymp-Ostrava
END:VEVENT
BEGIN:VEVENT
UID:32316662-3861-4466-a430-666264666163
DTSTAMP:20260423T162018Z
DESCRIPTION:2/5 Olymp - Liberec 2:3 (-16\,22\,-12\,21\,-7)\nfinále
DTSTART;TZID=Europe/Berlin:20240428T130000
DTEND;TZID=Europe/Berlin:20240428T150000
LOCATION:PVK Olymp Praha\, Přípotoční 300 Praha - Vršovice
SUMMARY:EX-U22Z-F: Olymp-Liberec
END:VEVENT
END:VCALENDAR
