BEGIN:VCALENDAR
VERSION:2.0
PRODID:-//TJ Junior Brno82337//NONSGML kigkonsult.se iCalcreator 2.41.80//
CALSCALE:GREGORIAN
UID:35303462-3236-4136-b833-373136623566
BEGIN:VEVENT
UID:61343134-3037-4133-b163-653332303832
DTSTAMP:20260425T133151Z
DESCRIPTION:1/3 Junior - Ostrava 0:3 (-16\,-22\,-23)
DTSTART;TZID=Europe/Berlin:20230917T170000
DTEND;TZID=Europe/Berlin:20230917T190000
LOCATION:Hala míčových sportů\, Varenská 3098 Ostrava - Moravská Ostrava
SUMMARY:EX-U22Z-1B: Junior-Ostrava
END:VEVENT
BEGIN:VEVENT
UID:32306234-3739-4465-a365-396363386433
DTSTAMP:20260425T133151Z
DESCRIPTION:1/2 Přerov - Junior 1:3 (24\,-20\,-19\,-14)
DTSTART;TZID=Europe/Berlin:20230917T130000
DTEND;TZID=Europe/Berlin:20230917T150000
LOCATION:Hala míčových sportů\, Varenská 3098 Ostrava - Moravská Ostrava
SUMMARY:EX-U22Z-1B: Přerov-Junior
END:VEVENT
BEGIN:VEVENT
UID:62383833-6435-4830-b534-356437663634
DTSTAMP:20260425T133151Z
DESCRIPTION:2/3 Junior - Plzeň 3:1 (11\,21\,-24\,19)
DTSTART;TZID=Europe/Berlin:20231008T170000
DTEND;TZID=Europe/Berlin:20231008T190000
LOCATION:Městská sportovní hala  -  hala 2\, Úslavská 2357 Plzeň - Východní
  Předměstí
SUMMARY:EX-U22Z-2B: Junior-Plzeň
END:VEVENT
BEGIN:VEVENT
UID:33623830-3261-4635-a564-663035663062
DTSTAMP:20260425T133151Z
DESCRIPTION:2/2 Ostrava - Junior 3:2 (-19\,-21\,16\,16\,8)
DTSTART;TZID=Europe/Berlin:20231008T133000
DTEND;TZID=Europe/Berlin:20231008T153000
LOCATION:Městská sportovní hala  -  hala 2\, Úslavská 2357 Plzeň - Východní
  Předměstí
SUMMARY:EX-U22Z-2B: Ostrava-Junior
END:VEVENT
BEGIN:VEVENT
UID:37313831-6534-4964-b665-363936633062
DTSTAMP:20260425T133151Z
DESCRIPTION:3/1 Junior - Hradec Králové 2:3 (11\,-17\,-17\,14\,-9)
DTSTART;TZID=Europe/Berlin:20231105T100000
DTEND;TZID=Europe/Berlin:20231105T120000
LOCATION:ZŠ Holzova 1\, Holzova 1461 Brno - Líšeň
SUMMARY:EX-U22Z-3B: Junior-Hradec Králové
END:VEVENT
BEGIN:VEVENT
UID:30626437-3237-4236-a465-343962373865
DTSTAMP:20260425T133151Z
DESCRIPTION:3/3 Střešovice - Junior 1:3 (21\,-27\,-16\,-22)
DTSTART;TZID=Europe/Berlin:20231105T170000
DTEND;TZID=Europe/Berlin:20231105T190000
LOCATION:ZŠ Holzova 1\, Holzova 1461 Brno - Líšeň
SUMMARY:EX-U22Z-3B: Střešovice-Junior
END:VEVENT
BEGIN:VEVENT
UID:65393066-3766-4731-b530-356466653266
DTSTAMP:20260425T133151Z
DESCRIPTION:4/2 Junior - Ostrava 3:1 (-17\,19\,18\,24)
DTSTART;TZID=Europe/Berlin:20231126T133000
DTEND;TZID=Europe/Berlin:20231126T153000
LOCATION:Sportovní gymnázium Ludvíka Daňka\, Botanická 63 Brno - Ponava
SUMMARY:EX-U22Z-4B: Junior-Ostrava
END:VEVENT
BEGIN:VEVENT
UID:38393630-6566-4233-a665-376333666339
DTSTAMP:20260425T133151Z
DESCRIPTION:4/1 Kr. Pole - Junior 3:1 (18\,-18\,21\,25)
DTSTART;TZID=Europe/Berlin:20231126T100000
DTEND;TZID=Europe/Berlin:20231126T120000
LOCATION:Sportovní gymnázium Ludvíka Daňka\, Botanická 63 Brno - Ponava
SUMMARY:EX-U22Z-4B: Kr. Pole-Junior
END:VEVENT
BEGIN:VEVENT
UID:36326233-3533-4435-a466-616564623338
DTSTAMP:20260425T133151Z
DESCRIPTION:5/1 Junior - Střešovice 3:0 (22\,19\,17)
DTSTART;TZID=Europe/Berlin:20240121T100000
DTEND;TZID=Europe/Berlin:20240121T120000
LOCATION:ZŠ Holzova 1\, Holzova 1461 Brno - Líšeň
SUMMARY:EX-U22Z-5B: Junior-Střešovice
END:VEVENT
BEGIN:VEVENT
UID:62333037-3337-4636-a564-373634313238
DTSTAMP:20260425T133151Z
DESCRIPTION:5/3 Olymp - Junior 3:2 (21\,-18\,-20\,19\,12)
DTSTART;TZID=Europe/Berlin:20240121T170000
DTEND;TZID=Europe/Berlin:20240121T190000
LOCATION:ZŠ Holzova 1\, Holzova 1461 Brno - Líšeň
SUMMARY:EX-U22Z-5B: Olymp-Junior
END:VEVENT
BEGIN:VEVENT
UID:61336235-3136-4437-a461-613063386335
DTSTAMP:20260425T133151Z
DESCRIPTION:6/2 Junior - Hradec Králové 3:0 (22\,19\,21)
DTSTART;TZID=Europe/Berlin:20240211T133000
DTEND;TZID=Europe/Berlin:20240211T153000
LOCATION:Hala mládeže\, Gajdošova 1893 Ostrava - Moravská Ostrava
SUMMARY:EX-U22Z-6B: Junior-Hradec Králové
END:VEVENT
BEGIN:VEVENT
UID:64373933-6134-4437-b661-643337646238
DTSTAMP:20260425T133151Z
DESCRIPTION:6/1 Ostrava - Junior 1:3 (18\,-11\,-16\,-24)
DTSTART;TZID=Europe/Berlin:20240211T100000
DTEND;TZID=Europe/Berlin:20240211T120000
LOCATION:Hala mládeže\, Gajdošova 1893 Ostrava - Moravská Ostrava
SUMMARY:EX-U22Z-6B: Ostrava-Junior
END:VEVENT
BEGIN:VEVENT
UID:37393635-3835-4531-a536-623736653564
DTSTAMP:20260425T133151Z
DESCRIPTION:7/3 Junior - Liberec 2:3 (20\,-13\,-14\,19\,-9)
DTSTART;TZID=Europe/Berlin:20240303T170000
DTEND;TZID=Europe/Berlin:20240303T190000
LOCATION:Dukla Liberec\, Jeronýmova 558 Liberec - Liberec VII-Horní Růžodol
SUMMARY:EX-U22Z-7A: Junior-Liberec
END:VEVENT
BEGIN:VEVENT
UID:33666131-6435-4238-b261-343135306438
DTSTAMP:20260425T133151Z
DESCRIPTION:7/2 Olymp - Junior 2:3 (13\,-10\,24\,-18\,-12)
DTSTART;TZID=Europe/Berlin:20240303T133000
DTEND;TZID=Europe/Berlin:20240303T153000
LOCATION:Dukla Liberec\, Jeronýmova 558 Liberec - Liberec VII-Horní Růžodol
SUMMARY:EX-U22Z-7A: Olymp-Junior
END:VEVENT
BEGIN:VEVENT
UID:31303363-6330-4434-b633-373431646239
DTSTAMP:20260425T133151Z
DESCRIPTION:2/2 Junior - Kr. Pole 1:3 (-20\,-19\,19\,-14)
DTSTART;TZID=Europe/Berlin:20240426T100000
DTEND;TZID=Europe/Berlin:20240426T120000
LOCATION:Hala míčových sportů\, Varenská 3098 Ostrava - Moravská Ostrava
SUMMARY:EX-U22Z-F2: Junior-Kr. Pole
END:VEVENT
BEGIN:VEVENT
UID:66393064-3836-4139-b739-623933333763
DTSTAMP:20260425T133151Z
DESCRIPTION:1/1 Olymp - Junior 3:1 (-16\,18\,11\,17)
DTSTART;TZID=Europe/Berlin:20240425T160000
DTEND;TZID=Europe/Berlin:20240425T180000
LOCATION:Hala míčových sportů\, Varenská 3098 Ostrava - Moravská Ostrava
SUMMARY:EX-U22Z-F2: Olymp-Junior
END:VEVENT
BEGIN:VEVENT
UID:37613133-3638-4961-a665-356336363962
DTSTAMP:20260425T133151Z
DESCRIPTION:1/1 Hradec Králové - Junior 1:3 (-23\,-18\,19\,-18)\no 5.-6. mí
 sto
DTSTART;TZID=Europe/Berlin:20240427T100000
DTEND;TZID=Europe/Berlin:20240427T120000
LOCATION:TJ Slavia Hradec Králové\, Víta Nejedlého 1216 Hradec Králové
SUMMARY:EX-U22Z-F: Hradec Králové-Junior
END:VEVENT
END:VCALENDAR
