BEGIN:VCALENDAR
VERSION:2.0
PRODID:-//TJ Jičín82373//NONSGML kigkonsult.se iCalcreator 2.41.80//
CALSCALE:GREGORIAN
UID:39376336-6666-4232-b630-396564376561
BEGIN:VEVENT
UID:61666532-6531-4434-b337-363035303834
DTSTAMP:20260423T004413Z
DESCRIPTION:5/15 Jičín - Mn. Hradiště 2:3 (26\,15\,-21\,-25\,-13)
DTSTART;TZID=Europe/Berlin:20231007T100000
DTEND;TZID=Europe/Berlin:20231007T120000
LOCATION:Hala 3. základní školy Jičín\, Poděbradova 18 Jičín - Nové Město
SUMMARY:1-U22Z-B: Jičín-Mn. Hradiště
END:VEVENT
BEGIN:VEVENT
UID:37363931-3662-4139-a337-336132356364
DTSTAMP:20260423T004413Z
DESCRIPTION:6/18 Jičín - Mn. Hradiště 3:1 (20\,-23\,19\,12)
DTSTART;TZID=Europe/Berlin:20231007T140000
DTEND;TZID=Europe/Berlin:20231007T160000
LOCATION:Hala 3. základní školy Jičín\, Poděbradova 18 Jičín - Nové Město
SUMMARY:1-U22Z-B: Jičín-Mn. Hradiště
END:VEVENT
BEGIN:VEVENT
UID:33363963-6530-4633-b164-393030376237
DTSTAMP:20260423T004413Z
DESCRIPTION:9/26 Jičín - Benátky n. J. 3:2 (-21\,19\,-23\,19\,12)
DTSTART;TZID=Europe/Berlin:20231104T100000
DTEND;TZID=Europe/Berlin:20231104T120000
LOCATION:Hala 3. základní školy Jičín\, Poděbradova 18 Jičín - Nové Město
SUMMARY:1-U22Z-B: Jičín-Benátky n. J.
END:VEVENT
BEGIN:VEVENT
UID:61333838-3932-4236-b865-363334663764
DTSTAMP:20260423T004413Z
DESCRIPTION:10/29 Jičín - Benátky n. J. 3:0 (19\,12\,7)
DTSTART;TZID=Europe/Berlin:20231104T140000
DTEND;TZID=Europe/Berlin:20231104T160000
LOCATION:Hala 3. základní školy Jičín\, Poděbradova 18 Jičín - Nové Město
SUMMARY:1-U22Z-B: Jičín-Benátky n. J.
END:VEVENT
BEGIN:VEVENT
UID:32363463-3964-4665-b561-336364356433
DTSTAMP:20260423T004413Z
DESCRIPTION:11/33 Jičín - Liberec B 3:0 (15\,24\,17)
DTSTART;TZID=Europe/Berlin:20231111T100000
DTEND;TZID=Europe/Berlin:20231111T120000
LOCATION:Hala 3. základní školy Jičín\, Poděbradova 18 Jičín - Nové Město
SUMMARY:1-U22Z-B: Jičín-Liberec B
END:VEVENT
BEGIN:VEVENT
UID:30323662-3363-4139-a535-356432626132
DTSTAMP:20260423T004413Z
DESCRIPTION:12/36 Jičín - Liberec B 1:3 (-24\,-24\,11\,-24)
DTSTART;TZID=Europe/Berlin:20231111T140000
DTEND;TZID=Europe/Berlin:20231111T160000
LOCATION:Hala 3. základní školy Jičín\, Poděbradova 18 Jičín - Nové Město
SUMMARY:1-U22Z-B: Jičín-Liberec B
END:VEVENT
BEGIN:VEVENT
UID:66626435-3361-4666-a438-663234303138
DTSTAMP:20260423T004413Z
DESCRIPTION:13/37 Jičín - Mikulova 2:3 (-23\,-20\,15\,23\,-6)
DTSTART;TZID=Europe/Berlin:20231125T140000
DTEND;TZID=Europe/Berlin:20231125T160000
LOCATION:Hala 3. základní školy Jičín\, Poděbradova 18 Jičín - Nové Město
SUMMARY:1-U22Z-B: Jičín-Mikulova
END:VEVENT
BEGIN:VEVENT
UID:36313164-3637-4165-b365-313163306239
DTSTAMP:20260423T004413Z
DESCRIPTION:14/40 Jičín - Mikulova 3:0 (20\,20\,23)
DTSTART;TZID=Europe/Berlin:20231125T160000
DTEND;TZID=Europe/Berlin:20231125T180000
LOCATION:Hala 3. základní školy Jičín\, Poděbradova 18 Jičín - Nové Město
SUMMARY:1-U22Z-B: Jičín-Mikulova
END:VEVENT
BEGIN:VEVENT
UID:34636436-3862-4335-b936-366339326638
DTSTAMP:20260423T004413Z
DESCRIPTION:17/50 Jičín - Roztoky 3:0 (18\,19\,14)
DTSTART;TZID=Europe/Berlin:20231216T100000
DTEND;TZID=Europe/Berlin:20231216T120000
LOCATION:Hala 3. základní školy Jičín\, Poděbradova 18 Jičín - Nové Město
SUMMARY:1-U22Z-B: Jičín-Roztoky
END:VEVENT
BEGIN:VEVENT
UID:37613734-3365-4361-a662-623536376330
DTSTAMP:20260423T004413Z
DESCRIPTION:18/53 Jičín - Roztoky 3:2 (22\,-19\,-21\,20\,6)
DTSTART;TZID=Europe/Berlin:20231216T140000
DTEND;TZID=Europe/Berlin:20231216T160000
LOCATION:Hala 3. základní školy Jičín\, Poděbradova 18 Jičín - Nové Město
SUMMARY:1-U22Z-B: Jičín-Roztoky
END:VEVENT
BEGIN:VEVENT
UID:64313466-6539-4433-b439-373065656536
DTSTAMP:20260423T004413Z
DESCRIPTION:1/3 Liberec B - Jičín 1:3 (-18\,17\,-22\,-21)
DTSTART;TZID=Europe/Berlin:20230916T120000
DTEND;TZID=Europe/Berlin:20230916T140000
LOCATION:Městská sportovní hala\, U Přehrady 4747 Jablonec nad Nisou
SUMMARY:1-U22Z-B: Liberec B-Jičín
END:VEVENT
BEGIN:VEVENT
UID:33346335-3535-4530-a430-343233646536
DTSTAMP:20260423T004413Z
DESCRIPTION:2/6 Liberec B - Jičín 1:3 (-16\,20\,-13\,-23)
DTSTART;TZID=Europe/Berlin:20230916T140000
DTEND;TZID=Europe/Berlin:20230916T160000
LOCATION:Městská sportovní hala\, U Přehrady 4747 Jablonec nad Nisou
SUMMARY:1-U22Z-B: Liberec B-Jičín
END:VEVENT
BEGIN:VEVENT
UID:37306362-3565-4839-a632-613763316662
DTSTAMP:20260423T004413Z
DESCRIPTION:3/7 Mikulova - Jičín 3:1 (-27\,18\,23\,8)
DTSTART;TZID=Europe/Berlin:20230930T100000
DTEND;TZID=Europe/Berlin:20230930T120000
LOCATION:Sportovní hala Čestlice\, Průhonická 305 Čestlice
SUMMARY:1-U22Z-B: Mikulova-Jičín
END:VEVENT
BEGIN:VEVENT
UID:30306439-3038-4966-b362-346434316465
DTSTAMP:20260423T004413Z
DESCRIPTION:4/10 Mikulova - Jičín 3:2 (-23\,-21\,11\,16\,9)
DTSTART;TZID=Europe/Berlin:20230930T140000
DTEND;TZID=Europe/Berlin:20230930T160000
LOCATION:Sportovní hala Čestlice\, Průhonická 305 Čestlice
SUMMARY:1-U22Z-B: Mikulova-Jičín
END:VEVENT
BEGIN:VEVENT
UID:61376562-6632-4964-a562-333865663830
DTSTAMP:20260423T004413Z
DESCRIPTION:7/20 Roztoky - Jičín 2:3 (19\,-23\,-19\,23\,-14)
DTSTART;TZID=Europe/Berlin:20231119T100000
DTEND;TZID=Europe/Berlin:20231119T120000
LOCATION:Tělocvična ZŠ Roztoky\, Školní nám. 470 Roztoky
SUMMARY:1-U22Z-B: Roztoky-Jičín
END:VEVENT
BEGIN:VEVENT
UID:33393235-3630-4532-b430-376666653664
DTSTAMP:20260423T004413Z
DESCRIPTION:8/23 Roztoky - Jičín 3:0 (7\,15\,26)
DTSTART;TZID=Europe/Berlin:20231119T140000
DTEND;TZID=Europe/Berlin:20231119T160000
LOCATION:Tělocvična ZŠ Roztoky\, Školní nám. 470 Roztoky
SUMMARY:1-U22Z-B: Roztoky-Jičín
END:VEVENT
BEGIN:VEVENT
UID:33613166-3138-4830-a165-316136306232
DTSTAMP:20260423T004413Z
DESCRIPTION:15/45 Mn. Hradiště - Jičín 1:3 (-20\,24\,-24\,-16)
DTSTART;TZID=Europe/Berlin:20231202T090000
DTEND;TZID=Europe/Berlin:20231202T110000
LOCATION:Sportovní hala BIOS\, Sokolovská 254 Mnichovo Hradiště
SUMMARY:1-U22Z-B: Mn. Hradiště-Jičín
END:VEVENT
BEGIN:VEVENT
UID:37386637-3766-4461-b739-613762333038
DTSTAMP:20260423T004413Z
DESCRIPTION:16/48 Mn. Hradiště - Jičín 3:2 (16\,-18\,13\,-15\,10)
DTSTART;TZID=Europe/Berlin:20231202T130000
DTEND;TZID=Europe/Berlin:20231202T150000
LOCATION:Sportovní hala BIOS\, Sokolovská 254 Mnichovo Hradiště
SUMMARY:1-U22Z-B: Mn. Hradiště-Jičín
END:VEVENT
BEGIN:VEVENT
UID:39646134-3334-4366-b366-326336356439
DTSTAMP:20260423T004413Z
DESCRIPTION:19/56 Benátky n. J. - Jičín 1:3 (-23\,-23\,26\,-26)
DTSTART;TZID=Europe/Berlin:20240106T100000
DTEND;TZID=Europe/Berlin:20240106T120000
LOCATION:Nibe aréna\, městská sportovní hala\, 5. května 746 Benátky nad Ji
 zerou - Benátky nad Jizerou II
SUMMARY:1-U22Z-B: Benátky n. J.-Jičín
END:VEVENT
BEGIN:VEVENT
UID:65613063-6533-4633-b461-666163323632
DTSTAMP:20260423T004413Z
DESCRIPTION:20/59 Benátky n. J. - Jičín 3:0 (28\,13\,16)
DTSTART;TZID=Europe/Berlin:20240106T140000
DTEND;TZID=Europe/Berlin:20240106T160000
LOCATION:Nibe aréna\, městská sportovní hala\, 5. května 746 Benátky nad Ji
 zerou - Benátky nad Jizerou II
SUMMARY:1-U22Z-B: Benátky n. J.-Jičín
END:VEVENT
BEGIN:VEVENT
UID:65646566-6264-4133-a439-636631666439
DTSTAMP:20260423T004413Z
DESCRIPTION:3/7 Jičín - Žatec 3:2 (21\,-15\,14\,-13\,15)
DTSTART;TZID=Europe/Berlin:20240317T100000
DTEND;TZID=Europe/Berlin:20240317T120000
LOCATION:Hala 3. základní školy Jičín\, Poděbradova 18 Jičín - Nové Město
SUMMARY:1-U22Z-I: Jičín-Žatec
END:VEVENT
BEGIN:VEVENT
UID:64306235-3461-4464-b735-373632616139
DTSTAMP:20260423T004413Z
DESCRIPTION:4/10 Jičín - Žatec 1:3 (-17\,24\,-16\,-27)
DTSTART;TZID=Europe/Berlin:20240317T140000
DTEND;TZID=Europe/Berlin:20240317T160000
LOCATION:Hala 3. základní školy Jičín\, Poděbradova 18 Jičín - Nové Město
SUMMARY:1-U22Z-I: Jičín-Žatec
END:VEVENT
BEGIN:VEVENT
UID:39626533-6434-4137-a261-333534313138
DTSTAMP:20260423T004413Z
DESCRIPTION:7/20 Jičín - Teplice 0:3 (-23\,-15\,-28)
DTSTART;TZID=Europe/Berlin:20240302T110000
DTEND;TZID=Europe/Berlin:20240302T130000
LOCATION:Hala 3. základní školy Jičín\, Poděbradova 18 Jičín - Nové Město
SUMMARY:1-U22Z-I: Jičín-Teplice
END:VEVENT
BEGIN:VEVENT
UID:61373030-6261-4637-a666-313862363538
DTSTAMP:20260423T004413Z
DESCRIPTION:8/23 Jičín - Teplice 1:3 (-24\,-22\,18\,-22)
DTSTART;TZID=Europe/Berlin:20240302T140000
DTEND;TZID=Europe/Berlin:20240302T160000
LOCATION:Hala 3. základní školy Jičín\, Poděbradova 18 Jičín - Nové Město
SUMMARY:1-U22Z-I: Jičín-Teplice
END:VEVENT
BEGIN:VEVENT
UID:65343536-3263-4136-b634-346538353038
DTSTAMP:20260423T004413Z
DESCRIPTION:11/33 Jičín - Ústí n. L. 3:0 (13\,24\,11)
DTSTART;TZID=Europe/Berlin:20240331T100000
DTEND;TZID=Europe/Berlin:20240331T120000
LOCATION:Hala 3. základní školy Jičín\, Poděbradova 18 Jičín - Nové Město
SUMMARY:1-U22Z-I: Jičín-Ústí n. L.
END:VEVENT
BEGIN:VEVENT
UID:30616337-3633-4161-a661-326461303664
DTSTAMP:20260423T004413Z
DESCRIPTION:12/36 Jičín - Ústí n. L. 3:0 (23\,23\,19)
DTSTART;TZID=Europe/Berlin:20240331T140000
DTEND;TZID=Europe/Berlin:20240331T160000
LOCATION:Hala 3. základní školy Jičín\, Poděbradova 18 Jičín - Nové Město
SUMMARY:1-U22Z-I: Jičín-Ústí n. L.
END:VEVENT
BEGIN:VEVENT
UID:35393833-3630-4938-a561-366563663763
DTSTAMP:20260423T004413Z
DESCRIPTION:1/2 Teplice - Jičín 3:2 (-25\,17\,-19\,13\,13)
DTSTART;TZID=Europe/Berlin:20240120T110000
DTEND;TZID=Europe/Berlin:20240120T130000
LOCATION:Hotelová škola\, Smetanovo náměstí 786 Teplice - Trnovany
SUMMARY:1-U22Z-I: Teplice-Jičín
END:VEVENT
BEGIN:VEVENT
UID:31656436-3830-4464-b562-613361633437
DTSTAMP:20260423T004413Z
DESCRIPTION:2/5 Teplice - Jičín 3:1 (20\,13\,-23\,20)
DTSTART;TZID=Europe/Berlin:20240120T150000
DTEND;TZID=Europe/Berlin:20240120T170000
LOCATION:Hotelová škola\, Smetanovo náměstí 786 Teplice - Trnovany
SUMMARY:1-U22Z-I: Teplice-Jičín
END:VEVENT
BEGIN:VEVENT
UID:61386434-3564-4233-a332-383539353635
DTSTAMP:20260423T004413Z
DESCRIPTION:5/15 Ústí n. L. - Jičín 3:0 (19\,18\,20)
DTSTART;TZID=Europe/Berlin:20240210T100000
DTEND;TZID=Europe/Berlin:20240210T120000
LOCATION:Střední průmyslová škola strojní a elektro\, Resslova 210 Ústí nad
  Labem - Klíše
SUMMARY:1-U22Z-I: Ústí n. L.-Jičín
END:VEVENT
BEGIN:VEVENT
UID:62663261-3865-4138-b834-303434666662
DTSTAMP:20260423T004413Z
DESCRIPTION:6/18 Ústí n. L. - Jičín 3:1 (-20\,18\,11\,19)
DTSTART;TZID=Europe/Berlin:20240210T140000
DTEND;TZID=Europe/Berlin:20240210T160000
LOCATION:Střední průmyslová škola strojní a elektro\, Resslova 210 Ústí nad
  Labem - Klíše
SUMMARY:1-U22Z-I: Ústí n. L.-Jičín
END:VEVENT
BEGIN:VEVENT
UID:63323761-6262-4164-a338-353831656238
DTSTAMP:20260423T004413Z
DESCRIPTION:9/25 Žatec - Jičín 3:0 (14\,19\,16)
DTSTART;TZID=Europe/Berlin:20240309T100000
DTEND;TZID=Europe/Berlin:20240309T120000
LOCATION:Sportovní hala TJ Sever Žatec\, Plzeňská 2787 Žatec
SUMMARY:1-U22Z-I: Žatec-Jičín
END:VEVENT
BEGIN:VEVENT
UID:32313263-3965-4732-b165-326634613332
DTSTAMP:20260423T004413Z
DESCRIPTION:10/28 Žatec - Jičín 3:0 (20\,19\,22)
DTSTART;TZID=Europe/Berlin:20240309T140000
DTEND;TZID=Europe/Berlin:20240309T160000
LOCATION:Sportovní hala TJ Sever Žatec\, Plzeňská 2787 Žatec
SUMMARY:1-U22Z-I: Žatec-Jičín
END:VEVENT
END:VCALENDAR
