BEGIN:VCALENDAR
VERSION:2.0
PRODID:-//TJ Sokol Dolní Újezd82378//NONSGML kigkonsult.se iCalcreator 2.41.80//
CALSCALE:GREGORIAN
UID:35653734-6364-4132-a434-313633636538
BEGIN:VEVENT
UID:36656664-6230-4637-a566-346564636633
DTSTAMP:20260423T105803Z
DESCRIPTION:1/1 Dolní Újezd - Jehnice 2:3 (-15\,23\,27\,-15\,-10)
DTSTART;TZID=Europe/Berlin:20230917T100000
DTEND;TZID=Europe/Berlin:20230917T120000
LOCATION:tělocvična Základní školy\,  Dolní Újezd342
SUMMARY:1-U22Z-D: Dolní Újezd-Jehnice
END:VEVENT
BEGIN:VEVENT
UID:38383631-3339-4232-a161-376563663766
DTSTAMP:20260423T105803Z
DESCRIPTION:2/4 Dolní Újezd - Jehnice 3:1 (20\,15\,-13\,20)
DTSTART;TZID=Europe/Berlin:20230917T140000
DTEND;TZID=Europe/Berlin:20230917T160000
LOCATION:tělocvična Základní školy\,  Dolní Újezd342
SUMMARY:1-U22Z-D: Dolní Újezd-Jehnice
END:VEVENT
BEGIN:VEVENT
UID:61626562-3534-4663-b333-323930343566
DTSTAMP:20260423T105803Z
DESCRIPTION:3/9 Dolní Újezd - Kojetín 3:0 (16\,9\,18)
DTSTART;TZID=Europe/Berlin:20230930T100000
DTEND;TZID=Europe/Berlin:20230930T120000
LOCATION:tělocvična Základní školy\,  Dolní Újezd342
SUMMARY:1-U22Z-D: Dolní Újezd-Kojetín
END:VEVENT
BEGIN:VEVENT
UID:39373966-6163-4535-b733-646465383066
DTSTAMP:20260423T105803Z
DESCRIPTION:4/12 Dolní Újezd - Kojetín 3:0 (22\,21\,21)
DTSTART;TZID=Europe/Berlin:20230930T140000
DTEND;TZID=Europe/Berlin:20230930T160000
LOCATION:tělocvična Základní školy\,  Dolní Újezd342
SUMMARY:1-U22Z-D: Dolní Újezd-Kojetín
END:VEVENT
BEGIN:VEVENT
UID:32343730-6366-4463-b465-313861373962
DTSTAMP:20260423T105803Z
DESCRIPTION:7/20 Dolní Újezd - Kr. Pole B 0:3 (-13\,-23\,-25)
DTSTART;TZID=Europe/Berlin:20231029T100000
DTEND;TZID=Europe/Berlin:20231029T120000
LOCATION:tělocvična Základní školy\,  Dolní Újezd342
SUMMARY:1-U22Z-D: Dolní Újezd-Kr. Pole B
END:VEVENT
BEGIN:VEVENT
UID:65373664-3166-4566-b336-626636643163
DTSTAMP:20260423T105803Z
DESCRIPTION:8/23 Dolní Újezd - Kr. Pole B 1:3 (-21\,20\,-20\,-17)
DTSTART;TZID=Europe/Berlin:20231029T140000
DTEND;TZID=Europe/Berlin:20231029T160000
LOCATION:tělocvična Základní školy\,  Dolní Újezd342
SUMMARY:1-U22Z-D: Dolní Újezd-Kr. Pole B
END:VEVENT
BEGIN:VEVENT
UID:65373530-6233-4137-b839-366664653961
DTSTAMP:20260423T105803Z
DESCRIPTION:15/44 Dolní Újezd - Ostrava B 3:2 (-21\,17\,-24\,12\,9)
DTSTART;TZID=Europe/Berlin:20231202T100000
DTEND;TZID=Europe/Berlin:20231202T120000
LOCATION:tělocvična Základní školy\,  Dolní Újezd342
SUMMARY:1-U22Z-D: Dolní Újezd-Ostrava B
END:VEVENT
BEGIN:VEVENT
UID:36306235-3334-4537-b236-613139636137
DTSTAMP:20260423T105803Z
DESCRIPTION:16/47 Dolní Újezd - Ostrava B 3:0 (16\,20\,22)
DTSTART;TZID=Europe/Berlin:20231202T140000
DTEND;TZID=Europe/Berlin:20231202T160000
LOCATION:tělocvična Základní školy\,  Dolní Újezd342
SUMMARY:1-U22Z-D: Dolní Újezd-Ostrava B
END:VEVENT
BEGIN:VEVENT
UID:32633465-6530-4233-a231-653839376637
DTSTAMP:20260423T105803Z
DESCRIPTION:19/57 Dolní Újezd - Zlín 3:2 (-14\,21\,-19\,20\,6)
DTSTART;TZID=Europe/Berlin:20240107T100000
DTEND;TZID=Europe/Berlin:20240107T120000
LOCATION:tělocvična Základní školy\,  Dolní Újezd342
SUMMARY:1-U22Z-D: Dolní Újezd-Zlín
END:VEVENT
BEGIN:VEVENT
UID:63636664-6337-4637-a232-623562636334
DTSTAMP:20260423T105803Z
DESCRIPTION:20/60 Dolní Újezd - Zlín 3:0 (22\,24\,15)
DTSTART;TZID=Europe/Berlin:20240107T140000
DTEND;TZID=Europe/Berlin:20240107T160000
LOCATION:tělocvična Základní školy\,  Dolní Újezd342
SUMMARY:1-U22Z-D: Dolní Újezd-Zlín
END:VEVENT
BEGIN:VEVENT
UID:35346337-3737-4465-b236-316566636236
DTSTAMP:20260423T105803Z
DESCRIPTION:5/14 Ostrava B - Dolní Újezd 3:2 (-16\,16\,23\,-13\,12)
DTSTART;TZID=Europe/Berlin:20231015T100000
DTEND;TZID=Europe/Berlin:20231015T120000
LOCATION:Hala míčových sportů\, Varenská 3098 Ostrava - Moravská Ostrava
SUMMARY:1-U22Z-D: Ostrava B-Dolní Újezd
END:VEVENT
BEGIN:VEVENT
UID:31336338-6361-4434-b035-643035363137
DTSTAMP:20260423T105803Z
DESCRIPTION:6/17 Ostrava B - Dolní Újezd 0:3 (-18\,-22\,-18)
DTSTART;TZID=Europe/Berlin:20231015T140000
DTEND;TZID=Europe/Berlin:20231015T160000
LOCATION:Hala míčových sportů\, Varenská 3098 Ostrava - Moravská Ostrava
SUMMARY:1-U22Z-D: Ostrava B-Dolní Újezd
END:VEVENT
BEGIN:VEVENT
UID:66333836-3333-4765-b961-633939643763
DTSTAMP:20260423T105803Z
DESCRIPTION:9/27 Zlín - Dolní Újezd 3:0 (18\,15\,16)
DTSTART;TZID=Europe/Berlin:20231104T110000
DTEND;TZID=Europe/Berlin:20231104T130000
LOCATION:Sportovní hala Datart Zlín\, U Zimního stadionu 4286 Zlín
SUMMARY:1-U22Z-D: Zlín-Dolní Újezd
END:VEVENT
BEGIN:VEVENT
UID:62323036-6130-4566-b030-383239306561
DTSTAMP:20260423T105803Z
DESCRIPTION:10/30 Zlín - Dolní Újezd 3:0 (22\,12\,20)
DTSTART;TZID=Europe/Berlin:20231104T140000
DTEND;TZID=Europe/Berlin:20231104T160000
LOCATION:Sportovní hala Datart Zlín\, U Zimního stadionu 4286 Zlín
SUMMARY:1-U22Z-D: Zlín-Dolní Újezd
END:VEVENT
BEGIN:VEVENT
UID:63333336-3037-4738-b434-363736666264
DTSTAMP:20260423T105803Z
DESCRIPTION:11/31 Jehnice - Dolní Újezd 3:0 (23\,19\,13)
DTSTART;TZID=Europe/Berlin:20240106T100000
DTEND;TZID=Europe/Berlin:20240106T120000
LOCATION:TJ Sokol Jehnice\, Blanenská 1 Brno - Jehnice
SUMMARY:1-U22Z-D: Jehnice-Dolní Újezd
END:VEVENT
BEGIN:VEVENT
UID:32356433-3032-4434-b833-316430646638
DTSTAMP:20260423T105803Z
DESCRIPTION:12/34 Jehnice - Dolní Újezd 3:0 (25\,15\,19)
DTSTART;TZID=Europe/Berlin:20240106T140000
DTEND;TZID=Europe/Berlin:20240106T160000
LOCATION:TJ Sokol Jehnice\, Blanenská 1 Brno - Jehnice
SUMMARY:1-U22Z-D: Jehnice-Dolní Újezd
END:VEVENT
BEGIN:VEVENT
UID:32616531-3366-4436-b161-356561353236
DTSTAMP:20260423T105803Z
DESCRIPTION:13/39 Kojetín - Dolní Újezd 3:0 (13\,16\,23)
DTSTART;TZID=Europe/Berlin:20231119T100000
DTEND;TZID=Europe/Berlin:20231119T120000
LOCATION:Městská sportovní hala\, Hanusíkova 1476 Kojetín - Kojetín I-Město
SUMMARY:1-U22Z-D: Kojetín-Dolní Újezd
END:VEVENT
BEGIN:VEVENT
UID:31636639-3936-4564-b232-393433346334
DTSTAMP:20260423T105803Z
DESCRIPTION:14/42 Kojetín - Dolní Újezd 3:1 (16\,15\,-24\,14)
DTSTART;TZID=Europe/Berlin:20231119T140000
DTEND;TZID=Europe/Berlin:20231119T160000
LOCATION:Městská sportovní hala\, Hanusíkova 1476 Kojetín - Kojetín I-Město
SUMMARY:1-U22Z-D: Kojetín-Dolní Újezd
END:VEVENT
BEGIN:VEVENT
UID:39396636-3065-4739-b739-623531343364
DTSTAMP:20260423T105803Z
DESCRIPTION:17/50 Kr. Pole B - Dolní Újezd 3:2 (16\,-19\,-18\,20\,10)
DTSTART;TZID=Europe/Berlin:20231209T100000
DTEND;TZID=Europe/Berlin:20231209T120000
LOCATION:Sportovní gymnázium Ludvíka Daňka\, Botanická 63 Brno - Ponava
SUMMARY:1-U22Z-D: Kr. Pole B-Dolní Újezd
END:VEVENT
BEGIN:VEVENT
UID:39313536-3036-4635-b538-626262626134
DTSTAMP:20260423T105803Z
DESCRIPTION:18/53 Kr. Pole B - Dolní Újezd 3:0 (16\,21\,21)
DTSTART;TZID=Europe/Berlin:20231209T140000
DTEND;TZID=Europe/Berlin:20231209T160000
LOCATION:Sportovní gymnázium Ludvíka Daňka\, Botanická 63 Brno - Ponava
SUMMARY:1-U22Z-D: Kr. Pole B-Dolní Újezd
END:VEVENT
BEGIN:VEVENT
UID:30663037-3533-4664-b235-643739306437
DTSTAMP:20260423T105803Z
DESCRIPTION:3/7 Dolní Újezd - Chlumec n. C. 3:0 (21\,21\,16)
DTSTART;TZID=Europe/Berlin:20240329T100000
DTEND;TZID=Europe/Berlin:20240329T120000
LOCATION:tělocvična Základní školy\,  Dolní Újezd342
SUMMARY:1-U22Z-N: Dolní Újezd-Chlumec n. C.
END:VEVENT
BEGIN:VEVENT
UID:65663231-6631-4463-b163-623335623063
DTSTAMP:20260423T105803Z
DESCRIPTION:4/10 Dolní Újezd - Chlumec n. C. 3:0 (20\,20\,16)
DTSTART;TZID=Europe/Berlin:20240329T140000
DTEND;TZID=Europe/Berlin:20240329T160000
LOCATION:tělocvična Základní školy\,  Dolní Újezd342
SUMMARY:1-U22Z-N: Dolní Újezd-Chlumec n. C.
END:VEVENT
BEGIN:VEVENT
UID:39353537-3132-4031-b634-653636353730
DTSTAMP:20260423T105803Z
DESCRIPTION:7/20 Dolní Újezd - Dansport 3:1 (19\,-24\,20\,22)
DTSTART;TZID=Europe/Berlin:20240302T100000
DTEND;TZID=Europe/Berlin:20240302T120000
LOCATION:tělocvična Základní školy\,  Dolní Újezd342
SUMMARY:1-U22Z-N: Dolní Újezd-Dansport
END:VEVENT
BEGIN:VEVENT
UID:32346136-3634-4231-b631-386331666539
DTSTAMP:20260423T105803Z
DESCRIPTION:8/23 Dolní Újezd - Dansport 3:1 (23\,-19\,15\,25)
DTSTART;TZID=Europe/Berlin:20240302T140000
DTEND;TZID=Europe/Berlin:20240302T160000
LOCATION:tělocvična Základní školy\,  Dolní Újezd342
SUMMARY:1-U22Z-N: Dolní Újezd-Dansport
END:VEVENT
BEGIN:VEVENT
UID:62643336-3932-4336-a138-656464363966
DTSTAMP:20260423T105803Z
DESCRIPTION:11/33 Dolní Újezd - Česká Třebová 3:0 (10\,21\,15)
DTSTART;TZID=Europe/Berlin:20240331T100000
DTEND;TZID=Europe/Berlin:20240331T120000
LOCATION:tělocvična Základní školy\,  Dolní Újezd342
SUMMARY:1-U22Z-N: Dolní Újezd-Česká Třebová
END:VEVENT
BEGIN:VEVENT
UID:38366137-3864-4764-b361-376263393337
DTSTAMP:20260423T105803Z
DESCRIPTION:12/36 Dolní Újezd - Česká Třebová 3:0 (17\,18\,23)
DTSTART;TZID=Europe/Berlin:20240331T140000
DTEND;TZID=Europe/Berlin:20240331T160000
LOCATION:tělocvična Základní školy\,  Dolní Újezd342
SUMMARY:1-U22Z-N: Dolní Újezd-Česká Třebová
END:VEVENT
BEGIN:VEVENT
UID:64336239-3664-4432-b731-316336393835
DTSTAMP:20260423T105803Z
DESCRIPTION:1/2 Dansport - Dolní Újezd 1:3 (22\,-14\,-17\,-12)
DTSTART;TZID=Europe/Berlin:20240120T100000
DTEND;TZID=Europe/Berlin:20240120T120000
LOCATION:Sportovní hala Gymnázia Jana Keplera\, Parléřova 118 Praha - Hradč
 any
SUMMARY:1-U22Z-N: Dansport-Dolní Újezd
END:VEVENT
BEGIN:VEVENT
UID:31643535-3163-4433-a131-663130376365
DTSTAMP:20260423T105803Z
DESCRIPTION:2/5 Dansport - Dolní Újezd 0:3 (-15\,-21\,-27)
DTSTART;TZID=Europe/Berlin:20240120T140000
DTEND;TZID=Europe/Berlin:20240120T160000
LOCATION:Sportovní hala Gymnázia Jana Keplera\, Parléřova 118 Praha - Hradč
 any
SUMMARY:1-U22Z-N: Dansport-Dolní Újezd
END:VEVENT
BEGIN:VEVENT
UID:33373537-3830-4464-a331-383466666631
DTSTAMP:20260423T105803Z
DESCRIPTION:5/15 Česká Třebová - Dolní Újezd 0:3 (-12\,-10\,-17)
DTSTART;TZID=Europe/Berlin:20240210T100000
DTEND;TZID=Europe/Berlin:20240210T120000
LOCATION:Základní škola Česká Třebová Habrmanova\, Na Skále\, Na Skále 566 
 Česká Třebová
SUMMARY:1-U22Z-N: Česká Třebová-Dolní Újezd
END:VEVENT
BEGIN:VEVENT
UID:62333564-3030-4337-b031-626232633932
DTSTAMP:20260423T105803Z
DESCRIPTION:6/18 Česká Třebová - Dolní Újezd 0:3 (-20\,-16\,-10)
DTSTART;TZID=Europe/Berlin:20240210T140000
DTEND;TZID=Europe/Berlin:20240210T160000
LOCATION:Základní škola Česká Třebová Habrmanova\, Na Skále\, Na Skále 566 
 Česká Třebová
SUMMARY:1-U22Z-N: Česká Třebová-Dolní Újezd
END:VEVENT
BEGIN:VEVENT
UID:64643132-3533-4236-b261-653534383537
DTSTAMP:20260423T105803Z
DESCRIPTION:9/25 Chlumec n. C. - Dolní Újezd 1:3 (-16\,-24\,22\,-19)
DTSTART;TZID=Europe/Berlin:20240203T100000
DTEND;TZID=Europe/Berlin:20240203T120000
LOCATION:Slavíčkova hala\, Sokolská 795 Chlumec nad Cidlinou - Chlumec nad 
 Cidlinou IV
SUMMARY:1-U22Z-N: Chlumec n. C.-Dolní Újezd
END:VEVENT
BEGIN:VEVENT
UID:63643539-3230-4631-a437-306539303034
DTSTAMP:20260423T105803Z
DESCRIPTION:10/28 Chlumec n. C. - Dolní Újezd 0:3 (-21\,-16\,-21)
DTSTART;TZID=Europe/Berlin:20240203T140000
DTEND;TZID=Europe/Berlin:20240203T160000
LOCATION:Slavíčkova hala\, Sokolská 795 Chlumec nad Cidlinou - Chlumec nad 
 Cidlinou IV
SUMMARY:1-U22Z-N: Chlumec n. C.-Dolní Újezd
END:VEVENT
END:VCALENDAR
