BEGIN:VCALENDAR
VERSION:2.0
PRODID:-//TJ Sokol Vejprnice82382//NONSGML kigkonsult.se iCalcreator 2.41.80//
CALSCALE:GREGORIAN
UID:63363733-3866-4131-b035-616335306561
BEGIN:VEVENT
UID:65636537-3834-4062-b033-373163306339
DTSTAMP:20260422T183145Z
DESCRIPTION:5/15 Vejprnice - Plzeň B 3:2 (-19\,-22\,10\,9\,17)
DTSTART;TZID=Europe/Berlin:20231007T100000
DTEND;TZID=Europe/Berlin:20231007T120000
LOCATION:Tělocvična ZŠ Vejprnice\, Jakuba Husníka 527 Vejprnice
SUMMARY:1-U22Z-A: Vejprnice-Plzeň B
END:VEVENT
BEGIN:VEVENT
UID:63396632-3531-4662-b436-623462646136
DTSTAMP:20260422T183145Z
DESCRIPTION:6/18 Vejprnice - Plzeň B 1:3 (-20\,20\,-22\,-23)
DTSTART;TZID=Europe/Berlin:20231007T140000
DTEND;TZID=Europe/Berlin:20231007T160000
LOCATION:Tělocvična ZŠ Vejprnice\, Jakuba Husníka 527 Vejprnice
SUMMARY:1-U22Z-A: Vejprnice-Plzeň B
END:VEVENT
BEGIN:VEVENT
UID:32643363-3532-4366-a436-616262616663
DTSTAMP:20260422T183145Z
DESCRIPTION:9/26 Vejprnice - Ústí n. L. 3:2 (-23\,15\,29\,-21\,10)
DTSTART;TZID=Europe/Berlin:20231104T110000
DTEND;TZID=Europe/Berlin:20231104T130000
LOCATION:Tělocvična ZŠ Vejprnice\, Jakuba Husníka 527 Vejprnice
SUMMARY:1-U22Z-A: Vejprnice-Ústí n. L.
END:VEVENT
BEGIN:VEVENT
UID:63666635-3064-4463-b064-303834383137
DTSTAMP:20260422T183145Z
DESCRIPTION:10/29 Vejprnice - Ústí n. L. 3:1 (21\,-22\,23\,15)
DTSTART;TZID=Europe/Berlin:20231104T150000
DTEND;TZID=Europe/Berlin:20231104T170000
LOCATION:Tělocvična ZŠ Vejprnice\, Jakuba Husníka 527 Vejprnice
SUMMARY:1-U22Z-A: Vejprnice-Ústí n. L.
END:VEVENT
BEGIN:VEVENT
UID:37653661-3837-4337-a665-663234383133
DTSTAMP:20260422T183145Z
DESCRIPTION:11/33 Vejprnice - Žatec 1:3 (-13\,16\,-22\,-27)
DTSTART;TZID=Europe/Berlin:20231111T110000
DTEND;TZID=Europe/Berlin:20231111T130000
LOCATION:Tělocvična ZŠ Vejprnice\, Jakuba Husníka 527 Vejprnice
SUMMARY:1-U22Z-A: Vejprnice-Žatec
END:VEVENT
BEGIN:VEVENT
UID:66343435-6332-4338-b530-653533313665
DTSTAMP:20260422T183145Z
DESCRIPTION:12/36 Vejprnice - Žatec 0:3 (-11\,-21\,-21)
DTSTART;TZID=Europe/Berlin:20231111T150000
DTEND;TZID=Europe/Berlin:20231111T170000
LOCATION:Tělocvična ZŠ Vejprnice\, Jakuba Husníka 527 Vejprnice
SUMMARY:1-U22Z-A: Vejprnice-Žatec
END:VEVENT
BEGIN:VEVENT
UID:32626539-3561-4538-a365-333431623234
DTSTAMP:20260422T183145Z
DESCRIPTION:13/37 Vejprnice - Teplice 3:1 (-22\,22\,23\,17)
DTSTART;TZID=Europe/Berlin:20231125T100000
DTEND;TZID=Europe/Berlin:20231125T120000
LOCATION:Tělocvična ZŠ Vejprnice\, Jakuba Husníka 527 Vejprnice
SUMMARY:1-U22Z-A: Vejprnice-Teplice
END:VEVENT
BEGIN:VEVENT
UID:36626437-6461-4164-b464-353066613535
DTSTAMP:20260422T183145Z
DESCRIPTION:14/40 Vejprnice - Teplice 3:1 (-23\,11\,14\,22)
DTSTART;TZID=Europe/Berlin:20231125T140000
DTEND;TZID=Europe/Berlin:20231125T160000
LOCATION:Tělocvična ZŠ Vejprnice\, Jakuba Husníka 527 Vejprnice
SUMMARY:1-U22Z-A: Vejprnice-Teplice
END:VEVENT
BEGIN:VEVENT
UID:66333565-6539-4036-b862-313339643634
DTSTAMP:20260422T183145Z
DESCRIPTION:17/50 Vejprnice - Kladno 3:1 (-26\,17\,17\,22)
DTSTART;TZID=Europe/Berlin:20231216T110000
DTEND;TZID=Europe/Berlin:20231216T130000
LOCATION:Tělocvična ZŠ Vejprnice\, Jakuba Husníka 527 Vejprnice
SUMMARY:1-U22Z-A: Vejprnice-Kladno
END:VEVENT
BEGIN:VEVENT
UID:64393036-3232-4938-a238-303666643062
DTSTAMP:20260422T183145Z
DESCRIPTION:18/53 Vejprnice - Kladno 3:0 (19\,17\,18)
DTSTART;TZID=Europe/Berlin:20231216T150000
DTEND;TZID=Europe/Berlin:20231216T170000
LOCATION:Tělocvična ZŠ Vejprnice\, Jakuba Husníka 527 Vejprnice
SUMMARY:1-U22Z-A: Vejprnice-Kladno
END:VEVENT
BEGIN:VEVENT
UID:39623337-3665-4461-b730-373039316534
DTSTAMP:20260422T183145Z
DESCRIPTION:1/3 Žatec - Vejprnice 3:0 (26\,20\,17)
DTSTART;TZID=Europe/Berlin:20230916T100000
DTEND;TZID=Europe/Berlin:20230916T120000
LOCATION:Sportovní hala TJ Sever Žatec\, Plzeňská 2787 Žatec
SUMMARY:1-U22Z-A: Žatec-Vejprnice
END:VEVENT
BEGIN:VEVENT
UID:34336661-3261-4236-a334-336631623562
DTSTAMP:20260422T183145Z
DESCRIPTION:2/6 Žatec - Vejprnice 3:1 (11\,16\,-23\,24)
DTSTART;TZID=Europe/Berlin:20230916T140000
DTEND;TZID=Europe/Berlin:20230916T160000
LOCATION:Sportovní hala TJ Sever Žatec\, Plzeňská 2787 Žatec
SUMMARY:1-U22Z-A: Žatec-Vejprnice
END:VEVENT
BEGIN:VEVENT
UID:31633065-3234-4366-a535-663131653734
DTSTAMP:20260422T183145Z
DESCRIPTION:3/7 Teplice - Vejprnice 3:1 (22\,-21\,24\,18)
DTSTART;TZID=Europe/Berlin:20230930T110000
DTEND;TZID=Europe/Berlin:20230930T130000
LOCATION:Hotelová škola\, Smetanovo náměstí 786 Teplice - Trnovany
SUMMARY:1-U22Z-A: Teplice-Vejprnice
END:VEVENT
BEGIN:VEVENT
UID:30646339-6339-4630-b066-616332383762
DTSTAMP:20260422T183145Z
DESCRIPTION:4/10 Teplice - Vejprnice 3:1 (-21\,19\,20\,15)
DTSTART;TZID=Europe/Berlin:20230930T150000
DTEND;TZID=Europe/Berlin:20230930T170000
LOCATION:Hotelová škola\, Smetanovo náměstí 786 Teplice - Trnovany
SUMMARY:1-U22Z-A: Teplice-Vejprnice
END:VEVENT
BEGIN:VEVENT
UID:61616566-6562-4366-b635-333666653332
DTSTAMP:20260422T183145Z
DESCRIPTION:7/20 Kladno - Vejprnice 3:1 (15\,-22\,22\,22)
DTSTART;TZID=Europe/Berlin:20231028T090000
DTEND;TZID=Europe/Berlin:20231028T110000
LOCATION:Kladenská sportovní hala\, Sportovců 817 Kladno - Rozdělov
SUMMARY:1-U22Z-A: Kladno-Vejprnice
END:VEVENT
BEGIN:VEVENT
UID:32386138-6264-4934-a163-393265666236
DTSTAMP:20260422T183145Z
DESCRIPTION:8/23 Kladno - Vejprnice 3:1 (20\,21\,-20\,20)
DTSTART;TZID=Europe/Berlin:20231028T120000
DTEND;TZID=Europe/Berlin:20231028T140000
LOCATION:Kladenská sportovní hala\, Sportovců 817 Kladno - Rozdělov
SUMMARY:1-U22Z-A: Kladno-Vejprnice
END:VEVENT
BEGIN:VEVENT
UID:33646337-6262-4161-a339-356133613061
DTSTAMP:20260422T183145Z
DESCRIPTION:15/45 Plzeň B - Vejprnice 0:3 (-17\,-11\,-16)
DTSTART;TZID=Europe/Berlin:20231202T100000
DTEND;TZID=Europe/Berlin:20231202T120000
LOCATION:Městská sportovní hala  -  hala 2\, Úslavská 2357 Plzeň - Východní
  Předměstí
SUMMARY:1-U22Z-A: Plzeň B-Vejprnice
END:VEVENT
BEGIN:VEVENT
UID:65333037-3032-4265-a230-346564353430
DTSTAMP:20260422T183145Z
DESCRIPTION:16/48 Plzeň B - Vejprnice 2:3 (-26\,11\,-13\,21\,-12)
DTSTART;TZID=Europe/Berlin:20231202T140000
DTEND;TZID=Europe/Berlin:20231202T160000
LOCATION:Městská sportovní hala  -  hala 2\, Úslavská 2357 Plzeň - Východní
  Předměstí
SUMMARY:1-U22Z-A: Plzeň B-Vejprnice
END:VEVENT
BEGIN:VEVENT
UID:66303162-3636-4631-b166-336631346137
DTSTAMP:20260422T183145Z
DESCRIPTION:19/56 Ústí n. L. - Vejprnice 3:1 (22\,-25\,22\,11)
DTSTART;TZID=Europe/Berlin:20240106T110000
DTEND;TZID=Europe/Berlin:20240106T130000
LOCATION:Střední průmyslová škola strojní a elektro\, Resslova 210 Ústí nad
  Labem - Klíše
SUMMARY:1-U22Z-A: Ústí n. L.-Vejprnice
END:VEVENT
BEGIN:VEVENT
UID:39653734-3866-4462-b936-326633636538
DTSTAMP:20260422T183145Z
DESCRIPTION:20/59 Ústí n. L. - Vejprnice 0:3 (-20\,-21\,-15)
DTSTART;TZID=Europe/Berlin:20240106T150000
DTEND;TZID=Europe/Berlin:20240106T170000
LOCATION:Střední průmyslová škola strojní a elektro\, Resslova 210 Ústí nad
  Labem - Klíše
SUMMARY:1-U22Z-A: Ústí n. L.-Vejprnice
END:VEVENT
BEGIN:VEVENT
UID:35333166-6266-4439-b830-663362623235
DTSTAMP:20260422T183145Z
DESCRIPTION:1/1 Vejprnice - Mn. Hradiště 3:1 (-21\,19\,23\,11)
DTSTART;TZID=Europe/Berlin:20240120T100000
DTEND;TZID=Europe/Berlin:20240120T120000
LOCATION:Tělocvična ZŠ Vejprnice\, Jakuba Husníka 527 Vejprnice
SUMMARY:1-U22Z-M: Vejprnice-Mn. Hradiště
END:VEVENT
BEGIN:VEVENT
UID:61346133-6265-4163-b664-653335366231
DTSTAMP:20260422T183145Z
DESCRIPTION:2/4 Vejprnice - Mn. Hradiště 3:2 (-17\,20\,-21\,21\,5)
DTSTART;TZID=Europe/Berlin:20240120T140000
DTEND;TZID=Europe/Berlin:20240120T160000
LOCATION:Tělocvična ZŠ Vejprnice\, Jakuba Husníka 527 Vejprnice
SUMMARY:1-U22Z-M: Vejprnice-Mn. Hradiště
END:VEVENT
BEGIN:VEVENT
UID:33373730-6230-4934-a532-343431343263
DTSTAMP:20260422T183145Z
DESCRIPTION:5/13 Vejprnice - Roztoky 3:1 (23\,15\,-22\,19)
DTSTART;TZID=Europe/Berlin:20240210T100000
DTEND;TZID=Europe/Berlin:20240210T120000
LOCATION:Tělocvična ZŠ Vejprnice\, Jakuba Husníka 527 Vejprnice
SUMMARY:1-U22Z-M: Vejprnice-Roztoky
END:VEVENT
BEGIN:VEVENT
UID:64303133-3430-4364-b333-336437343063
DTSTAMP:20260422T183145Z
DESCRIPTION:6/16 Vejprnice - Roztoky 2:3 (-19\,13\,15\,-21\,-10)
DTSTART;TZID=Europe/Berlin:20240210T140000
DTEND;TZID=Europe/Berlin:20240210T160000
LOCATION:Tělocvična ZŠ Vejprnice\, Jakuba Husníka 527 Vejprnice
SUMMARY:1-U22Z-M: Vejprnice-Roztoky
END:VEVENT
BEGIN:VEVENT
UID:37356432-6531-4336-a433-326633343830
DTSTAMP:20260422T183145Z
DESCRIPTION:9/25 Vejprnice - Benátky n. J. 3:0 (14\,26\,16)
DTSTART;TZID=Europe/Berlin:20240309T100000
DTEND;TZID=Europe/Berlin:20240309T120000
LOCATION:Tělocvična ZŠ Vejprnice\, Jakuba Husníka 527 Vejprnice
SUMMARY:1-U22Z-M: Vejprnice-Benátky n. J.
END:VEVENT
BEGIN:VEVENT
UID:31383561-6265-4334-b637-316632623438
DTSTAMP:20260422T183145Z
DESCRIPTION:10/28 Vejprnice - Benátky n. J. 3:1 (20\,-22\,14\,19)
DTSTART;TZID=Europe/Berlin:20240309T140000
DTEND;TZID=Europe/Berlin:20240309T160000
LOCATION:Tělocvična ZŠ Vejprnice\, Jakuba Husníka 527 Vejprnice
SUMMARY:1-U22Z-M: Vejprnice-Benátky n. J.
END:VEVENT
BEGIN:VEVENT
UID:33336666-3439-4361-b336-363533366266
DTSTAMP:20260422T183145Z
DESCRIPTION:3/7 Benátky n. J. - Vejprnice 3:2 (19\,-22\,-22\,21\,7)
DTSTART;TZID=Europe/Berlin:20240317T100000
DTEND;TZID=Europe/Berlin:20240317T120000
LOCATION:Nibe aréna\, městská sportovní hala\, 5. května 746 Benátky nad Ji
 zerou - Benátky nad Jizerou II
SUMMARY:1-U22Z-M: Benátky n. J.-Vejprnice
END:VEVENT
BEGIN:VEVENT
UID:62663934-6637-4630-b766-336531336339
DTSTAMP:20260422T183145Z
DESCRIPTION:4/10 Benátky n. J. - Vejprnice 1:3 (-23\,-20\,16\,-20)
DTSTART;TZID=Europe/Berlin:20240317T140000
DTEND;TZID=Europe/Berlin:20240317T160000
LOCATION:Nibe aréna\, městská sportovní hala\, 5. května 746 Benátky nad Ji
 zerou - Benátky nad Jizerou II
SUMMARY:1-U22Z-M: Benátky n. J.-Vejprnice
END:VEVENT
BEGIN:VEVENT
UID:62343534-3163-4338-b037-636538663630
DTSTAMP:20260422T183145Z
DESCRIPTION:7/19 Mn. Hradiště - Vejprnice 2:3 (-16\,-17\,22\,21\,-10)
DTSTART;TZID=Europe/Berlin:20240302T090000
DTEND;TZID=Europe/Berlin:20240302T110000
LOCATION:Sportovní hala BIOS\, Sokolovská 254 Mnichovo Hradiště
SUMMARY:1-U22Z-M: Mn. Hradiště-Vejprnice
END:VEVENT
BEGIN:VEVENT
UID:63306236-6266-4764-b439-643034633563
DTSTAMP:20260422T183145Z
DESCRIPTION:8/22 Mn. Hradiště - Vejprnice 2:3 (-22\,-17\,18\,22\,-7)
DTSTART;TZID=Europe/Berlin:20240302T130000
DTEND;TZID=Europe/Berlin:20240302T150000
LOCATION:Sportovní hala BIOS\, Sokolovská 254 Mnichovo Hradiště
SUMMARY:1-U22Z-M: Mn. Hradiště-Vejprnice
END:VEVENT
BEGIN:VEVENT
UID:61343061-3664-4664-b131-633330653666
DTSTAMP:20260422T183145Z
DESCRIPTION:11/31 Roztoky - Vejprnice 0:3 (-16\,-18\,-18)
DTSTART;TZID=Europe/Berlin:20240324T100000
DTEND;TZID=Europe/Berlin:20240324T120000
LOCATION:Tělocvična ZŠ Roztoky\, Školní nám. 470 Roztoky
SUMMARY:1-U22Z-M: Roztoky-Vejprnice
END:VEVENT
BEGIN:VEVENT
UID:38346638-3239-4432-b666-306132353339
DTSTAMP:20260422T183145Z
DESCRIPTION:12/34 Roztoky - Vejprnice 1:3 (-23\,20\,-19\,-22)
DTSTART;TZID=Europe/Berlin:20240324T140000
DTEND;TZID=Europe/Berlin:20240324T160000
LOCATION:Tělocvična ZŠ Roztoky\, Školní nám. 470 Roztoky
SUMMARY:1-U22Z-M: Roztoky-Vejprnice
END:VEVENT
END:VCALENDAR
