BEGIN:VCALENDAR
VERSION:2.0
PRODID:-//TJ Ostrava82409//NONSGML kigkonsult.se iCalcreator 2.41.80//
CALSCALE:GREGORIAN
UID:61396634-3835-4335-b831-306133306336
BEGIN:VEVENT
UID:61313638-3964-4238-b537-663330656561
DTSTAMP:20260425T183005Z
DESCRIPTION:1/1 Ostrava - Přerov 3:0 (19\,11\,19)
DTSTART;TZID=Europe/Berlin:20230923T100000
DTEND;TZID=Europe/Berlin:20230923T120000
LOCATION:Hala mládeže\, Gajdošova 1893 Ostrava - Moravská Ostrava
SUMMARY:EX-U20Z-1C: Ostrava-Přerov
END:VEVENT
BEGIN:VEVENT
UID:30623362-3763-4130-b164-373661636337
DTSTAMP:20260425T183005Z
DESCRIPTION:1/4 Ostrava - Lanškroun 3:1 (15\,15\,-23\,12)
DTSTART;TZID=Europe/Berlin:20230923T180000
DTEND;TZID=Europe/Berlin:20230923T200000
LOCATION:Hala mládeže\, Gajdošova 1893 Ostrava - Moravská Ostrava
SUMMARY:EX-U20Z-1C: Ostrava-Lanškroun
END:VEVENT
BEGIN:VEVENT
UID:64313065-3839-4663-b331-666633636366
DTSTAMP:20260425T183005Z
DESCRIPTION:1/6 Prostějov - Ostrava 0:3 (-22\,-12\,-17)
DTSTART;TZID=Europe/Berlin:20230924T120000
DTEND;TZID=Europe/Berlin:20230924T140000
LOCATION:Hala mládeže\, Gajdošova 1893 Ostrava - Moravská Ostrava
SUMMARY:EX-U20Z-1C: Prostějov-Ostrava
END:VEVENT
BEGIN:VEVENT
UID:34376139-3737-4336-a131-656563353463
DTSTAMP:20260425T183005Z
DESCRIPTION:2/3 Ostrava - Liberec 1:3 (-17\,-26\,12\,-19)
DTSTART;TZID=Europe/Berlin:20231014T160000
DTEND;TZID=Europe/Berlin:20231014T180000
LOCATION:Městská sportovní hala\, Petřivalského 2884 Přerov - Přerov I-Měst
 o
SUMMARY:EX-U20Z-2A: Ostrava-Liberec
END:VEVENT
BEGIN:VEVENT
UID:37343430-6137-4133-a437-656265613838
DTSTAMP:20260425T183005Z
DESCRIPTION:2/1 Přerov - Ostrava 3:1 (21\,-24\,14\,22)
DTSTART;TZID=Europe/Berlin:20231014T100000
DTEND;TZID=Europe/Berlin:20231014T120000
LOCATION:Městská sportovní hala\, Petřivalského 2884 Přerov - Přerov I-Měst
 o
SUMMARY:EX-U20Z-2A: Přerov-Ostrava
END:VEVENT
BEGIN:VEVENT
UID:65623237-3437-4663-b637-353839396164
DTSTAMP:20260425T183005Z
DESCRIPTION:2/5 Olymp - Ostrava 0:3 (-22\,-23\,-23)
DTSTART;TZID=Europe/Berlin:20231015T100000
DTEND;TZID=Europe/Berlin:20231015T120000
LOCATION:Městská sportovní hala\, Petřivalského 2884 Přerov - Přerov I-Měst
 o
SUMMARY:EX-U20Z-2A: Olymp-Ostrava
END:VEVENT
BEGIN:VEVENT
UID:37623533-3464-4132-b633-376431386265
DTSTAMP:20260425T183005Z
DESCRIPTION:3/6 Ostrava - Kr. Pole 1:3 (-22\,-19\,24\,-24)
DTSTART;TZID=Europe/Berlin:20231112T120000
DTEND;TZID=Europe/Berlin:20231112T140000
LOCATION:Sportovní gymnázium Ludvíka Daňka\, Botanická 63 Brno - Ponava
SUMMARY:EX-U20Z-3A: Ostrava-Kr. Pole
END:VEVENT
BEGIN:VEVENT
UID:37636330-6166-4239-b638-623334353561
DTSTAMP:20260425T183005Z
DESCRIPTION:3/2 Liberec - Ostrava 3:0 (16\,10\,15)
DTSTART;TZID=Europe/Berlin:20231111T120000
DTEND;TZID=Europe/Berlin:20231111T140000
LOCATION:Sportovní gymnázium Ludvíka Daňka\, Botanická 63 Brno - Ponava
SUMMARY:EX-U20Z-3A: Liberec-Ostrava
END:VEVENT
BEGIN:VEVENT
UID:61313461-3634-4063-b132-373530303435
DTSTAMP:20260425T183005Z
DESCRIPTION:3/3 Přerov - Ostrava 3:1 (21\,-19\,25\,21)
DTSTART;TZID=Europe/Berlin:20231111T160000
DTEND;TZID=Europe/Berlin:20231111T180000
LOCATION:Sportovní gymnázium Ludvíka Daňka\, Botanická 63 Brno - Ponava
SUMMARY:EX-U20Z-3A: Přerov-Ostrava
END:VEVENT
BEGIN:VEVENT
UID:65633163-6337-4366-b665-366635323238
DTSTAMP:20260425T183005Z
DESCRIPTION:4/1 Ostrava - Lanškroun 3:0 (15\,16\,15)
DTSTART;TZID=Europe/Berlin:20231202T100000
DTEND;TZID=Europe/Berlin:20231202T120000
LOCATION:Hala mládeže\, Gajdošova 1893 Ostrava - Moravská Ostrava
SUMMARY:EX-U20Z-4B: Ostrava-Lanškroun
END:VEVENT
BEGIN:VEVENT
UID:30393734-3564-4630-b233-656564313564
DTSTAMP:20260425T183005Z
DESCRIPTION:4/4 Ostrava - Kralupy 3:1 (-20\,22\,23\,26)
DTSTART;TZID=Europe/Berlin:20231202T180000
DTEND;TZID=Europe/Berlin:20231202T200000
LOCATION:Hala mládeže\, Gajdošova 1893 Ostrava - Moravská Ostrava
SUMMARY:EX-U20Z-4B: Ostrava-Kralupy
END:VEVENT
BEGIN:VEVENT
UID:39656263-3234-4235-b032-646461366634
DTSTAMP:20260425T183005Z
DESCRIPTION:4/6 Plzeň - Ostrava 2:3 (15\,-13\,24\,-15\,-15)
DTSTART;TZID=Europe/Berlin:20231203T120000
DTEND;TZID=Europe/Berlin:20231203T140000
LOCATION:Hala mládeže\, Gajdošova 1893 Ostrava - Moravská Ostrava
SUMMARY:EX-U20Z-4B: Plzeň-Ostrava
END:VEVENT
BEGIN:VEVENT
UID:32386562-3964-4636-a238-363835316336
DTSTAMP:20260425T183005Z
DESCRIPTION:5/2 Ostrava - Kr. Pole 0:3 (-19\,-22\,-23)
DTSTART;TZID=Europe/Berlin:20240127T120000
DTEND;TZID=Europe/Berlin:20240127T140000
LOCATION:PVK Olymp Praha\, Přípotoční 300 Praha - Vršovice
SUMMARY:EX-U20Z-5A: Ostrava-Kr. Pole
END:VEVENT
BEGIN:VEVENT
UID:36313836-6365-4833-b366-353336616564
DTSTAMP:20260425T183005Z
DESCRIPTION:5/5 Ostrava - Liberec 0:3 (-21\,-14\,-19)
DTSTART;TZID=Europe/Berlin:20240128T100000
DTEND;TZID=Europe/Berlin:20240128T120000
LOCATION:PVK Olymp Praha\, Přípotoční 300 Praha - Vršovice
SUMMARY:EX-U20Z-5A: Ostrava-Liberec
END:VEVENT
BEGIN:VEVENT
UID:64326630-3535-4135-b832-363535613866
DTSTAMP:20260425T183005Z
DESCRIPTION:5/4 Olymp - Ostrava 3:1 (-20\,6\,19\,15)
DTSTART;TZID=Europe/Berlin:20240127T180000
DTEND;TZID=Europe/Berlin:20240127T200000
LOCATION:PVK Olymp Praha\, Přípotoční 300 Praha - Vršovice
SUMMARY:EX-U20Z-5A: Olymp-Ostrava
END:VEVENT
BEGIN:VEVENT
UID:36636464-3334-4835-a638-353863376663
DTSTAMP:20260425T183005Z
DESCRIPTION:6/3 Ostrava - Kralupy 3:0 (21\,18\,17)
DTSTART;TZID=Europe/Berlin:20240218T100000
DTEND;TZID=Europe/Berlin:20240218T120000
LOCATION:Městská sportovní hala\, Petřivalského 2884 Přerov - Přerov I-Měst
 o
SUMMARY:EX-U20Z-6B: Ostrava-Kralupy
END:VEVENT
BEGIN:VEVENT
UID:39663038-3338-4063-a539-623435303932
DTSTAMP:20260425T183005Z
DESCRIPTION:6/1 Přerov - Ostrava 0:3 (-17\,-14\,-13)
DTSTART;TZID=Europe/Berlin:20240217T090000
DTEND;TZID=Europe/Berlin:20240217T110000
LOCATION:Městská sportovní hala\, Petřivalského 2884 Přerov - Přerov I-Měst
 o
SUMMARY:EX-U20Z-6B: Přerov-Ostrava
END:VEVENT
BEGIN:VEVENT
UID:64363861-3565-4635-b339-373265643661
DTSTAMP:20260425T183005Z
DESCRIPTION:6/5 České Budějovice - Ostrava 1:3 (-15\,-19\,20\,-12)\nNH: Kou
 řilkova
DTSTART;TZID=Europe/Berlin:20240217T143000
DTEND;TZID=Europe/Berlin:20240217T163000
LOCATION:Městská sportovní hala\, Petřivalského 2884 Přerov - Přerov I-Měst
 o
SUMMARY:EX-U20Z-6B: České Budějovice-Ostrava
END:VEVENT
BEGIN:VEVENT
UID:36613461-3238-4364-b766-393534616634
DTSTAMP:20260425T183005Z
DESCRIPTION:7/1 Ostrava - Kr. Pole 3:1 (-24\,20\,24\,12)
DTSTART;TZID=Europe/Berlin:20240309T100000
DTEND;TZID=Europe/Berlin:20240309T120000
LOCATION:Hala míčových sportů\, Varenská 3098 Ostrava - Moravská Ostrava
SUMMARY:EX-U20Z-7A: Ostrava-Kr. Pole
END:VEVENT
BEGIN:VEVENT
UID:63373561-6133-4165-b064-356635353939
DTSTAMP:20260425T183005Z
DESCRIPTION:7/4 Ostrava - Liberec 3:1 (-18\,19\,16\,21)
DTSTART;TZID=Europe/Berlin:20240309T180000
DTEND;TZID=Europe/Berlin:20240309T200000
LOCATION:Hala míčových sportů\, Varenská 3098 Ostrava - Moravská Ostrava
SUMMARY:EX-U20Z-7A: Ostrava-Liberec
END:VEVENT
BEGIN:VEVENT
UID:33313361-3032-4030-b837-333433313633
DTSTAMP:20260425T183005Z
DESCRIPTION:7/6 Olymp - Ostrava 3:0 (21\,17\,23)
DTSTART;TZID=Europe/Berlin:20240310T120000
DTEND;TZID=Europe/Berlin:20240310T140000
LOCATION:Hala míčových sportů\, Varenská 3098 Ostrava - Moravská Ostrava
SUMMARY:EX-U20Z-7A: Olymp-Ostrava
END:VEVENT
BEGIN:VEVENT
UID:33616438-3637-4561-b064-313737623138
DTSTAMP:20260425T183005Z
DESCRIPTION:8/2 Ostrava - Přerov 0:3 (-15\,-16\,-18)
DTSTART;TZID=Europe/Berlin:20240420T120000
DTEND;TZID=Europe/Berlin:20240420T140000
LOCATION:PVK Olymp Praha\, Přípotoční 300 Praha - Vršovice
SUMMARY:EX-U20Z-8A: Ostrava-Přerov
END:VEVENT
BEGIN:VEVENT
UID:37366331-3164-4538-b135-323030636365
DTSTAMP:20260425T183005Z
DESCRIPTION:8/5 Ostrava - Liberec 0:3 (-22\,-15\,-14)
DTSTART;TZID=Europe/Berlin:20240421T100000
DTEND;TZID=Europe/Berlin:20240421T120000
LOCATION:PVK Olymp Praha\, Přípotoční 300 Praha - Vršovice
SUMMARY:EX-U20Z-8A: Ostrava-Liberec
END:VEVENT
BEGIN:VEVENT
UID:35613331-3162-4262-b638-643562653638
DTSTAMP:20260425T183005Z
DESCRIPTION:8/4 Olymp - Ostrava 3:0 (14\,18\,12)
DTSTART;TZID=Europe/Berlin:20240420T180000
DTEND;TZID=Europe/Berlin:20240420T200000
LOCATION:PVK Olymp Praha\, Přípotoční 300 Praha - Vršovice
SUMMARY:EX-U20Z-8A: Olymp-Ostrava
END:VEVENT
BEGIN:VEVENT
UID:61393666-6236-4434-a364-373164616133
DTSTAMP:20260425T183005Z
DESCRIPTION:2/2 Ostrava - Kr. Pole 3:0 (15\,20\,22)
DTSTART;TZID=Europe/Berlin:20240510T123000
DTEND;TZID=Europe/Berlin:20240510T143000
LOCATION:Hala míčových sportů\, Varenská 3098 Ostrava - Moravská Ostrava
SUMMARY:EX-U20Z-F2: Ostrava-Kr. Pole
END:VEVENT
BEGIN:VEVENT
UID:61346236-3863-4366-b635-313664323937
DTSTAMP:20260425T183005Z
DESCRIPTION:1/1 Olymp - Ostrava 1:3 (-22\,22\,-16\,-21)
DTSTART;TZID=Europe/Berlin:20240509T190000
DTEND;TZID=Europe/Berlin:20240509T210000
LOCATION:Hala míčových sportů\, Varenská 3098 Ostrava - Moravská Ostrava
SUMMARY:EX-U20Z-F2: Olymp-Ostrava
END:VEVENT
BEGIN:VEVENT
UID:64636238-3462-4437-b534-323834353664
DTSTAMP:20260425T183005Z
DESCRIPTION:1/3 Ostrava - Přerov 1:3 (-19\,22\,-22\,-15)\n1F2-2F1
DTSTART;TZID=Europe/Berlin:20240511T160000
DTEND;TZID=Europe/Berlin:20240511T180000
LOCATION:Hala mládeže\, Gajdošova 1893 Ostrava - Moravská Ostrava
SUMMARY:EX-U20Z-F: Ostrava-Přerov
END:VEVENT
BEGIN:VEVENT
UID:32353862-6266-4833-a533-393764323931
DTSTAMP:20260425T183005Z
DESCRIPTION:2/4 Ostrava - Olymp 2:3 (-22\,-18\,19\,20\,-8)\no 3.-4. místo
DTSTART;TZID=Europe/Berlin:20240512T100000
DTEND;TZID=Europe/Berlin:20240512T120000
LOCATION:Hala mládeže\, Gajdošova 1893 Ostrava - Moravská Ostrava
SUMMARY:EX-U20Z-F: Ostrava-Olymp
END:VEVENT
END:VCALENDAR
