BEGIN:VCALENDAR
VERSION:2.0
PRODID:-//TJ Orion Praha82426//NONSGML kigkonsult.se iCalcreator 2.41.80//
CALSCALE:GREGORIAN
UID:38346461-3132-4838-b536-636463613965
BEGIN:VEVENT
UID:34366230-3030-4966-b730-373531313038
DTSTAMP:20260423T190827Z
DESCRIPTION:1/2 Orion - Lvi Praha 3:0 (21\,23\,17)
DTSTART;TZID=Europe/Berlin:20231112T090000
DTEND;TZID=Europe/Berlin:20231112T110000
LOCATION:ZŠ Dolní Břežany\, Na Vršku 290 Dolní Břežany
SUMMARY:1-U20Z-A: Orion-Lvi Praha
END:VEVENT
BEGIN:VEVENT
UID:37336434-6133-4866-a533-633764373262
DTSTAMP:20260423T190827Z
DESCRIPTION:2/5 Orion - Lvi Praha 3:1 (22\,-19\,24\,10)
DTSTART;TZID=Europe/Berlin:20231112T130000
DTEND;TZID=Europe/Berlin:20231112T150000
LOCATION:ZŠ Dolní Břežany\, Na Vršku 290 Dolní Břežany
SUMMARY:1-U20Z-A: Orion-Lvi Praha
END:VEVENT
BEGIN:VEVENT
UID:65646265-6661-4436-a665-643533393065
DTSTAMP:20260423T190827Z
DESCRIPTION:5/13 Orion - Chodov 3:2 (21\,-23\,-25\,13\,7)
DTSTART;TZID=Europe/Berlin:20231203T110000
DTEND;TZID=Europe/Berlin:20231203T130000
LOCATION:ZŠ Dolní Břežany\, Na Vršku 290 Dolní Břežany
SUMMARY:1-U20Z-A: Orion-Chodov
END:VEVENT
BEGIN:VEVENT
UID:65636633-6130-4234-b336-343636393365
DTSTAMP:20260423T190827Z
DESCRIPTION:6/16 Orion - Chodov 3:0 (24\,11\,8)
DTSTART;TZID=Europe/Berlin:20231203T150000
DTEND;TZID=Europe/Berlin:20231203T170000
LOCATION:ZŠ Dolní Břežany\, Na Vršku 290 Dolní Břežany
SUMMARY:1-U20Z-A: Orion-Chodov
END:VEVENT
BEGIN:VEVENT
UID:31663335-3433-4565-b266-383932313366
DTSTAMP:20260423T190827Z
DESCRIPTION:7/21 Orion - Mikulova 3:1 (17\,-23\,28\,18)
DTSTART;TZID=Europe/Berlin:20231029T100000
DTEND;TZID=Europe/Berlin:20231029T120000
LOCATION:Sportovní hala Radotín\, U starého stadiónu 1585 Praha - Radotín
SUMMARY:1-U20Z-A: Orion-Mikulova
END:VEVENT
BEGIN:VEVENT
UID:30613366-3336-4932-a438-333638653961
DTSTAMP:20260423T190827Z
DESCRIPTION:8/24 Orion - Mikulova 3:2 (-24\,17\,-20\,20\,5)
DTSTART;TZID=Europe/Berlin:20231029T140000
DTEND;TZID=Europe/Berlin:20231029T160000
LOCATION:Sportovní hala Radotín\, U starého stadiónu 1585 Praha - Radotín
SUMMARY:1-U20Z-A: Orion-Mikulova
END:VEVENT
BEGIN:VEVENT
UID:33316437-3533-4461-b763-646664636139
DTSTAMP:20260423T190827Z
DESCRIPTION:13/39 Orion - Nymburk 3:0 (5\,21\,15)
DTSTART;TZID=Europe/Berlin:20231126T100000
DTEND;TZID=Europe/Berlin:20231126T120000
LOCATION:ZŠ Dolní Břežany\, Na Vršku 290 Dolní Břežany
SUMMARY:1-U20Z-A: Orion-Nymburk
END:VEVENT
BEGIN:VEVENT
UID:36633262-3463-4339-a531-346139353230
DTSTAMP:20260423T190827Z
DESCRIPTION:14/42 Orion - Nymburk 3:1 (18\,-19\,22\,20)
DTSTART;TZID=Europe/Berlin:20231126T140000
DTEND;TZID=Europe/Berlin:20231126T160000
LOCATION:ZŠ Dolní Břežany\, Na Vršku 290 Dolní Břežany
SUMMARY:1-U20Z-A: Orion-Nymburk
END:VEVENT
BEGIN:VEVENT
UID:36636363-6266-4163-b334-636661383735
DTSTAMP:20260423T190827Z
DESCRIPTION:19/56 Orion - Kometa 3:1 (19\,-22\,19\,19)
DTSTART;TZID=Europe/Berlin:20231105T090000
DTEND;TZID=Europe/Berlin:20231105T110000
LOCATION:ZŠ Dolní Břežany\, Na Vršku 290 Dolní Břežany
SUMMARY:1-U20Z-A: Orion-Kometa
END:VEVENT
BEGIN:VEVENT
UID:36323033-6331-4339-a263-333134386533
DTSTAMP:20260423T190827Z
DESCRIPTION:20/59 Orion - Kometa 3:2 (22\,-19\,21\,-24\,7)
DTSTART;TZID=Europe/Berlin:20231105T130000
DTEND;TZID=Europe/Berlin:20231105T150000
LOCATION:ZŠ Dolní Břežany\, Na Vršku 290 Dolní Břežany
SUMMARY:1-U20Z-A: Orion-Kometa
END:VEVENT
BEGIN:VEVENT
UID:33656337-6531-4230-a464-303262643734
DTSTAMP:20260423T190827Z
DESCRIPTION:3/9 Nymburk - Orion 3:1 (-23\,23\,20\,22)
DTSTART;TZID=Europe/Berlin:20231001T100000
DTEND;TZID=Europe/Berlin:20231001T120000
LOCATION:Zimní stadion\, U Stadionu 12 Nymburk
SUMMARY:1-U20Z-A: Nymburk-Orion
END:VEVENT
BEGIN:VEVENT
UID:66636166-3235-4266-a139-663063643536
DTSTAMP:20260423T190827Z
DESCRIPTION:4/12 Nymburk - Orion 3:0 (22\,24\,9)
DTSTART;TZID=Europe/Berlin:20231001T140000
DTEND;TZID=Europe/Berlin:20231001T160000
LOCATION:Zimní stadion\, U Stadionu 12 Nymburk
SUMMARY:1-U20Z-A: Nymburk-Orion
END:VEVENT
BEGIN:VEVENT
UID:62353735-3864-4730-b465-386438353036
DTSTAMP:20260423T190827Z
DESCRIPTION:9/26 Kometa - Orion 3:1 (26\,21\,-20\,20)
DTSTART;TZID=Europe/Berlin:20240106T090000
DTEND;TZID=Europe/Berlin:20240106T110000
LOCATION:Tělocvična ZŠ Na Šutce\, Na Šutce 440 Praha - Troja
SUMMARY:1-U20Z-A: Kometa-Orion
END:VEVENT
BEGIN:VEVENT
UID:32353835-6362-4139-a638-643262356334
DTSTAMP:20260423T190827Z
DESCRIPTION:10/29 Kometa - Orion 1:3 (-17\,-15\,15\,-19)
DTSTART;TZID=Europe/Berlin:20240106T130000
DTEND;TZID=Europe/Berlin:20240106T150000
LOCATION:Tělocvična ZŠ Na Šutce\, Na Šutce 440 Praha - Troja
SUMMARY:1-U20Z-A: Kometa-Orion
END:VEVENT
BEGIN:VEVENT
UID:39666537-3638-4539-b231-626566316162
DTSTAMP:20260423T190827Z
DESCRIPTION:11/32 Lvi Praha - Orion 0:3 (-14\,-22\,-23)
DTSTART;TZID=Europe/Berlin:20231007T100000
DTEND;TZID=Europe/Berlin:20231007T120000
LOCATION:ZŠ Balabenka\, náměstí Na Balabence 800 Praha - Libeň
SUMMARY:1-U20Z-A: Lvi Praha-Orion
END:VEVENT
BEGIN:VEVENT
UID:34393763-3866-4435-a331-613333656539
DTSTAMP:20260423T190827Z
DESCRIPTION:12/35 Lvi Praha - Orion 2:3 (-20\,21\,27\,-22\,-11)
DTSTART;TZID=Europe/Berlin:20231007T140000
DTEND;TZID=Europe/Berlin:20231007T160000
LOCATION:ZŠ Balabenka\, náměstí Na Balabence 800 Praha - Libeň
SUMMARY:1-U20Z-A: Lvi Praha-Orion
END:VEVENT
BEGIN:VEVENT
UID:33303834-6237-4835-a234-346263363038
DTSTAMP:20260423T190827Z
DESCRIPTION:15/43 Chodov - Orion 2:3 (-27\,22\,22\,-12\,-4)
DTSTART;TZID=Europe/Berlin:20231008T100000
DTEND;TZID=Europe/Berlin:20231008T120000
LOCATION:Městská sportovní hala Chodov\, Tyršova 1201 Chodov
SUMMARY:1-U20Z-A: Chodov-Orion
END:VEVENT
BEGIN:VEVENT
UID:32346264-3533-4465-b534-383233356563
DTSTAMP:20260423T190827Z
DESCRIPTION:16/46 Chodov - Orion 3:1 (19\,20\,-23\,14)
DTSTART;TZID=Europe/Berlin:20231008T140000
DTEND;TZID=Europe/Berlin:20231008T160000
LOCATION:Městská sportovní hala Chodov\, Tyršova 1201 Chodov
SUMMARY:1-U20Z-A: Chodov-Orion
END:VEVENT
BEGIN:VEVENT
UID:65303438-6132-4438-b065-373164393134
DTSTAMP:20260423T190827Z
DESCRIPTION:17/51 Mikulova - Orion 2:3 (-18\,22\,22\,-19\,-15)
DTSTART;TZID=Europe/Berlin:20230924T110000
DTEND;TZID=Europe/Berlin:20230924T130000
LOCATION:Sportovní hala Čestlice\, Průhonická 305 Čestlice
SUMMARY:1-U20Z-A: Mikulova-Orion
END:VEVENT
BEGIN:VEVENT
UID:37356338-3534-4438-b036-633538623339
DTSTAMP:20260423T190827Z
DESCRIPTION:18/54 Mikulova - Orion 1:3 (-17\,15\,-22\,-18)
DTSTART;TZID=Europe/Berlin:20230924T150000
DTEND;TZID=Europe/Berlin:20230924T170000
LOCATION:Sportovní hala Čestlice\, Průhonická 305 Čestlice
SUMMARY:1-U20Z-A: Mikulova-Orion
END:VEVENT
BEGIN:VEVENT
UID:33633466-6364-4166-b336-376237613665
DTSTAMP:20260423T190827Z
DESCRIPTION:1/2 Orion - Demlova 1:3 (-14\,-12\,21\,-21)
DTSTART;TZID=Europe/Berlin:20240202T100000
DTEND;TZID=Europe/Berlin:20240202T120000
LOCATION:ZŠ Dolní Břežany\, Na Vršku 290 Dolní Břežany
SUMMARY:1-U20Z-I: Orion-Demlova
END:VEVENT
BEGIN:VEVENT
UID:37323530-3338-4638-b233-653362383639
DTSTAMP:20260423T190827Z
DESCRIPTION:2/5 Orion - Demlova 0:3 (-25\,-20\,-23)
DTSTART;TZID=Europe/Berlin:20240202T140000
DTEND;TZID=Europe/Berlin:20240202T160000
LOCATION:ZŠ Dolní Břežany\, Na Vršku 290 Dolní Břežany
SUMMARY:1-U20Z-I: Orion-Demlova
END:VEVENT
BEGIN:VEVENT
UID:61323739-3564-4933-a134-643030333564
DTSTAMP:20260423T190827Z
DESCRIPTION:5/14 Orion - Nové Veselí 0:3 (-17\,-20\,-20)
DTSTART;TZID=Europe/Berlin:20240211T120000
DTEND;TZID=Europe/Berlin:20240211T140000
LOCATION:ZŠ Dolní Břežany\, Na Vršku 290 Dolní Břežany
SUMMARY:1-U20Z-I: Orion-Nové Veselí
END:VEVENT
BEGIN:VEVENT
UID:66396438-3665-4135-a230-356637303363
DTSTAMP:20260423T190827Z
DESCRIPTION:6/17 Orion - Nové Veselí 2:3 (27\,-19\,-21\,20\,-14)
DTSTART;TZID=Europe/Berlin:20240211T160000
DTEND;TZID=Europe/Berlin:20240211T180000
LOCATION:ZŠ Dolní Břežany\, Na Vršku 290 Dolní Břežany
SUMMARY:1-U20Z-I: Orion-Nové Veselí
END:VEVENT
BEGIN:VEVENT
UID:61633737-6439-4538-b065-313534303636
DTSTAMP:20260423T190827Z
DESCRIPTION:9/26 Orion - Šternberk 3:0 (0\,0\,0)
DTSTART;TZID=Europe/Berlin:20240310T120000
DTEND;TZID=Europe/Berlin:20240310T140000
LOCATION:ZŠ Dolní Břežany\, Na Vršku 290 Dolní Břežany
SUMMARY:1-U20Z-I: Orion-Šternberk
END:VEVENT
BEGIN:VEVENT
UID:66336162-6630-4537-b635-326334363862
DTSTAMP:20260423T190827Z
DESCRIPTION:10/29 Orion - Šternberk 3:X
DTSTART;TZID=Europe/Berlin:20240310T160000
DTEND;TZID=Europe/Berlin:20240310T180000
LOCATION:ZŠ Dolní Břežany\, Na Vršku 290 Dolní Břežany
SUMMARY:1-U20Z-I: Orion-Šternberk
END:VEVENT
BEGIN:VEVENT
UID:66313035-6235-4161-a566-303063333431
DTSTAMP:20260423T190827Z
DESCRIPTION:3/8 Šternberk - Orion 3:2 (-23\,26\,16\,-22\,7)
DTSTART;TZID=Europe/Berlin:20240128T110000
DTEND;TZID=Europe/Berlin:20240128T130000
LOCATION:UP Olomouc\, U sportovní haly 38 Olomouc - Lazce
SUMMARY:1-U20Z-I: Šternberk-Orion
END:VEVENT
BEGIN:VEVENT
UID:64336461-3263-4934-b163-323363323062
DTSTAMP:20260423T190827Z
DESCRIPTION:4/11 Šternberk - Orion 3:0 (22\,19\,23)
DTSTART;TZID=Europe/Berlin:20240128T150000
DTEND;TZID=Europe/Berlin:20240128T170000
LOCATION:UP Olomouc\, U sportovní haly 38 Olomouc - Lazce
SUMMARY:1-U20Z-I: Šternberk-Orion
END:VEVENT
BEGIN:VEVENT
UID:30386637-6630-4365-a362-633334613832
DTSTAMP:20260423T190827Z
DESCRIPTION:7/20 Demlova - Orion 3:0 (22\,13\,21)
DTSTART;TZID=Europe/Berlin:20240328T103000
DTEND;TZID=Europe/Berlin:20240328T123000
LOCATION:ZŠ Jihlava Demlova\, Demlova 4178 Jihlava
SUMMARY:1-U20Z-I: Demlova-Orion
END:VEVENT
BEGIN:VEVENT
UID:64346634-6561-4033-a435-653031393631
DTSTAMP:20260423T190827Z
DESCRIPTION:8/23 Demlova - Orion 3:1 (-15\,9\,24\,18)
DTSTART;TZID=Europe/Berlin:20240328T140000
DTEND;TZID=Europe/Berlin:20240328T160000
LOCATION:ZŠ Jihlava Demlova\, Demlova 4178 Jihlava
SUMMARY:1-U20Z-I: Demlova-Orion
END:VEVENT
BEGIN:VEVENT
UID:39323764-6534-4237-a163-616637343862
DTSTAMP:20260423T190827Z
DESCRIPTION:11/32 Nové Veselí - Orion 3:2 (-24\,17\,-19\,11\,13)
DTSTART;TZID=Europe/Berlin:20240218T110000
DTEND;TZID=Europe/Berlin:20240218T130000
LOCATION:Víceúčelová sportovní hala Nové Veselí\, Žďárská 356 Nové Veselí
SUMMARY:1-U20Z-I: Nové Veselí-Orion
END:VEVENT
BEGIN:VEVENT
UID:31386162-3165-4538-b031-613030326465
DTSTAMP:20260423T190827Z
DESCRIPTION:12/35 Nové Veselí - Orion 3:0 (14\,17\,9)
DTSTART;TZID=Europe/Berlin:20240218T150000
DTEND;TZID=Europe/Berlin:20240218T170000
LOCATION:Víceúčelová sportovní hala Nové Veselí\, Žďárská 356 Nové Veselí
SUMMARY:1-U20Z-I: Nové Veselí-Orion
END:VEVENT
END:VCALENDAR
