BEGIN:VCALENDAR
VERSION:2.0
PRODID:-//TJ Žďár nad Sázavou82436//NONSGML kigkonsult.se iCalcreator 2.41.80//
CALSCALE:GREGORIAN
UID:64336139-3539-4730-b635-303938386333
BEGIN:VEVENT
UID:36336131-3765-4235-a630-343336623933
DTSTAMP:20260423T133519Z
DESCRIPTION:5/15 Žďár n. S. - Havlíčkův Brod 0:3 (-14\,-14\,-19)
DTSTART;TZID=Europe/Berlin:20231008T100000
DTEND;TZID=Europe/Berlin:20231008T120000
LOCATION:Sportovní hala na Bouchalkách\, Jungmannova 1495 Žďár nad Sázavou 
 - Žďár nad Sázavou 1
SUMMARY:2-U20Z-D: Žďár n. S.-Havlíčkův Brod
END:VEVENT
BEGIN:VEVENT
UID:38646432-6130-4430-b032-393430373536
DTSTAMP:20260423T133519Z
DESCRIPTION:6/18 Žďár n. S. - Havlíčkův Brod 0:3 (-16\,-20\,-15)
DTSTART;TZID=Europe/Berlin:20231008T140000
DTEND;TZID=Europe/Berlin:20231008T160000
LOCATION:Sportovní hala na Bouchalkách\, Jungmannova 1495 Žďár nad Sázavou 
 - Žďár nad Sázavou 1
SUMMARY:2-U20Z-D: Žďár n. S.-Havlíčkův Brod
END:VEVENT
BEGIN:VEVENT
UID:64626434-3038-4336-b032-316665656664
DTSTAMP:20260423T133519Z
DESCRIPTION:9/26 Žďár n. S. - Svitavy 1:3 (-13\,19\,-15\,-12)
DTSTART;TZID=Europe/Berlin:20231105T100000
DTEND;TZID=Europe/Berlin:20231105T120000
LOCATION:Sportovní hala na Bouchalkách\, Jungmannova 1495 Žďár nad Sázavou 
 - Žďár nad Sázavou 1
SUMMARY:2-U20Z-D: Žďár n. S.-Svitavy
END:VEVENT
BEGIN:VEVENT
UID:33613936-3535-4530-b738-373561316534
DTSTAMP:20260423T133519Z
DESCRIPTION:10/29 Žďár n. S. - Svitavy 0:3 (-13\,-17\,-23)
DTSTART;TZID=Europe/Berlin:20231105T140000
DTEND;TZID=Europe/Berlin:20231105T160000
LOCATION:Sportovní hala na Bouchalkách\, Jungmannova 1495 Žďár nad Sázavou 
 - Žďár nad Sázavou 1
SUMMARY:2-U20Z-D: Žďár n. S.-Svitavy
END:VEVENT
BEGIN:VEVENT
UID:39313436-3937-4538-a331-636639363230
DTSTAMP:20260423T133519Z
DESCRIPTION:11/33 Žďár n. S. - Kolín 0:3 (-15\,-14\,-23)
DTSTART;TZID=Europe/Berlin:20231117T100000
DTEND;TZID=Europe/Berlin:20231117T120000
LOCATION:Sportovní hala na Bouchalkách\, Jungmannova 1495 Žďár nad Sázavou 
 - Žďár nad Sázavou 1
SUMMARY:2-U20Z-D: Žďár n. S.-Kolín
END:VEVENT
BEGIN:VEVENT
UID:32353137-6238-4532-a137-393833316135
DTSTAMP:20260423T133519Z
DESCRIPTION:12/36 Žďár n. S. - Kolín 0:3 (-14\,-17\,-18)
DTSTART;TZID=Europe/Berlin:20231117T140000
DTEND;TZID=Europe/Berlin:20231117T160000
LOCATION:Sportovní hala na Bouchalkách\, Jungmannova 1495 Žďár nad Sázavou 
 - Žďár nad Sázavou 1
SUMMARY:2-U20Z-D: Žďár n. S.-Kolín
END:VEVENT
BEGIN:VEVENT
UID:37336235-3132-4461-a537-643764633236
DTSTAMP:20260423T133519Z
DESCRIPTION:13/37 Žďár n. S. - Pardubice 3:2 (-12\,19\,18\,-20\,11)
DTSTART;TZID=Europe/Berlin:20231126T100000
DTEND;TZID=Europe/Berlin:20231126T120000
LOCATION:Sportovní hala na Bouchalkách\, Jungmannova 1495 Žďár nad Sázavou 
 - Žďár nad Sázavou 1
SUMMARY:2-U20Z-D: Žďár n. S.-Pardubice
END:VEVENT
BEGIN:VEVENT
UID:31386538-3833-4164-b038-376364316466
DTSTAMP:20260423T133519Z
DESCRIPTION:14/40 Žďár n. S. - Pardubice 1:3 (-24\,24\,-10\,-18)
DTSTART;TZID=Europe/Berlin:20231126T140000
DTEND;TZID=Europe/Berlin:20231126T160000
LOCATION:Sportovní hala na Bouchalkách\, Jungmannova 1495 Žďár nad Sázavou 
 - Žďár nad Sázavou 1
SUMMARY:2-U20Z-D: Žďár n. S.-Pardubice
END:VEVENT
BEGIN:VEVENT
UID:61393762-3339-4761-b030-613835313933
DTSTAMP:20260423T133519Z
DESCRIPTION:17/50 Žďár n. S. - Bedřichov 0:3 (-13\,-14\,-21)
DTSTART;TZID=Europe/Berlin:20231217T100000
DTEND;TZID=Europe/Berlin:20231217T120000
LOCATION:Sportovní hala na Bouchalkách\, Jungmannova 1495 Žďár nad Sázavou 
 - Žďár nad Sázavou 1
SUMMARY:2-U20Z-D: Žďár n. S.-Bedřichov
END:VEVENT
BEGIN:VEVENT
UID:38303866-3337-4432-b330-636564656338
DTSTAMP:20260423T133519Z
DESCRIPTION:18/53 Žďár n. S. - Bedřichov 0:3 (-17\,-10\,-15)
DTSTART;TZID=Europe/Berlin:20231217T140000
DTEND;TZID=Europe/Berlin:20231217T160000
LOCATION:Sportovní hala na Bouchalkách\, Jungmannova 1495 Žďár nad Sázavou 
 - Žďár nad Sázavou 1
SUMMARY:2-U20Z-D: Žďár n. S.-Bedřichov
END:VEVENT
BEGIN:VEVENT
UID:63666231-6131-4939-b764-323163373833
DTSTAMP:20260423T133519Z
DESCRIPTION:1/3 Kolín - Žďár n. S. 3:0 (15\,16\,21)
DTSTART;TZID=Europe/Berlin:20230917T100000
DTEND;TZID=Europe/Berlin:20230917T120000
LOCATION:hala STAV\, SOŠ Kolín\, Brankovická 1417 Kolín - Kolín V
SUMMARY:2-U20Z-D: Kolín-Žďár n. S.
END:VEVENT
BEGIN:VEVENT
UID:63353036-3236-4762-b165-383934613635
DTSTAMP:20260423T133519Z
DESCRIPTION:2/6 Kolín - Žďár n. S. 3:0 (15\,17\,22)
DTSTART;TZID=Europe/Berlin:20230917T140000
DTEND;TZID=Europe/Berlin:20230917T160000
LOCATION:hala STAV\, SOŠ Kolín\, Brankovická 1417 Kolín - Kolín V
SUMMARY:2-U20Z-D: Kolín-Žďár n. S.
END:VEVENT
BEGIN:VEVENT
UID:62356162-6639-4131-b036-663236306533
DTSTAMP:20260423T133519Z
DESCRIPTION:3/7 Pardubice - Žďár n. S. 1:3 (-11\,16\,-19\,-10)
DTSTART;TZID=Europe/Berlin:20231001T100000
DTEND;TZID=Europe/Berlin:20231001T120000
LOCATION:Sportovní hala\, Masarykovo nám. 108 Lázně Bohdaneč
SUMMARY:2-U20Z-D: Pardubice-Žďár n. S.
END:VEVENT
BEGIN:VEVENT
UID:31363731-3262-4136-a239-636237396465
DTSTAMP:20260423T133519Z
DESCRIPTION:4/10 Pardubice - Žďár n. S. 3:0 (9\,23\,8)
DTSTART;TZID=Europe/Berlin:20231001T140000
DTEND;TZID=Europe/Berlin:20231001T160000
LOCATION:Sportovní hala\, Masarykovo nám. 108 Lázně Bohdaneč
SUMMARY:2-U20Z-D: Pardubice-Žďár n. S.
END:VEVENT
BEGIN:VEVENT
UID:35656464-6539-4139-b563-366564333866
DTSTAMP:20260423T133519Z
DESCRIPTION:7/20 Bedřichov - Žďár n. S. 3:0 (21\,19\,12)
DTSTART;TZID=Europe/Berlin:20231029T100000
DTEND;TZID=Europe/Berlin:20231029T120000
LOCATION:TJ Sokol Bedřichov\, Jihlava\, Sokolovská 4656 Jihlava
SUMMARY:2-U20Z-D: Bedřichov-Žďár n. S.
END:VEVENT
BEGIN:VEVENT
UID:34396331-3438-4335-b961-636661663262
DTSTAMP:20260423T133519Z
DESCRIPTION:8/23 Bedřichov - Žďár n. S. 3:0 (18\,11\,19)
DTSTART;TZID=Europe/Berlin:20231029T140000
DTEND;TZID=Europe/Berlin:20231029T160000
LOCATION:TJ Sokol Bedřichov\, Jihlava\, Sokolovská 4656 Jihlava
SUMMARY:2-U20Z-D: Bedřichov-Žďár n. S.
END:VEVENT
BEGIN:VEVENT
UID:63623566-6130-4532-b430-626363613430
DTSTAMP:20260423T133519Z
DESCRIPTION:15/45 Havlíčkův Brod - Žďár n. S. 3:0 (7\,8\,15)
DTSTART;TZID=Europe/Berlin:20231203T100000
DTEND;TZID=Europe/Berlin:20231203T120000
LOCATION:Střední zdravotnická škola Havlíčkův Brod\, Masarykova 2033 Havlíč
 kův Brod
SUMMARY:2-U20Z-D: Havlíčkův Brod-Žďár n. S.
END:VEVENT
BEGIN:VEVENT
UID:38356230-3365-4533-a430-326135386262
DTSTAMP:20260423T133519Z
DESCRIPTION:16/48 Havlíčkův Brod - Žďár n. S. 3:0 (20\,21\,16)
DTSTART;TZID=Europe/Berlin:20231203T140000
DTEND;TZID=Europe/Berlin:20231203T160000
LOCATION:Střední zdravotnická škola Havlíčkův Brod\, Masarykova 2033 Havlíč
 kův Brod
SUMMARY:2-U20Z-D: Havlíčkův Brod-Žďár n. S.
END:VEVENT
BEGIN:VEVENT
UID:66386164-3034-4936-b236-316436376462
DTSTAMP:20260423T133519Z
DESCRIPTION:19/56 Svitavy - Žďár n. S. 3:0 (8\,21\,11)
DTSTART;TZID=Europe/Berlin:20240106T100000
DTEND;TZID=Europe/Berlin:20240106T120000
LOCATION:Sportovní hala Na Střelnici\, Pražská 2162 Svitavy - Předměstí
SUMMARY:2-U20Z-D: Svitavy-Žďár n. S.
END:VEVENT
BEGIN:VEVENT
UID:36336535-6630-4763-b232-343861323565
DTSTAMP:20260423T133519Z
DESCRIPTION:20/59 Svitavy - Žďár n. S. 3:0 (15\,21\,23)
DTSTART;TZID=Europe/Berlin:20240106T140000
DTEND;TZID=Europe/Berlin:20240106T160000
LOCATION:Sportovní hala Na Střelnici\, Pražská 2162 Svitavy - Předměstí
SUMMARY:2-U20Z-D: Svitavy-Žďár n. S.
END:VEVENT
BEGIN:VEVENT
UID:66323733-6532-4637-b839-326362653266
DTSTAMP:20260423T133519Z
DESCRIPTION:3/9 Žďár n. S. - Dansport X:3
DTSTART;TZID=Europe/Berlin:20240204T100000
DTEND;TZID=Europe/Berlin:20240204T120000
LOCATION:Sportovní hala na Bouchalkách\, Jungmannova 1495 Žďár nad Sázavou 
 - Žďár nad Sázavou 1
SUMMARY:2-U20Z-O: Žďár n. S.-Dansport
END:VEVENT
BEGIN:VEVENT
UID:39366132-3132-4866-b836-323263623530
DTSTAMP:20260423T133519Z
DESCRIPTION:4/12 Žďár n. S. - Dansport X:3
DTSTART;TZID=Europe/Berlin:20240204T140000
DTEND;TZID=Europe/Berlin:20240204T160000
LOCATION:Sportovní hala na Bouchalkách\, Jungmannova 1495 Žďár nad Sázavou 
 - Žďár nad Sázavou 1
SUMMARY:2-U20Z-O: Žďár n. S.-Dansport
END:VEVENT
BEGIN:VEVENT
UID:64356236-3063-4062-b037-356664646433
DTSTAMP:20260423T133519Z
DESCRIPTION:7/19 Žďár n. S. - Náchod X:3
DTSTART;TZID=Europe/Berlin:20240303T100000
DTEND;TZID=Europe/Berlin:20240303T120000
LOCATION:Sportovní hala na Bouchalkách\, Jungmannova 1495 Žďár nad Sázavou 
 - Žďár nad Sázavou 1
SUMMARY:2-U20Z-O: Žďár n. S.-Náchod
END:VEVENT
BEGIN:VEVENT
UID:34376662-6662-4630-a431-333166633764
DTSTAMP:20260423T133519Z
DESCRIPTION:8/22 Žďár n. S. - Náchod X:3
DTSTART;TZID=Europe/Berlin:20240303T140000
DTEND;TZID=Europe/Berlin:20240303T160000
LOCATION:Sportovní hala na Bouchalkách\, Jungmannova 1495 Žďár nad Sázavou 
 - Žďár nad Sázavou 1
SUMMARY:2-U20Z-O: Žďár n. S.-Náchod
END:VEVENT
BEGIN:VEVENT
UID:63633833-6561-4464-a263-616432383061
DTSTAMP:20260423T133519Z
DESCRIPTION:11/32 Žďár n. S. - Turnov X:3
DTSTART;TZID=Europe/Berlin:20240331T100000
DTEND;TZID=Europe/Berlin:20240331T120000
LOCATION:Sportovní hala na Bouchalkách\, Jungmannova 1495 Žďár nad Sázavou 
 - Žďár nad Sázavou 1
SUMMARY:2-U20Z-O: Žďár n. S.-Turnov
END:VEVENT
BEGIN:VEVENT
UID:34346139-6137-4664-a236-656363623666
DTSTAMP:20260423T133519Z
DESCRIPTION:12/35 Žďár n. S. - Turnov X:3
DTSTART;TZID=Europe/Berlin:20240331T140000
DTEND;TZID=Europe/Berlin:20240331T160000
LOCATION:Sportovní hala na Bouchalkách\, Jungmannova 1495 Žďár nad Sázavou 
 - Žďár nad Sázavou 1
SUMMARY:2-U20Z-O: Žďár n. S.-Turnov
END:VEVENT
BEGIN:VEVENT
UID:64613566-3235-4330-b535-373561613066
DTSTAMP:20260423T133519Z
DESCRIPTION:1/1 Náchod - Žďár n. S. 3:X
DTSTART;TZID=Europe/Berlin:20240121T100000
DTEND;TZID=Europe/Berlin:20240121T120000
LOCATION:SPORT KLUB Náchod\, Pražská 696 Náchod
SUMMARY:2-U20Z-O: Náchod-Žďár n. S.
END:VEVENT
BEGIN:VEVENT
UID:31613934-6161-4931-a435-663539303065
DTSTAMP:20260423T133519Z
DESCRIPTION:2/4 Náchod - Žďár n. S. 3:X
DTSTART;TZID=Europe/Berlin:20240121T140000
DTEND;TZID=Europe/Berlin:20240121T160000
LOCATION:SPORT KLUB Náchod\, Pražská 696 Náchod
SUMMARY:2-U20Z-O: Náchod-Žďár n. S.
END:VEVENT
BEGIN:VEVENT
UID:64666538-6531-4262-b663-356434343830
DTSTAMP:20260423T133519Z
DESCRIPTION:5/14 Turnov - Žďár n. S. 3:X
DTSTART;TZID=Europe/Berlin:20240211T110000
DTEND;TZID=Europe/Berlin:20240211T130000
LOCATION:TJ Turnov\, Skálova 207 Turnov
SUMMARY:2-U20Z-O: Turnov-Žďár n. S.
END:VEVENT
BEGIN:VEVENT
UID:38383334-6534-4939-b139-663533376466
DTSTAMP:20260423T133519Z
DESCRIPTION:6/17 Turnov - Žďár n. S. 3:X
DTSTART;TZID=Europe/Berlin:20240211T150000
DTEND;TZID=Europe/Berlin:20240211T170000
LOCATION:TJ Turnov\, Skálova 207 Turnov
SUMMARY:2-U20Z-O: Turnov-Žďár n. S.
END:VEVENT
BEGIN:VEVENT
UID:34376139-6331-4261-a333-353839323762
DTSTAMP:20260423T133519Z
DESCRIPTION:9/27 Dansport - Žďár n. S. 3:X
DTSTART;TZID=Europe/Berlin:20240310T100000
DTEND;TZID=Europe/Berlin:20240310T120000
LOCATION:Sportovní hala Gymnázia Jana Keplera\, Parléřova 118 Praha - Hradč
 any
SUMMARY:2-U20Z-O: Dansport-Žďár n. S.
END:VEVENT
BEGIN:VEVENT
UID:61323032-3033-4636-a465-323862643032
DTSTAMP:20260423T133519Z
DESCRIPTION:10/30 Dansport - Žďár n. S. 3:X
DTSTART;TZID=Europe/Berlin:20240310T140000
DTEND;TZID=Europe/Berlin:20240310T160000
LOCATION:Sportovní hala Gymnázia Jana Keplera\, Parléřova 118 Praha - Hradč
 any
SUMMARY:2-U20Z-O: Dansport-Žďár n. S.
END:VEVENT
END:VCALENDAR
