BEGIN:VCALENDAR
VERSION:2.0
PRODID:-//VSC Zlín82446//NONSGML kigkonsult.se iCalcreator 2.41.80//
CALSCALE:GREGORIAN
UID:38613631-3361-4032-b031-613830393132
BEGIN:VEVENT
UID:37613235-3531-4639-b262-313364616133
DTSTAMP:20260423T101126Z
DESCRIPTION:1/3 Zlín - Junior 3:0 (8\,16\,19)
DTSTART;TZID=Europe/Berlin:20230917T100000
DTEND;TZID=Europe/Berlin:20230917T120000
LOCATION:Sportovní hala Datart Zlín\, U Zimního stadionu 4286 Zlín
SUMMARY:2-U20Z-E: Zlín-Junior
END:VEVENT
BEGIN:VEVENT
UID:30663833-3362-4536-a366-653764653134
DTSTAMP:20260423T101126Z
DESCRIPTION:2/6 Zlín - Junior 3:0 (17\,14\,22)
DTSTART;TZID=Europe/Berlin:20230917T140000
DTEND;TZID=Europe/Berlin:20230917T160000
LOCATION:Sportovní hala Datart Zlín\, U Zimního stadionu 4286 Zlín
SUMMARY:2-U20Z-E: Zlín-Junior
END:VEVENT
BEGIN:VEVENT
UID:61323233-6430-4461-b238-313939643738
DTSTAMP:20260423T101126Z
DESCRIPTION:5/14 Zlín - Vyškov 3:0 (16\,15\,14)
DTSTART;TZID=Europe/Berlin:20231008T100000
DTEND;TZID=Europe/Berlin:20231008T120000
LOCATION:Sportovní hala Datart Zlín\, U Zimního stadionu 4286 Zlín
SUMMARY:2-U20Z-E: Zlín-Vyškov
END:VEVENT
BEGIN:VEVENT
UID:32393030-6566-4334-b865-386439373332
DTSTAMP:20260423T101126Z
DESCRIPTION:6/17 Zlín - Vyškov 3:0 (23\,14\,19)
DTSTART;TZID=Europe/Berlin:20231008T140000
DTEND;TZID=Europe/Berlin:20231008T160000
LOCATION:Sportovní hala Datart Zlín\, U Zimního stadionu 4286 Zlín
SUMMARY:2-U20Z-E: Zlín-Vyškov
END:VEVENT
BEGIN:VEVENT
UID:35396435-3162-4538-a536-633832646366
DTSTAMP:20260423T101126Z
DESCRIPTION:9/25 Zlín - Kojetín 1:3 (-18\,-16\,19\,-20)
DTSTART;TZID=Europe/Berlin:20231105T100000
DTEND;TZID=Europe/Berlin:20231105T120000
LOCATION:Sportovní hala Datart Zlín\, U Zimního stadionu 4286 Zlín
SUMMARY:2-U20Z-E: Zlín-Kojetín
END:VEVENT
BEGIN:VEVENT
UID:32393432-3530-4232-a431-663138326663
DTSTAMP:20260423T101126Z
DESCRIPTION:10/28 Zlín - Kojetín 3:1 (19\,25\,-18\,19)
DTSTART;TZID=Europe/Berlin:20231105T140000
DTEND;TZID=Europe/Berlin:20231105T160000
LOCATION:Sportovní hala Datart Zlín\, U Zimního stadionu 4286 Zlín
SUMMARY:2-U20Z-E: Zlín-Kojetín
END:VEVENT
BEGIN:VEVENT
UID:65356466-6561-4465-b162-396164396561
DTSTAMP:20260423T101126Z
DESCRIPTION:13/38 Zlín - Znojmo 3:0 (21\,14\,27)
DTSTART;TZID=Europe/Berlin:20231126T103000
DTEND;TZID=Europe/Berlin:20231126T123000
LOCATION:Sportovní hala Datart Zlín\, U Zimního stadionu 4286 Zlín
SUMMARY:2-U20Z-E: Zlín-Znojmo
END:VEVENT
BEGIN:VEVENT
UID:35393364-3138-4866-b666-623631666637
DTSTAMP:20260423T101126Z
DESCRIPTION:14/41 Zlín - Znojmo 3:0 (18\,16\,11)
DTSTART;TZID=Europe/Berlin:20231126T140000
DTEND;TZID=Europe/Berlin:20231126T160000
LOCATION:Sportovní hala Datart Zlín\, U Zimního stadionu 4286 Zlín
SUMMARY:2-U20Z-E: Zlín-Znojmo
END:VEVENT
BEGIN:VEVENT
UID:35363531-3331-4166-b332-326338656464
DTSTAMP:20260423T101126Z
DESCRIPTION:17/51 Zlín - Kr. Pole B 3:2 (-22\,16\,18\,-22\,9)
DTSTART;TZID=Europe/Berlin:20231217T100000
DTEND;TZID=Europe/Berlin:20231217T120000
LOCATION:Sportovní hala Datart Zlín\, U Zimního stadionu 4286 Zlín
SUMMARY:2-U20Z-E: Zlín-Kr. Pole B
END:VEVENT
BEGIN:VEVENT
UID:61323834-6230-4432-b337-393161306138
DTSTAMP:20260423T101126Z
DESCRIPTION:18/54 Zlín - Kr. Pole B 1:3 (-15\,17\,-14\,-15)
DTSTART;TZID=Europe/Berlin:20231217T140000
DTEND;TZID=Europe/Berlin:20231217T160000
LOCATION:Sportovní hala Datart Zlín\, U Zimního stadionu 4286 Zlín
SUMMARY:2-U20Z-E: Zlín-Kr. Pole B
END:VEVENT
BEGIN:VEVENT
UID:31623666-3839-4238-b836-313637383566
DTSTAMP:20260423T101126Z
DESCRIPTION:3/8 Znojmo - Zlín 3:2 (-16\,21\,-19\,24\,8)
DTSTART;TZID=Europe/Berlin:20231001T100000
DTEND;TZID=Europe/Berlin:20231001T120000
LOCATION:Gymnázium Dr. Karla Polesného\, náměstí Komenského 945 Znojmo
SUMMARY:2-U20Z-E: Znojmo-Zlín
END:VEVENT
BEGIN:VEVENT
UID:65393064-6363-4439-b232-363864643265
DTSTAMP:20260423T101126Z
DESCRIPTION:4/11 Znojmo - Zlín 3:1 (23\,23\,-25\,24)
DTSTART;TZID=Europe/Berlin:20231001T140000
DTEND;TZID=Europe/Berlin:20231001T160000
LOCATION:Gymnázium Dr. Karla Polesného\, náměstí Komenského 945 Znojmo
SUMMARY:2-U20Z-E: Znojmo-Zlín
END:VEVENT
BEGIN:VEVENT
UID:34383366-6565-4032-b237-363933653432
DTSTAMP:20260423T101126Z
DESCRIPTION:7/21 Kr. Pole B - Zlín 3:0 (22\,20\,19)
DTSTART;TZID=Europe/Berlin:20231029T100000
DTEND;TZID=Europe/Berlin:20231029T120000
LOCATION:Sportovní gymnázium Ludvíka Daňka\, Botanická 63 Brno - Ponava
SUMMARY:2-U20Z-E: Kr. Pole B-Zlín
END:VEVENT
BEGIN:VEVENT
UID:34373038-3966-4066-a535-623030663732
DTSTAMP:20260423T101126Z
DESCRIPTION:8/24 Kr. Pole B - Zlín 1:3 (-29\,-12\,16\,-11)
DTSTART;TZID=Europe/Berlin:20231029T140000
DTEND;TZID=Europe/Berlin:20231029T160000
LOCATION:Sportovní gymnázium Ludvíka Daňka\, Botanická 63 Brno - Ponava
SUMMARY:2-U20Z-E: Kr. Pole B-Zlín
END:VEVENT
BEGIN:VEVENT
UID:30393039-6432-4838-b836-343861623639
DTSTAMP:20260423T101126Z
DESCRIPTION:11/33 Junior - Zlín 1:3 (20\,-21\,-16\,-23)
DTSTART;TZID=Europe/Berlin:20231112T100000
DTEND;TZID=Europe/Berlin:20231112T120000
LOCATION:ZŠ Holzova 1\, Holzova 1461 Brno - Líšeň
SUMMARY:2-U20Z-E: Junior-Zlín
END:VEVENT
BEGIN:VEVENT
UID:39326232-3032-4561-a133-383038366432
DTSTAMP:20260423T101126Z
DESCRIPTION:12/36 Junior - Zlín 3:1 (19\,21\,-19\,22)
DTSTART;TZID=Europe/Berlin:20231112T140000
DTEND;TZID=Europe/Berlin:20231112T160000
LOCATION:ZŠ Holzova 1\, Holzova 1461 Brno - Líšeň
SUMMARY:2-U20Z-E: Junior-Zlín
END:VEVENT
BEGIN:VEVENT
UID:62333165-3834-4937-b739-363533396238
DTSTAMP:20260423T101126Z
DESCRIPTION:15/44 Vyškov - Zlín 0:3 (-14\,-12\,-23)
DTSTART;TZID=Europe/Berlin:20231203T100000
DTEND;TZID=Europe/Berlin:20231203T120000
LOCATION:Tělocvična ZŠ Nádražní\, Nádražní 5 Vyškov - Vyškov-Město
SUMMARY:2-U20Z-E: Vyškov-Zlín
END:VEVENT
BEGIN:VEVENT
UID:33323635-3232-4735-b566-653434636431
DTSTAMP:20260423T101126Z
DESCRIPTION:16/47 Vyškov - Zlín 2:3 (28\,-9\,25\,-12\,-2)
DTSTART;TZID=Europe/Berlin:20231203T140000
DTEND;TZID=Europe/Berlin:20231203T160000
LOCATION:Tělocvična ZŠ Nádražní\, Nádražní 5 Vyškov - Vyškov-Město
SUMMARY:2-U20Z-E: Vyškov-Zlín
END:VEVENT
BEGIN:VEVENT
UID:65373663-3431-4563-b930-323765383136
DTSTAMP:20260423T101126Z
DESCRIPTION:19/55 Kojetín - Zlín 0:3 (-23\,-20\,-19)
DTSTART;TZID=Europe/Berlin:20240106T100000
DTEND;TZID=Europe/Berlin:20240106T120000
LOCATION:Městská sportovní hala\, Hanusíkova 1476 Kojetín - Kojetín I-Město
SUMMARY:2-U20Z-E: Kojetín-Zlín
END:VEVENT
BEGIN:VEVENT
UID:61666138-3366-4435-b865-343432633234
DTSTAMP:20260423T101126Z
DESCRIPTION:20/58 Kojetín - Zlín 3:2 (-17\,-26\,24\,17\,9)
DTSTART;TZID=Europe/Berlin:20240106T140000
DTEND;TZID=Europe/Berlin:20240106T160000
LOCATION:Městská sportovní hala\, Hanusíkova 1476 Kojetín - Kojetín I-Město
SUMMARY:2-U20Z-E: Kojetín-Zlín
END:VEVENT
BEGIN:VEVENT
UID:61653062-3434-4263-b863-313161646335
DTSTAMP:20260423T101126Z
DESCRIPTION:1/3 Zlín - VAM Olomouc 1:3 (-17\,-15\,23\,-25)
DTSTART;TZID=Europe/Berlin:20240303T100000
DTEND;TZID=Europe/Berlin:20240303T120000
LOCATION:Sportovní hala Datart Zlín\, U Zimního stadionu 4286 Zlín
SUMMARY:2-U20Z-III: Zlín-VAM Olomouc
END:VEVENT
BEGIN:VEVENT
UID:38363863-3265-4536-b962-623438363735
DTSTAMP:20260423T101126Z
DESCRIPTION:2/6 Zlín - VAM Olomouc 0:3 (-9\,-22\,-15)
DTSTART;TZID=Europe/Berlin:20240303T140000
DTEND;TZID=Europe/Berlin:20240303T160000
LOCATION:Sportovní hala Datart Zlín\, U Zimního stadionu 4286 Zlín
SUMMARY:2-U20Z-III: Zlín-VAM Olomouc
END:VEVENT
BEGIN:VEVENT
UID:61333462-3333-4139-b862-306261666630
DTSTAMP:20260423T101126Z
DESCRIPTION:5/15 Zlín - Opava 3:1 (9\,17\,-23\,14)
DTSTART;TZID=Europe/Berlin:20240204T100000
DTEND;TZID=Europe/Berlin:20240204T120000
LOCATION:Sportovní hala Datart Zlín\, U Zimního stadionu 4286 Zlín
SUMMARY:2-U20Z-III: Zlín-Opava
END:VEVENT
BEGIN:VEVENT
UID:66346338-3263-4965-a465-633738336234
DTSTAMP:20260423T101126Z
DESCRIPTION:6/18 Zlín - Opava 3:0 (18\,21\,16)
DTSTART;TZID=Europe/Berlin:20240204T140000
DTEND;TZID=Europe/Berlin:20240204T160000
LOCATION:Sportovní hala Datart Zlín\, U Zimního stadionu 4286 Zlín
SUMMARY:2-U20Z-III: Zlín-Opava
END:VEVENT
BEGIN:VEVENT
UID:62393332-6562-4161-b831-613365643234
DTSTAMP:20260423T101126Z
DESCRIPTION:9/27 Zlín - Ostrava B 3:0 (15\,12\,13)
DTSTART;TZID=Europe/Berlin:20240302T110000
DTEND;TZID=Europe/Berlin:20240302T130000
LOCATION:Sportovní hala Datart Zlín\, U Zimního stadionu 4286 Zlín
SUMMARY:2-U20Z-III: Zlín-Ostrava B
END:VEVENT
BEGIN:VEVENT
UID:63616465-6462-4737-b835-306338633732
DTSTAMP:20260423T101126Z
DESCRIPTION:10/30 Zlín - Ostrava B 3:0 (15\,14\,10)
DTSTART;TZID=Europe/Berlin:20240302T140000
DTEND;TZID=Europe/Berlin:20240302T160000
LOCATION:Sportovní hala Datart Zlín\, U Zimního stadionu 4286 Zlín
SUMMARY:2-U20Z-III: Zlín-Ostrava B
END:VEVENT
BEGIN:VEVENT
UID:33333135-6435-4565-a139-366166346463
DTSTAMP:20260423T101126Z
DESCRIPTION:3/9 Ostrava B - Zlín 0:3 (-20\,-16\,-20)
DTSTART;TZID=Europe/Berlin:20240128T100000
DTEND;TZID=Europe/Berlin:20240128T120000
LOCATION:Tělocvična ZŠ Gen. Píky \, Gen. Píky 2975 Ostrava - Moravská Ostra
 va
SUMMARY:2-U20Z-III: Ostrava B-Zlín
END:VEVENT
BEGIN:VEVENT
UID:61333563-3938-4437-b235-383966383862
DTSTAMP:20260423T101126Z
DESCRIPTION:4/12 Ostrava B - Zlín 1:3 (-16\,-12\,25\,-24)
DTSTART;TZID=Europe/Berlin:20240128T140000
DTEND;TZID=Europe/Berlin:20240128T160000
LOCATION:Tělocvična ZŠ Gen. Píky \, Gen. Píky 2975 Ostrava - Moravská Ostra
 va
SUMMARY:2-U20Z-III: Ostrava B-Zlín
END:VEVENT
BEGIN:VEVENT
UID:64656635-3634-4232-a139-326364636661
DTSTAMP:20260423T101126Z
DESCRIPTION:7/21 VAM Olomouc - Zlín 3:0 (23\,22\,14)
DTSTART;TZID=Europe/Berlin:20240121T113000
DTEND;TZID=Europe/Berlin:20240121T133000
LOCATION:VOŠ a SPŠE Olomouc\, Božetěchova 755 Olomouc - Hodolany
SUMMARY:2-U20Z-III: VAM Olomouc-Zlín
END:VEVENT
BEGIN:VEVENT
UID:35326236-6630-4866-b436-633239623062
DTSTAMP:20260423T101126Z
DESCRIPTION:8/24 VAM Olomouc - Zlín 3:0 (21\,11\,23)
DTSTART;TZID=Europe/Berlin:20240121T143000
DTEND;TZID=Europe/Berlin:20240121T163000
LOCATION:VOŠ a SPŠE Olomouc\, Božetěchova 755 Olomouc - Hodolany
SUMMARY:2-U20Z-III: VAM Olomouc-Zlín
END:VEVENT
BEGIN:VEVENT
UID:30393366-3162-4430-a565-623735663439
DTSTAMP:20260423T101126Z
DESCRIPTION:11/33 Opava - Zlín 0:3 (-25\,-17\,-26)
DTSTART;TZID=Europe/Berlin:20240211T100000
DTEND;TZID=Europe/Berlin:20240211T120000
LOCATION:Sportovní hala Slezského gymnázia v Opavě\, Zámecký okruh 461 Opav
 a - Město
SUMMARY:2-U20Z-III: Opava-Zlín
END:VEVENT
BEGIN:VEVENT
UID:34666464-3662-4061-b131-316436383866
DTSTAMP:20260423T101126Z
DESCRIPTION:12/36 Opava - Zlín 3:1 (-22\,14\,15\,11)
DTSTART;TZID=Europe/Berlin:20240211T140000
DTEND;TZID=Europe/Berlin:20240211T160000
LOCATION:Sportovní hala Slezského gymnázia v Opavě\, Zámecký okruh 461 Opav
 a - Město
SUMMARY:2-U20Z-III: Opava-Zlín
END:VEVENT
END:VCALENDAR
