BEGIN:VCALENDAR
VERSION:2.0
PRODID:-//TJ Junior Brno82453//NONSGML kigkonsult.se iCalcreator 2.41.80//
CALSCALE:GREGORIAN
UID:38373034-6138-4162-b139-356261363135
BEGIN:VEVENT
UID:39383231-3761-4361-b865-353830336334
DTSTAMP:20260423T120256Z
DESCRIPTION:3/7 Junior - Kojetín 3:0 (18\,17\,21)
DTSTART;TZID=Europe/Berlin:20231001T100000
DTEND;TZID=Europe/Berlin:20231001T120000
LOCATION:ZŠ Holzova 1\, Holzova 1461 Brno - Líšeň
SUMMARY:2-U20Z-E: Junior-Kojetín
END:VEVENT
BEGIN:VEVENT
UID:37663765-3337-4934-b762-313031353131
DTSTAMP:20260423T120256Z
DESCRIPTION:4/10 Junior - Kojetín 1:3 (14\,-18\,-19\,-23)
DTSTART;TZID=Europe/Berlin:20231001T140000
DTEND;TZID=Europe/Berlin:20231001T160000
LOCATION:ZŠ Holzova 1\, Holzova 1461 Brno - Líšeň
SUMMARY:2-U20Z-E: Junior-Kojetín
END:VEVENT
BEGIN:VEVENT
UID:61613235-3036-4363-a632-386364646438
DTSTAMP:20260423T120256Z
DESCRIPTION:5/15 Junior - Znojmo 2:3 (-23\,16\,-23\,16\,-7)
DTSTART;TZID=Europe/Berlin:20231008T100000
DTEND;TZID=Europe/Berlin:20231008T120000
LOCATION:ZŠ Holzova 1\, Holzova 1461 Brno - Líšeň
SUMMARY:2-U20Z-E: Junior-Znojmo
END:VEVENT
BEGIN:VEVENT
UID:65386636-3233-4063-a361-333066396130
DTSTAMP:20260423T120256Z
DESCRIPTION:6/18 Junior - Znojmo 0:3 (-17\,-10\,-15)
DTSTART;TZID=Europe/Berlin:20231008T140000
DTEND;TZID=Europe/Berlin:20231008T160000
LOCATION:ZŠ Holzova 1\, Holzova 1461 Brno - Líšeň
SUMMARY:2-U20Z-E: Junior-Znojmo
END:VEVENT
BEGIN:VEVENT
UID:64386233-3630-4764-a239-306136616239
DTSTAMP:20260423T120256Z
DESCRIPTION:9/26 Junior - Kr. Pole B 3:1 (16\,16\,-18\,17)
DTSTART;TZID=Europe/Berlin:20231108T174500
DTEND;TZID=Europe/Berlin:20231108T194500
LOCATION:ZŠ Holzova 1\, Holzova 1461 Brno - Líšeň
SUMMARY:2-U20Z-E: Junior-Kr. Pole B
END:VEVENT
BEGIN:VEVENT
UID:38336430-6564-4632-b063-623638643531
DTSTAMP:20260423T120256Z
DESCRIPTION:10/29 Junior - Kr. Pole B 3:1 (20\,17\,-20\,13)
DTSTART;TZID=Europe/Berlin:20231108T193000
DTEND;TZID=Europe/Berlin:20231108T213000
LOCATION:ZŠ Holzova 1\, Holzova 1461 Brno - Líšeň
SUMMARY:2-U20Z-E: Junior-Kr. Pole B
END:VEVENT
BEGIN:VEVENT
UID:31303134-3630-4566-a430-383066653333
DTSTAMP:20260423T120256Z
DESCRIPTION:11/33 Junior - Zlín 1:3 (20\,-21\,-16\,-23)
DTSTART;TZID=Europe/Berlin:20231112T100000
DTEND;TZID=Europe/Berlin:20231112T120000
LOCATION:ZŠ Holzova 1\, Holzova 1461 Brno - Líšeň
SUMMARY:2-U20Z-E: Junior-Zlín
END:VEVENT
BEGIN:VEVENT
UID:65326662-3332-4663-b234-326465373839
DTSTAMP:20260423T120256Z
DESCRIPTION:12/36 Junior - Zlín 3:1 (19\,21\,-19\,22)
DTSTART;TZID=Europe/Berlin:20231112T140000
DTEND;TZID=Europe/Berlin:20231112T160000
LOCATION:ZŠ Holzova 1\, Holzova 1461 Brno - Líšeň
SUMMARY:2-U20Z-E: Junior-Zlín
END:VEVENT
BEGIN:VEVENT
UID:31363930-6537-4434-b863-383432633930
DTSTAMP:20260423T120256Z
DESCRIPTION:17/50 Junior - Vyškov 3:1 (-18\,18\,13\,9)
DTSTART;TZID=Europe/Berlin:20231217T100000
DTEND;TZID=Europe/Berlin:20231217T120000
LOCATION:ZŠ Holzova 1\, Holzova 1461 Brno - Líšeň
SUMMARY:2-U20Z-E: Junior-Vyškov
END:VEVENT
BEGIN:VEVENT
UID:62333438-3231-4066-b437-643861313333
DTSTAMP:20260423T120256Z
DESCRIPTION:18/53 Junior - Vyškov 3:0 (14\,12\,13)
DTSTART;TZID=Europe/Berlin:20231217T140000
DTEND;TZID=Europe/Berlin:20231217T160000
LOCATION:ZŠ Holzova 1\, Holzova 1461 Brno - Líšeň
SUMMARY:2-U20Z-E: Junior-Vyškov
END:VEVENT
BEGIN:VEVENT
UID:32343461-3936-4431-b865-393333323264
DTSTAMP:20260423T120256Z
DESCRIPTION:1/3 Zlín - Junior 3:0 (8\,16\,19)
DTSTART;TZID=Europe/Berlin:20230917T100000
DTEND;TZID=Europe/Berlin:20230917T120000
LOCATION:Sportovní hala Datart Zlín\, U Zimního stadionu 4286 Zlín
SUMMARY:2-U20Z-E: Zlín-Junior
END:VEVENT
BEGIN:VEVENT
UID:37636234-3632-4834-b535-633239373232
DTSTAMP:20260423T120256Z
DESCRIPTION:2/6 Zlín - Junior 3:0 (17\,14\,22)
DTSTART;TZID=Europe/Berlin:20230917T140000
DTEND;TZID=Europe/Berlin:20230917T160000
LOCATION:Sportovní hala Datart Zlín\, U Zimního stadionu 4286 Zlín
SUMMARY:2-U20Z-E: Zlín-Junior
END:VEVENT
BEGIN:VEVENT
UID:38383161-3137-4166-a136-373161353533
DTSTAMP:20260423T120256Z
DESCRIPTION:7/20 Vyškov - Junior 3:0 (22\,22\,20)
DTSTART;TZID=Europe/Berlin:20231029T100000
DTEND;TZID=Europe/Berlin:20231029T120000
LOCATION:Tělocvična ZŠ Nádražní\, Nádražní 5 Vyškov - Vyškov-Město
SUMMARY:2-U20Z-E: Vyškov-Junior
END:VEVENT
BEGIN:VEVENT
UID:31396238-3038-4837-b336-663431633866
DTSTAMP:20260423T120256Z
DESCRIPTION:8/23 Vyškov - Junior 3:2 (17\,23\,-17\,-20\,13)
DTSTART;TZID=Europe/Berlin:20231029T140000
DTEND;TZID=Europe/Berlin:20231029T160000
LOCATION:Tělocvična ZŠ Nádražní\, Nádražní 5 Vyškov - Vyškov-Město
SUMMARY:2-U20Z-E: Vyškov-Junior
END:VEVENT
BEGIN:VEVENT
UID:64356561-3031-4366-a237-346238663036
DTSTAMP:20260423T120256Z
DESCRIPTION:13/37 Kojetín - Junior 3:0 (16\,13\,16)
DTSTART;TZID=Europe/Berlin:20231126T100000
DTEND;TZID=Europe/Berlin:20231126T120000
LOCATION:Městská sportovní hala\, Hanusíkova 1476 Kojetín - Kojetín I-Město
SUMMARY:2-U20Z-E: Kojetín-Junior
END:VEVENT
BEGIN:VEVENT
UID:39626335-3234-4331-b836-336166646562
DTSTAMP:20260423T120256Z
DESCRIPTION:14/40 Kojetín - Junior 3:1 (20\,17\,-26\,14)
DTSTART;TZID=Europe/Berlin:20231126T140000
DTEND;TZID=Europe/Berlin:20231126T160000
LOCATION:Městská sportovní hala\, Hanusíkova 1476 Kojetín - Kojetín I-Město
SUMMARY:2-U20Z-E: Kojetín-Junior
END:VEVENT
BEGIN:VEVENT
UID:32373634-3634-4438-b631-363364643765
DTSTAMP:20260423T120256Z
DESCRIPTION:15/45 Znojmo - Junior 3:0 (19\,18\,15)
DTSTART;TZID=Europe/Berlin:20231203T100000
DTEND;TZID=Europe/Berlin:20231203T120000
LOCATION:Gymnázium Dr. Karla Polesného\, náměstí Komenského 945 Znojmo
SUMMARY:2-U20Z-E: Znojmo-Junior
END:VEVENT
BEGIN:VEVENT
UID:35343334-6234-4535-a439-353931303638
DTSTAMP:20260423T120256Z
DESCRIPTION:16/48 Znojmo - Junior 3:0 (18\,16\,19)
DTSTART;TZID=Europe/Berlin:20231203T140000
DTEND;TZID=Europe/Berlin:20231203T160000
LOCATION:Gymnázium Dr. Karla Polesného\, náměstí Komenského 945 Znojmo
SUMMARY:2-U20Z-E: Znojmo-Junior
END:VEVENT
BEGIN:VEVENT
UID:66626639-6538-4235-a338-373732663933
DTSTAMP:20260423T120256Z
DESCRIPTION:19/56 Kr. Pole B - Junior 3:0 (26\,24\,22)
DTSTART;TZID=Europe/Berlin:20240107T100000
DTEND;TZID=Europe/Berlin:20240107T120000
LOCATION:Sportovní gymnázium Ludvíka Daňka\, Botanická 63 Brno - Ponava
SUMMARY:2-U20Z-E: Kr. Pole B-Junior
END:VEVENT
BEGIN:VEVENT
UID:32333930-3266-4439-b732-383133313136
DTSTAMP:20260423T120256Z
DESCRIPTION:20/59 Kr. Pole B - Junior 2:3 (-12\,21\,-21\,21\,-12)
DTSTART;TZID=Europe/Berlin:20240107T140000
DTEND;TZID=Europe/Berlin:20240107T160000
LOCATION:Sportovní gymnázium Ludvíka Daňka\, Botanická 63 Brno - Ponava
SUMMARY:2-U20Z-E: Kr. Pole B-Junior
END:VEVENT
BEGIN:VEVENT
UID:63373864-3566-4839-a531-383062666566
DTSTAMP:20260423T120256Z
DESCRIPTION:1/2 Junior - Nový Jičín 2:3 (-19\,21\,22\,-22\,-12)
DTSTART;TZID=Europe/Berlin:20240218T100000
DTEND;TZID=Europe/Berlin:20240218T120000
LOCATION:ZŠ Holzova 1\, Holzova 1461 Brno - Líšeň
SUMMARY:2-U20Z-P: Junior-Nový Jičín
END:VEVENT
BEGIN:VEVENT
UID:39396237-3963-4234-a435-653764323733
DTSTAMP:20260423T120256Z
DESCRIPTION:2/5 Junior - Nový Jičín 1:3 (-19\,15\,-20\,-21)
DTSTART;TZID=Europe/Berlin:20240218T130000
DTEND;TZID=Europe/Berlin:20240218T150000
LOCATION:ZŠ Holzova 1\, Holzova 1461 Brno - Líšeň
SUMMARY:2-U20Z-P: Junior-Nový Jičín
END:VEVENT
BEGIN:VEVENT
UID:38616133-6365-4533-b734-383262613131
DTSTAMP:20260423T120256Z
DESCRIPTION:5/14 Junior - Stará Bělá 3:0 (20\,22\,22)
DTSTART;TZID=Europe/Berlin:20240211T100000
DTEND;TZID=Europe/Berlin:20240211T120000
LOCATION:ZŠ Holzova 1\, Holzova 1461 Brno - Líšeň
SUMMARY:2-U20Z-P: Junior-Stará Bělá
END:VEVENT
BEGIN:VEVENT
UID:37623163-3865-4134-b764-336634343932
DTSTAMP:20260423T120256Z
DESCRIPTION:6/17 Junior - Stará Bělá 3:0 (17\,23\,23)
DTSTART;TZID=Europe/Berlin:20240211T140000
DTEND;TZID=Europe/Berlin:20240211T160000
LOCATION:ZŠ Holzova 1\, Holzova 1461 Brno - Líšeň
SUMMARY:2-U20Z-P: Junior-Stará Bělá
END:VEVENT
BEGIN:VEVENT
UID:34653336-3932-4561-b934-343939303836
DTSTAMP:20260423T120256Z
DESCRIPTION:9/26 Junior - UP Olomouc 3:0 (17\,20\,22)
DTSTART;TZID=Europe/Berlin:20240310T100000
DTEND;TZID=Europe/Berlin:20240310T120000
LOCATION:ZŠ Holzova 1\, Holzova 1461 Brno - Líšeň
SUMMARY:2-U20Z-P: Junior-UP Olomouc
END:VEVENT
BEGIN:VEVENT
UID:61326263-3330-4137-b633-653336303035
DTSTAMP:20260423T120256Z
DESCRIPTION:10/29 Junior - UP Olomouc 3:0 (18\,23\,24)
DTSTART;TZID=Europe/Berlin:20240310T140000
DTEND;TZID=Europe/Berlin:20240310T160000
LOCATION:ZŠ Holzova 1\, Holzova 1461 Brno - Líšeň
SUMMARY:2-U20Z-P: Junior-UP Olomouc
END:VEVENT
BEGIN:VEVENT
UID:36666662-6536-4362-b934-363262666465
DTSTAMP:20260423T120256Z
DESCRIPTION:3/8 UP Olomouc - Junior 2:3 (19\,-12\,22\,-11\,-12)
DTSTART;TZID=Europe/Berlin:20240317T140000
DTEND;TZID=Europe/Berlin:20240317T160000
LOCATION:UP Olomouc\, U sportovní haly 38 Olomouc - Lazce
SUMMARY:2-U20Z-P: UP Olomouc-Junior
END:VEVENT
BEGIN:VEVENT
UID:34346662-6339-4431-a636-316636663134
DTSTAMP:20260423T120256Z
DESCRIPTION:4/11 UP Olomouc - Junior 0:3 (-22\,-12\,-16)
DTSTART;TZID=Europe/Berlin:20240317T180000
DTEND;TZID=Europe/Berlin:20240317T200000
LOCATION:UP Olomouc\, U sportovní haly 38 Olomouc - Lazce
SUMMARY:2-U20Z-P: UP Olomouc-Junior
END:VEVENT
BEGIN:VEVENT
UID:36643364-6436-4366-b633-623366306163
DTSTAMP:20260423T120256Z
DESCRIPTION:7/20 Nový Jičín - Junior 0:3 (-15\,-14\,-9)
DTSTART;TZID=Europe/Berlin:20240324T130000
DTEND;TZID=Europe/Berlin:20240324T150000
LOCATION:Hala ABC\, Purkyňova 116 Nový Jičín
SUMMARY:2-U20Z-P: Nový Jičín-Junior
END:VEVENT
BEGIN:VEVENT
UID:33373334-3362-4136-b664-623135386530
DTSTAMP:20260423T120256Z
DESCRIPTION:8/23 Nový Jičín - Junior 2:3 (-18\,-19\,21\,16\,-3)
DTSTART;TZID=Europe/Berlin:20240324T160000
DTEND;TZID=Europe/Berlin:20240324T180000
LOCATION:Hala ABC\, Purkyňova 116 Nový Jičín
SUMMARY:2-U20Z-P: Nový Jičín-Junior
END:VEVENT
BEGIN:VEVENT
UID:32376637-3538-4361-b134-643233343832
DTSTAMP:20260423T120256Z
DESCRIPTION:11/32 Stará Bělá - Junior 1:3 (19\,-11\,-7\,-14)
DTSTART;TZID=Europe/Berlin:20240331T100000
DTEND;TZID=Europe/Berlin:20240331T120000
LOCATION:Sportovní hala Nová Bělá\, Krmelínská 750 Ostrava - Nová Bělá
SUMMARY:2-U20Z-P: Stará Bělá-Junior
END:VEVENT
BEGIN:VEVENT
UID:38353833-6232-4338-b463-366239383136
DTSTAMP:20260423T120256Z
DESCRIPTION:12/35 Stará Bělá - Junior 0:3 (-13\,-11\,-15)
DTSTART;TZID=Europe/Berlin:20240331T140000
DTEND;TZID=Europe/Berlin:20240331T160000
LOCATION:Sportovní hala Nová Bělá\, Krmelínská 750 Ostrava - Nová Bělá
SUMMARY:2-U20Z-P: Stará Bělá-Junior
END:VEVENT
END:VCALENDAR
