BEGIN:VCALENDAR
VERSION:2.0
PRODID:-//Volejbal Ústí nad Labem82464//NONSGML kigkonsult.se iCalcreator 2.41.80//
CALSCALE:GREGORIAN
UID:64346461-3632-4664-b564-626538353435
BEGIN:VEVENT
UID:32306363-3365-4238-a636-363232393635
DTSTAMP:20260423T081944Z
DESCRIPTION:3/8 Ústí n. L. - Meteor 3:0 (22\,13\,12)
DTSTART;TZID=Europe/Berlin:20231126T100000
DTEND;TZID=Europe/Berlin:20231126T120000
LOCATION:Tělocvična Gymnázia a Střední odborné školy dr. Václava Šmejkala\,
  Stará 3299 Ústí nad Labem - Severní Terasa
SUMMARY:2-U20Z-C: Ústí n. L.-Meteor
END:VEVENT
BEGIN:VEVENT
UID:39323736-6536-4635-a238-626663656166
DTSTAMP:20260423T081944Z
DESCRIPTION:4/11 Ústí n. L. - Meteor 2:3 (-18\,17\,-16\,18\,-12)
DTSTART;TZID=Europe/Berlin:20231126T140000
DTEND;TZID=Europe/Berlin:20231126T160000
LOCATION:Tělocvična Gymnázia a Střední odborné školy dr. Václava Šmejkala\,
  Stará 3299 Ústí nad Labem - Severní Terasa
SUMMARY:2-U20Z-C: Ústí n. L.-Meteor
END:VEVENT
BEGIN:VEVENT
UID:35306531-6633-4030-b835-323132343736
DTSTAMP:20260423T081944Z
DESCRIPTION:9/27 Ústí n. L. - Náchod 3:2 (16\,-23\,14\,-22\,8)
DTSTART;TZID=Europe/Berlin:20230923T100000
DTEND;TZID=Europe/Berlin:20230923T120000
LOCATION:Tělocvična Gymnázia a Střední odborné školy dr. Václava Šmejkala\,
  Stará 3299 Ústí nad Labem - Severní Terasa
SUMMARY:2-U20Z-C: Ústí n. L.-Náchod
END:VEVENT
BEGIN:VEVENT
UID:39333538-3430-4830-a163-343563343161
DTSTAMP:20260423T081944Z
DESCRIPTION:10/30 Ústí n. L. - Náchod 3:1 (19\,-23\,14\,23)
DTSTART;TZID=Europe/Berlin:20230923T140000
DTEND;TZID=Europe/Berlin:20230923T160000
LOCATION:Tělocvična Gymnázia a Střední odborné školy dr. Václava Šmejkala\,
  Stará 3299 Ústí nad Labem - Severní Terasa
SUMMARY:2-U20Z-C: Ústí n. L.-Náchod
END:VEVENT
BEGIN:VEVENT
UID:37633730-3662-4264-b734-363665353734
DTSTAMP:20260423T081944Z
DESCRIPTION:11/32 Ústí n. L. - Turnov 3:1 (10\,19\,-20\,23)
DTSTART;TZID=Europe/Berlin:20231112T100000
DTEND;TZID=Europe/Berlin:20231112T120000
LOCATION:Tělocvična Gymnázia a Střední odborné školy dr. Václava Šmejkala\,
  Stará 3299 Ústí nad Labem - Severní Terasa
SUMMARY:2-U20Z-C: Ústí n. L.-Turnov
END:VEVENT
BEGIN:VEVENT
UID:37646531-3832-4832-b065-393165656238
DTSTAMP:20260423T081944Z
DESCRIPTION:12/35 Ústí n. L. - Turnov 3:0 (17\,19\,18)
DTSTART;TZID=Europe/Berlin:20231112T140000
DTEND;TZID=Europe/Berlin:20231112T160000
LOCATION:Tělocvična Gymnázia a Střední odborné školy dr. Václava Šmejkala\,
  Stará 3299 Ústí nad Labem - Severní Terasa
SUMMARY:2-U20Z-C: Ústí n. L.-Turnov
END:VEVENT
BEGIN:VEVENT
UID:36383632-6665-4364-b163-306565613930
DTSTAMP:20260423T081944Z
DESCRIPTION:15/45 Ústí n. L. - Dansport 3:0 (18\,18\,22)
DTSTART;TZID=Europe/Berlin:20231203T100000
DTEND;TZID=Europe/Berlin:20231203T120000
LOCATION:Tělocvična Gymnázia a Střední odborné školy dr. Václava Šmejkala\,
  Stará 3299 Ústí nad Labem - Severní Terasa
SUMMARY:2-U20Z-C: Ústí n. L.-Dansport
END:VEVENT
BEGIN:VEVENT
UID:34636362-6334-4339-b835-333461663962
DTSTAMP:20260423T081944Z
DESCRIPTION:16/48 Ústí n. L. - Dansport 3:0 (12\,19\,18)
DTSTART;TZID=Europe/Berlin:20231203T140000
DTEND;TZID=Europe/Berlin:20231203T160000
LOCATION:Tělocvična Gymnázia a Střední odborné školy dr. Václava Šmejkala\,
  Stará 3299 Ústí nad Labem - Severní Terasa
SUMMARY:2-U20Z-C: Ústí n. L.-Dansport
END:VEVENT
BEGIN:VEVENT
UID:33653637-3735-4265-a163-643964643336
DTSTAMP:20260423T081944Z
DESCRIPTION:17/49 Ústí n. L. - Teplice 3:0 (20\,17\,15)
DTSTART;TZID=Europe/Berlin:20231217T100000
DTEND;TZID=Europe/Berlin:20231217T120000
LOCATION:Tělocvična Gymnázia a Střední odborné školy dr. Václava Šmejkala\,
  Stará 3299 Ústí nad Labem - Severní Terasa
SUMMARY:2-U20Z-C: Ústí n. L.-Teplice
END:VEVENT
BEGIN:VEVENT
UID:38613536-3132-4033-b834-653037396133
DTSTAMP:20260423T081944Z
DESCRIPTION:18/52 Ústí n. L. - Teplice 3:2 (-20\,20\,19\,-20\,6)
DTSTART;TZID=Europe/Berlin:20231217T140000
DTEND;TZID=Europe/Berlin:20231217T160000
LOCATION:Tělocvična Gymnázia a Střední odborné školy dr. Václava Šmejkala\,
  Stará 3299 Ústí nad Labem - Severní Terasa
SUMMARY:2-U20Z-C: Ústí n. L.-Teplice
END:VEVENT
BEGIN:VEVENT
UID:30303631-3163-4038-a635-653131643238
DTSTAMP:20260423T081944Z
DESCRIPTION:1/2 Turnov - Ústí n. L. 0:3 (-16\,-22\,-12)
DTSTART;TZID=Europe/Berlin:20230917T100000
DTEND;TZID=Europe/Berlin:20230917T120000
LOCATION:TJ Turnov\, Skálova 207 Turnov
SUMMARY:2-U20Z-C: Turnov-Ústí n. L.
END:VEVENT
BEGIN:VEVENT
UID:63363834-6232-4231-a663-363633393236
DTSTAMP:20260423T081944Z
DESCRIPTION:2/5 Turnov - Ústí n. L. 0:3 (-12\,-12\,-14)
DTSTART;TZID=Europe/Berlin:20230917T140000
DTEND;TZID=Europe/Berlin:20230917T160000
LOCATION:TJ Turnov\, Skálova 207 Turnov
SUMMARY:2-U20Z-C: Turnov-Ústí n. L.
END:VEVENT
BEGIN:VEVENT
UID:31373035-6338-4338-a561-376536383534
DTSTAMP:20260423T081944Z
DESCRIPTION:5/15 Dansport - Ústí n. L. 1:3 (-21\,23\,-10\,-20)
DTSTART;TZID=Europe/Berlin:20231008T110000
DTEND;TZID=Europe/Berlin:20231008T130000
LOCATION:Sportovní hala Gymnázia Jana Keplera\, Parléřova 118 Praha - Hradč
 any
SUMMARY:2-U20Z-C: Dansport-Ústí n. L.
END:VEVENT
BEGIN:VEVENT
UID:31353964-3739-4061-b037-623538393430
DTSTAMP:20260423T081944Z
DESCRIPTION:6/18 Dansport - Ústí n. L. 1:3 (-14\,18\,-16\,-17)
DTSTART;TZID=Europe/Berlin:20231008T150000
DTEND;TZID=Europe/Berlin:20231008T170000
LOCATION:Sportovní hala Gymnázia Jana Keplera\, Parléřova 118 Praha - Hradč
 any
SUMMARY:2-U20Z-C: Dansport-Ústí n. L.
END:VEVENT
BEGIN:VEVENT
UID:30303131-6266-4032-b162-383936306137
DTSTAMP:20260423T081944Z
DESCRIPTION:7/19 Teplice - Ústí n. L. 3:0 (23\,18\,18)
DTSTART;TZID=Europe/Berlin:20231015T100000
DTEND;TZID=Europe/Berlin:20231015T120000
LOCATION:Hotelová škola\, Smetanovo náměstí 786 Teplice - Trnovany
SUMMARY:2-U20Z-C: Teplice-Ústí n. L.
END:VEVENT
BEGIN:VEVENT
UID:32646364-3234-4663-b464-376439353930
DTSTAMP:20260423T081944Z
DESCRIPTION:8/22 Teplice - Ústí n. L. 3:0 (17\,18\,17)
DTSTART;TZID=Europe/Berlin:20231015T140000
DTEND;TZID=Europe/Berlin:20231015T160000
LOCATION:Hotelová škola\, Smetanovo náměstí 786 Teplice - Trnovany
SUMMARY:2-U20Z-C: Teplice-Ústí n. L.
END:VEVENT
BEGIN:VEVENT
UID:34313636-6537-4634-b464-346134336261
DTSTAMP:20260423T081944Z
DESCRIPTION:13/38 Meteor - Ústí n. L. 1:3 (16\,-14\,-12\,-13)
DTSTART;TZID=Europe/Berlin:20231001T100000
DTEND;TZID=Europe/Berlin:20231001T120000
LOCATION:ZŠ Žernosecká\, Žernosecká 1597 Praha - Kobylisy
SUMMARY:2-U20Z-C: Meteor-Ústí n. L.
END:VEVENT
BEGIN:VEVENT
UID:32396434-6635-4931-b630-656431373563
DTSTAMP:20260423T081944Z
DESCRIPTION:14/41 Meteor - Ústí n. L. 0:3 (-17\,-16\,-21)
DTSTART;TZID=Europe/Berlin:20231001T140000
DTEND;TZID=Europe/Berlin:20231001T160000
LOCATION:ZŠ Žernosecká\, Žernosecká 1597 Praha - Kobylisy
SUMMARY:2-U20Z-C: Meteor-Ústí n. L.
END:VEVENT
BEGIN:VEVENT
UID:30393765-6565-4863-b366-626264616266
DTSTAMP:20260423T081944Z
DESCRIPTION:19/57 Náchod - Ústí n. L. 3:0 (23\,23\,18)
DTSTART;TZID=Europe/Berlin:20240107T100000
DTEND;TZID=Europe/Berlin:20240107T120000
LOCATION:SPORT KLUB Náchod\, Pražská 696 Náchod
SUMMARY:2-U20Z-C: Náchod-Ústí n. L.
END:VEVENT
BEGIN:VEVENT
UID:65366233-6131-4565-b961-633839333230
DTSTAMP:20260423T081944Z
DESCRIPTION:20/60 Náchod - Ústí n. L. 1:3 (10\,-23\,-21\,-14)
DTSTART;TZID=Europe/Berlin:20240107T140000
DTEND;TZID=Europe/Berlin:20240107T160000
LOCATION:SPORT KLUB Náchod\, Pražská 696 Náchod
SUMMARY:2-U20Z-C: Náchod-Ústí n. L.
END:VEVENT
BEGIN:VEVENT
UID:61363038-3639-4732-b362-383766653035
DTSTAMP:20260423T081944Z
DESCRIPTION:1/1 Ústí n. L. - Kolín 3:0 (21\,18\,16)
DTSTART;TZID=Europe/Berlin:20240120T100000
DTEND;TZID=Europe/Berlin:20240120T120000
LOCATION:Tělocvična Gymnázia a Střední odborné školy dr. Václava Šmejkala\,
  Stará 3299 Ústí nad Labem - Severní Terasa
SUMMARY:2-U20Z-II: Ústí n. L.-Kolín
END:VEVENT
BEGIN:VEVENT
UID:31336665-3436-4932-b562-666163356134
DTSTAMP:20260423T081944Z
DESCRIPTION:2/4 Ústí n. L. - Kolín 3:0 (20\,15\,23)
DTSTART;TZID=Europe/Berlin:20240120T140000
DTEND;TZID=Europe/Berlin:20240120T160000
LOCATION:Tělocvična Gymnázia a Střední odborné školy dr. Václava Šmejkala\,
  Stará 3299 Ústí nad Labem - Severní Terasa
SUMMARY:2-U20Z-II: Ústí n. L.-Kolín
END:VEVENT
BEGIN:VEVENT
UID:63393065-6533-4562-a334-323534646638
DTSTAMP:20260423T081944Z
DESCRIPTION:5/13 Ústí n. L. - Bedřichov 3:2 (21\,21\,-15\,-22\,12)
DTSTART;TZID=Europe/Berlin:20240217T100000
DTEND;TZID=Europe/Berlin:20240217T120000
LOCATION:Tělocvična Gymnázia a Střední odborné školy dr. Václava Šmejkala\,
  Stará 3299 Ústí nad Labem - Severní Terasa
SUMMARY:2-U20Z-II: Ústí n. L.-Bedřichov
END:VEVENT
BEGIN:VEVENT
UID:65323638-6165-4235-a666-366464373838
DTSTAMP:20260423T081944Z
DESCRIPTION:6/16 Ústí n. L. - Bedřichov 1:3 (-22\,-20\,18\,-16)
DTSTART;TZID=Europe/Berlin:20240217T140000
DTEND;TZID=Europe/Berlin:20240217T160000
LOCATION:Tělocvična Gymnázia a Střední odborné školy dr. Václava Šmejkala\,
  Stará 3299 Ústí nad Labem - Severní Terasa
SUMMARY:2-U20Z-II: Ústí n. L.-Bedřichov
END:VEVENT
BEGIN:VEVENT
UID:64316562-6131-4262-b432-663931376165
DTSTAMP:20260423T081944Z
DESCRIPTION:9/25 Ústí n. L. - Havlíčkův Brod 0:3 (-23\,-15\,-11)
DTSTART;TZID=Europe/Berlin:20240310T100000
DTEND;TZID=Europe/Berlin:20240310T120000
LOCATION:Tělocvična Gymnázia a Střední odborné školy dr. Václava Šmejkala\,
  Stará 3299 Ústí nad Labem - Severní Terasa
SUMMARY:2-U20Z-II: Ústí n. L.-Havlíčkův Brod
END:VEVENT
BEGIN:VEVENT
UID:33343562-3166-4434-b730-313062613535
DTSTAMP:20260423T081944Z
DESCRIPTION:10/28 Ústí n. L. - Havlíčkův Brod 1:3 (-19\,16\,-14\,-18)
DTSTART;TZID=Europe/Berlin:20240310T140000
DTEND;TZID=Europe/Berlin:20240310T160000
LOCATION:Tělocvična Gymnázia a Střední odborné školy dr. Václava Šmejkala\,
  Stará 3299 Ústí nad Labem - Severní Terasa
SUMMARY:2-U20Z-II: Ústí n. L.-Havlíčkův Brod
END:VEVENT
BEGIN:VEVENT
UID:33386639-3038-4635-b135-323435653164
DTSTAMP:20260423T081944Z
DESCRIPTION:3/7 Havlíčkův Brod - Ústí n. L. 2:3 (-11\,-23\,11\,24\,-10)
DTSTART;TZID=Europe/Berlin:20240204T100000
DTEND;TZID=Europe/Berlin:20240204T120000
LOCATION:Střední zdravotnická škola Havlíčkův Brod\, Masarykova 2033 Havlíč
 kův Brod
SUMMARY:2-U20Z-II: Havlíčkův Brod-Ústí n. L.
END:VEVENT
BEGIN:VEVENT
UID:64333434-6162-4665-b666-636539353736
DTSTAMP:20260423T081944Z
DESCRIPTION:4/10 Havlíčkův Brod - Ústí n. L. 2:3 (21\,-23\,-20\,20\,-5)
DTSTART;TZID=Europe/Berlin:20240204T140000
DTEND;TZID=Europe/Berlin:20240204T160000
LOCATION:Střední zdravotnická škola Havlíčkův Brod\, Masarykova 2033 Havlíč
 kův Brod
SUMMARY:2-U20Z-II: Havlíčkův Brod-Ústí n. L.
END:VEVENT
BEGIN:VEVENT
UID:66616664-3633-4339-a535-616663613266
DTSTAMP:20260423T081944Z
DESCRIPTION:7/19 Kolín - Ústí n. L. 0:3 (-20\,-24\,-13)
DTSTART;TZID=Europe/Berlin:20240218T100000
DTEND;TZID=Europe/Berlin:20240218T120000
LOCATION:hala STAV\, SOŠ Kolín\, Brankovická 1417 Kolín - Kolín V
SUMMARY:2-U20Z-II: Kolín-Ústí n. L.
END:VEVENT
BEGIN:VEVENT
UID:34336537-6431-4636-a635-336364386336
DTSTAMP:20260423T081944Z
DESCRIPTION:8/22 Kolín - Ústí n. L. 0:3 (-21\,-21\,-14)
DTSTART;TZID=Europe/Berlin:20240218T140000
DTEND;TZID=Europe/Berlin:20240218T160000
LOCATION:hala STAV\, SOŠ Kolín\, Brankovická 1417 Kolín - Kolín V
SUMMARY:2-U20Z-II: Kolín-Ústí n. L.
END:VEVENT
BEGIN:VEVENT
UID:66626165-6264-4166-a332-303835643964
DTSTAMP:20260423T081944Z
DESCRIPTION:11/31 Bedřichov - Ústí n. L. 3:1 (15\,17\,-23\,23)
DTSTART;TZID=Europe/Berlin:20240331T100000
DTEND;TZID=Europe/Berlin:20240331T120000
LOCATION:TJ Sokol Bedřichov\, Jihlava\, Sokolovská 4656 Jihlava
SUMMARY:2-U20Z-II: Bedřichov-Ústí n. L.
END:VEVENT
BEGIN:VEVENT
UID:31323362-3831-4337-b461-613865656539
DTSTAMP:20260423T081944Z
DESCRIPTION:12/34 Bedřichov - Ústí n. L. 1:3 (-22\,-19\,17\,-29)
DTSTART;TZID=Europe/Berlin:20240331T140000
DTEND;TZID=Europe/Berlin:20240331T160000
LOCATION:TJ Sokol Bedřichov\, Jihlava\, Sokolovská 4656 Jihlava
SUMMARY:2-U20Z-II: Bedřichov-Ústí n. L.
END:VEVENT
END:VCALENDAR
