BEGIN:VCALENDAR
VERSION:2.0
PRODID:-//TJ Ostrava82493//NONSGML kigkonsult.se iCalcreator 2.41.80//
CALSCALE:GREGORIAN
UID:30653131-3533-4430-a431-376439373064
BEGIN:VEVENT
UID:31396162-3365-4238-b135-356663643633
DTSTAMP:20260423T081934Z
DESCRIPTION:1/1 Ostrava - Prostějov 3:2 (18\,24\,-11\,-18\,13)
DTSTART;TZID=Europe/Berlin:20230916T100000
DTEND;TZID=Europe/Berlin:20230916T120000
LOCATION:Hala míčových sportů\, Varenská 3098 Ostrava - Moravská Ostrava
SUMMARY:EX-U18Z-1B: Ostrava-Prostějov
END:VEVENT
BEGIN:VEVENT
UID:35343336-6337-4434-b765-316235636161
DTSTAMP:20260423T081934Z
DESCRIPTION:1/4 Ostrava - Lanškroun 3:2 (-19\,23\,21\,-13\,12)
DTSTART;TZID=Europe/Berlin:20230916T180000
DTEND;TZID=Europe/Berlin:20230916T200000
LOCATION:Hala míčových sportů\, Varenská 3098 Ostrava - Moravská Ostrava
SUMMARY:EX-U18Z-1B: Ostrava-Lanškroun
END:VEVENT
BEGIN:VEVENT
UID:36363164-3136-4536-b138-313638643464
DTSTAMP:20260423T081934Z
DESCRIPTION:1/6 Kralupy - Ostrava 3:0 (14\,24\,19)\nNH:Gajdošova
DTSTART;TZID=Europe/Berlin:20230917T120000
DTEND;TZID=Europe/Berlin:20230917T140000
LOCATION:Hala míčových sportů\, Varenská 3098 Ostrava - Moravská Ostrava
SUMMARY:EX-U18Z-1B: Kralupy-Ostrava
END:VEVENT
BEGIN:VEVENT
UID:36383061-6333-4436-a135-393239333164
DTSTAMP:20260423T081934Z
DESCRIPTION:2/3 Ostrava - Olymp 3:0 (18\,25\,24)
DTSTART;TZID=Europe/Berlin:20231007T160000
DTEND;TZID=Europe/Berlin:20231007T180000
LOCATION:Hala ZŠ Dr. Hrubého\, Dr. Hrubého 319 Šternberk
SUMMARY:EX-U18Z-2C: Ostrava-Olymp
END:VEVENT
BEGIN:VEVENT
UID:30393337-3533-4234-b465-623934383239
DTSTAMP:20260423T081934Z
DESCRIPTION:2/1 Šternberk - Ostrava 0:3 (-22\,-16\,-22)
DTSTART;TZID=Europe/Berlin:20231007T100000
DTEND;TZID=Europe/Berlin:20231007T120000
LOCATION:Hala ZŠ Dr. Hrubého\, Dr. Hrubého 319 Šternberk
SUMMARY:EX-U18Z-2C: Šternberk-Ostrava
END:VEVENT
BEGIN:VEVENT
UID:34323131-3637-4564-a563-383866373333
DTSTAMP:20260423T081934Z
DESCRIPTION:2/5 Frýdek - Místek - Ostrava 2:3 (27\,-15\,25\,-22\,-11)
DTSTART;TZID=Europe/Berlin:20231008T100000
DTEND;TZID=Europe/Berlin:20231008T120000
LOCATION:Hala ZŠ Dr. Hrubého\, Dr. Hrubého 319 Šternberk
SUMMARY:EX-U18Z-2C: Frýdek - Místek-Ostrava
END:VEVENT
BEGIN:VEVENT
UID:38343930-6136-4530-a363-323038636639
DTSTAMP:20260423T081934Z
DESCRIPTION:3/2 Ostrava - S V B C 3:2 (-23\,21\,-19\,24\,8)
DTSTART;TZID=Europe/Berlin:20231104T120000
DTEND;TZID=Europe/Berlin:20231104T140000
LOCATION:ZŠ Oskara Nedbala České Budějovice\, O. Nedbala 882 České Budějovi
 ce - České Budějovice 2
SUMMARY:EX-U18Z-3B: Ostrava-S V B C
END:VEVENT
BEGIN:VEVENT
UID:66646139-3430-4265-b265-643835393630
DTSTAMP:20260423T081934Z
DESCRIPTION:3/5 Ostrava - Demlova 3:0 (12\,24\,14)
DTSTART;TZID=Europe/Berlin:20231105T100000
DTEND;TZID=Europe/Berlin:20231105T120000
LOCATION:ZŠ Oskara Nedbala České Budějovice\, O. Nedbala 882 České Budějovi
 ce - České Budějovice 2
SUMMARY:EX-U18Z-3B: Ostrava-Demlova
END:VEVENT
BEGIN:VEVENT
UID:62313461-6233-4633-b263-666238313330
DTSTAMP:20260423T081934Z
DESCRIPTION:3/4 České Budějovice - Ostrava 2:3 (12\,-20\,-23\,15\,-12)
DTSTART;TZID=Europe/Berlin:20231104T180000
DTEND;TZID=Europe/Berlin:20231104T200000
LOCATION:ZŠ Oskara Nedbala České Budějovice\, O. Nedbala 882 České Budějovi
 ce - České Budějovice 2
SUMMARY:EX-U18Z-3B: České Budějovice-Ostrava
END:VEVENT
BEGIN:VEVENT
UID:32623864-6363-4138-b835-613436646432
DTSTAMP:20260423T081934Z
DESCRIPTION:4/2 Ostrava - Liberec 1:3 (-12\,-22\,22\,-11)
DTSTART;TZID=Europe/Berlin:20231125T120000
DTEND;TZID=Europe/Berlin:20231125T140000
LOCATION:SOŠ a SOU Lanškroun\, Sokolská 288 Lanškroun - Ostrovské Předměstí
SUMMARY:EX-U18Z-4A: Ostrava-Liberec
END:VEVENT
BEGIN:VEVENT
UID:34613637-3762-4566-b331-333537383934
DTSTAMP:20260423T081934Z
DESCRIPTION:4/5 Ostrava - Havlíčkův Brod 3:0 (28\,13\,19)
DTSTART;TZID=Europe/Berlin:20231126T100000
DTEND;TZID=Europe/Berlin:20231126T120000
LOCATION:SOŠ a SOU Lanškroun\, Sokolská 288 Lanškroun - Ostrovské Předměstí
SUMMARY:EX-U18Z-4A: Ostrava-Havlíčkův Brod
END:VEVENT
BEGIN:VEVENT
UID:66313130-3031-4032-a266-306665343565
DTSTAMP:20260423T081934Z
DESCRIPTION:4/4 Lanškroun - Ostrava 2:3 (-19\,-22\,19\,19\,-14)
DTSTART;TZID=Europe/Berlin:20231125T180000
DTEND;TZID=Europe/Berlin:20231125T200000
LOCATION:SOŠ a SOU Lanškroun\, Sokolská 288 Lanškroun - Ostrovské Předměstí
SUMMARY:EX-U18Z-4A: Lanškroun-Ostrava
END:VEVENT
BEGIN:VEVENT
UID:35313431-3637-4831-a139-356266643866
DTSTAMP:20260423T081934Z
DESCRIPTION:5/2 Ostrava - Lanškroun 3:2 (-20\,12\,-20\,19\,11)
DTSTART;TZID=Europe/Berlin:20240120T120000
DTEND;TZID=Europe/Berlin:20240120T140000
LOCATION:Městská sportovní hala\, U Přehrady 4747 Jablonec nad Nisou
SUMMARY:EX-U18Z-5A: Ostrava-Lanškroun
END:VEVENT
BEGIN:VEVENT
UID:37383062-6264-4430-a231-303036313630
DTSTAMP:20260423T081934Z
DESCRIPTION:5/5 Ostrava - Olymp 3:2 (-20\,19\,-20\,30\,13)
DTSTART;TZID=Europe/Berlin:20240121T100000
DTEND;TZID=Europe/Berlin:20240121T120000
LOCATION:Městská sportovní hala\, U Přehrady 4747 Jablonec nad Nisou
SUMMARY:EX-U18Z-5A: Ostrava-Olymp
END:VEVENT
BEGIN:VEVENT
UID:30643334-3836-4261-a265-313130386632
DTSTAMP:20260423T081934Z
DESCRIPTION:5/4 Liberec - Ostrava 3:1 (-18\,16\,16\,20)
DTSTART;TZID=Europe/Berlin:20240120T180000
DTEND;TZID=Europe/Berlin:20240120T200000
LOCATION:Městská sportovní hala\, U Přehrady 4747 Jablonec nad Nisou
SUMMARY:EX-U18Z-5A: Liberec-Ostrava
END:VEVENT
BEGIN:VEVENT
UID:61383032-3735-4232-b861-353535323830
DTSTAMP:20260423T081934Z
DESCRIPTION:6/1 Ostrava - Kralupy 3:2 (15\,-18\,13\,-20\,10)\nNH: hráno v N
 H Jízdárna
DTSTART;TZID=Europe/Berlin:20240210T100000
DTEND;TZID=Europe/Berlin:20240210T120000
LOCATION:Hala míčových sportů\, Varenská 3098 Ostrava - Moravská Ostrava
SUMMARY:EX-U18Z-6A: Ostrava-Kralupy
END:VEVENT
BEGIN:VEVENT
UID:62653934-3962-4639-a238-303562646234
DTSTAMP:20260423T081934Z
DESCRIPTION:6/4 Ostrava - Liberec 2:3 (-14\,14\,15\,-20\,-13)
DTSTART;TZID=Europe/Berlin:20240210T180000
DTEND;TZID=Europe/Berlin:20240210T200000
LOCATION:Hala míčových sportů\, Varenská 3098 Ostrava - Moravská Ostrava
SUMMARY:EX-U18Z-6A: Ostrava-Liberec
END:VEVENT
BEGIN:VEVENT
UID:63613836-6630-4232-b930-616662393839
DTSTAMP:20260423T081934Z
DESCRIPTION:6/6 Olymp - Ostrava 2:3 (-18\,22\,24\,-18\,-12)
DTSTART;TZID=Europe/Berlin:20240211T120000
DTEND;TZID=Europe/Berlin:20240211T140000
LOCATION:Hala míčových sportů\, Varenská 3098 Ostrava - Moravská Ostrava
SUMMARY:EX-U18Z-6A: Olymp-Ostrava
END:VEVENT
BEGIN:VEVENT
UID:34386436-3939-4730-b463-646437366534
DTSTAMP:20260423T081934Z
DESCRIPTION:7/2 Ostrava - Lanškroun 0:3 (-16\,-12\,-14)
DTSTART;TZID=Europe/Berlin:20240302T120000
DTEND;TZID=Europe/Berlin:20240302T140000
LOCATION:PVK Olymp Praha\, Přípotoční 300 Praha - Vršovice
SUMMARY:EX-U18Z-7A: Ostrava-Lanškroun
END:VEVENT
BEGIN:VEVENT
UID:38643535-6637-4264-a265-313136633530
DTSTAMP:20260423T081934Z
DESCRIPTION:7/5 Ostrava - Liberec 0:3 (-21\,-19\,-16)
DTSTART;TZID=Europe/Berlin:20240303T100000
DTEND;TZID=Europe/Berlin:20240303T120000
LOCATION:PVK Olymp Praha\, Přípotoční 300 Praha - Vršovice
SUMMARY:EX-U18Z-7A: Ostrava-Liberec
END:VEVENT
BEGIN:VEVENT
UID:62326333-3661-4531-b766-306235306635
DTSTAMP:20260423T081934Z
DESCRIPTION:7/4 Olymp - Ostrava 3:0 (16\,23\,23)\nNH: VCM Olymp Praha\, Rad
 lická 115/140
DTSTART;TZID=Europe/Berlin:20240302T180000
DTEND;TZID=Europe/Berlin:20240302T200000
LOCATION:PVK Olymp Praha\, Přípotoční 300 Praha - Vršovice
SUMMARY:EX-U18Z-7A: Olymp-Ostrava
END:VEVENT
BEGIN:VEVENT
UID:30366132-3937-4232-a635-643933646161
DTSTAMP:20260423T081934Z
DESCRIPTION:8/2 Ostrava - S V B C 1:3 (-19\,-16\,21\,-13)
DTSTART;TZID=Europe/Berlin:20240427T120000
DTEND;TZID=Europe/Berlin:20240427T140000
LOCATION:Národní sportovní centrum\, Za velodromem 4187 Prostějov
SUMMARY:EX-U18Z-8B: Ostrava-S V B C
END:VEVENT
BEGIN:VEVENT
UID:33323934-3932-4261-a337-373532323862
DTSTAMP:20260423T081934Z
DESCRIPTION:8/5 Ostrava - Kr. Pole 0:3 (-12\,-17\,-6)
DTSTART;TZID=Europe/Berlin:20240428T100000
DTEND;TZID=Europe/Berlin:20240428T120000
LOCATION:Národní sportovní centrum\, Za velodromem 4187 Prostějov
SUMMARY:EX-U18Z-8B: Ostrava-Kr. Pole
END:VEVENT
BEGIN:VEVENT
UID:64383335-3935-4630-b334-333161396666
DTSTAMP:20260423T081934Z
DESCRIPTION:8/4 Prostějov - Ostrava 3:0 (18\,16\,20)
DTSTART;TZID=Europe/Berlin:20240427T180000
DTEND;TZID=Europe/Berlin:20240427T200000
LOCATION:Národní sportovní centrum\, Za velodromem 4187 Prostějov
SUMMARY:EX-U18Z-8B: Prostějov-Ostrava
END:VEVENT
BEGIN:VEVENT
UID:36656437-6561-4963-b931-363936653231
DTSTAMP:20260423T081934Z
DESCRIPTION:2/2 Ostrava - Havlíčkův Brod 3:0 (17\,24\,15)
DTSTART;TZID=Europe/Berlin:20240517T123000
DTEND;TZID=Europe/Berlin:20240517T143000
LOCATION:Městská sportovní hala\, Petřivalského 2884 Přerov - Přerov I-Měst
 o
SUMMARY:EX-U18Z-F2: Ostrava-Havlíčkův Brod
END:VEVENT
BEGIN:VEVENT
UID:63396263-6438-4436-b337-626565313635
DTSTAMP:20260423T081934Z
DESCRIPTION:1/1 Lanškroun - Ostrava 3:1 (12\,-24\,9\,18)
DTSTART;TZID=Europe/Berlin:20240516T180000
DTEND;TZID=Europe/Berlin:20240516T200000
LOCATION:Městská sportovní hala\, Petřivalského 2884 Přerov - Přerov I-Měst
 o
SUMMARY:EX-U18Z-F2: Lanškroun-Ostrava
END:VEVENT
BEGIN:VEVENT
UID:62613135-3236-4234-b361-646165666362
DTSTAMP:20260423T081934Z
DESCRIPTION:2/4 Ostrava - Lanškroun 3:1 (17\,19\,-24\,21)\no 3.-4. místo
DTSTART;TZID=Europe/Berlin:20240519T100000
DTEND;TZID=Europe/Berlin:20240519T120000
LOCATION:Hala mládeže\, Gajdošova 1893 Ostrava - Moravská Ostrava
SUMMARY:EX-U18Z-F: Ostrava-Lanškroun
END:VEVENT
BEGIN:VEVENT
UID:64383033-3861-4461-a334-326364616332
DTSTAMP:20260423T081934Z
DESCRIPTION:1/2 Olymp - Ostrava 3:0 (21\,16\,17)\n1F1-2F2
DTSTART;TZID=Europe/Berlin:20240518T130000
DTEND;TZID=Europe/Berlin:20240518T150000
LOCATION:PVK Olymp Praha\, Přípotoční 300 Praha - Vršovice
SUMMARY:EX-U18Z-F: Olymp-Ostrava
END:VEVENT
END:VCALENDAR
