BEGIN:VCALENDAR
VERSION:2.0
PRODID:-//S V B C82498//NONSGML kigkonsult.se iCalcreator 2.41.80//
CALSCALE:GREGORIAN
UID:34326461-6466-4665-b439-313531653831
BEGIN:VEVENT
UID:65623564-3063-4638-b039-336664313235
DTSTAMP:20260423T042837Z
DESCRIPTION:1/3 S V B C - Střešovice 3:0 (23\,18\,18)
DTSTART;TZID=Europe/Berlin:20230916T160000
DTEND;TZID=Europe/Berlin:20230916T180000
LOCATION:PVK Olymp Praha\, Přípotoční 300 Praha - Vršovice
SUMMARY:EX-U18Z-1C: S V B C-Střešovice
END:VEVENT
BEGIN:VEVENT
UID:66646138-3836-4562-a465-333562333433
DTSTAMP:20260423T042837Z
DESCRIPTION:1/1 Olymp - S V B C 0:3 (-22\,-17\,-14)
DTSTART;TZID=Europe/Berlin:20230916T100000
DTEND;TZID=Europe/Berlin:20230916T120000
LOCATION:PVK Olymp Praha\, Přípotoční 300 Praha - Vršovice
SUMMARY:EX-U18Z-1C: Olymp-S V B C
END:VEVENT
BEGIN:VEVENT
UID:32386137-6238-4838-b664-633437633436
DTSTAMP:20260423T042837Z
DESCRIPTION:1/5 České Budějovice - S V B C 3:1 (21\,23\,-25\,15)
DTSTART;TZID=Europe/Berlin:20230917T100000
DTEND;TZID=Europe/Berlin:20230917T120000
LOCATION:PVK Olymp Praha\, Přípotoční 300 Praha - Vršovice
SUMMARY:EX-U18Z-1C: České Budějovice-S V B C
END:VEVENT
BEGIN:VEVENT
UID:61366532-6539-4435-b934-666230623131
DTSTAMP:20260423T042837Z
DESCRIPTION:2/1 S V B C - Kralupy 3:1 (-21\,20\,20\,13)
DTSTART;TZID=Europe/Berlin:20231007T100000
DTEND;TZID=Europe/Berlin:20231007T120000
LOCATION:Sportovní hala Řevnice \, Školní 600 Řevnice
SUMMARY:EX-U18Z-2B: S V B C-Kralupy
END:VEVENT
BEGIN:VEVENT
UID:37636363-6161-4232-b066-313861373035
DTSTAMP:20260423T042837Z
DESCRIPTION:2/4 S V B C - Demlova 3:2 (-26\,18\,-23\,22\,12)
DTSTART;TZID=Europe/Berlin:20231007T180000
DTEND;TZID=Europe/Berlin:20231007T200000
LOCATION:Sportovní hala Řevnice \, Školní 600 Řevnice
SUMMARY:EX-U18Z-2B: S V B C-Demlova
END:VEVENT
BEGIN:VEVENT
UID:66643237-6562-4435-b861-386431363933
DTSTAMP:20260423T042837Z
DESCRIPTION:2/6 Kr. Pole - S V B C 3:0 (29\,17\,23)
DTSTART;TZID=Europe/Berlin:20231008T120000
DTEND;TZID=Europe/Berlin:20231008T140000
LOCATION:Sportovní hala Řevnice \, Školní 600 Řevnice
SUMMARY:EX-U18Z-2B: Kr. Pole-S V B C
END:VEVENT
BEGIN:VEVENT
UID:33656662-6533-4438-b661-346232383064
DTSTAMP:20260423T042837Z
DESCRIPTION:3/6 S V B C - České Budějovice 3:0 (13\,25\,17)
DTSTART;TZID=Europe/Berlin:20231105T120000
DTEND;TZID=Europe/Berlin:20231105T140000
LOCATION:ZŠ Oskara Nedbala České Budějovice\, O. Nedbala 882 České Budějovi
 ce - České Budějovice 2
SUMMARY:EX-U18Z-3B: S V B C-České Budějovice
END:VEVENT
BEGIN:VEVENT
UID:61383233-3263-4234-b831-316161353236
DTSTAMP:20260423T042837Z
DESCRIPTION:3/2 Ostrava - S V B C 3:2 (-23\,21\,-19\,24\,8)
DTSTART;TZID=Europe/Berlin:20231104T120000
DTEND;TZID=Europe/Berlin:20231104T140000
LOCATION:ZŠ Oskara Nedbala České Budějovice\, O. Nedbala 882 České Budějovi
 ce - České Budějovice 2
SUMMARY:EX-U18Z-3B: Ostrava-S V B C
END:VEVENT
BEGIN:VEVENT
UID:65636534-3930-4461-b463-326436666431
DTSTAMP:20260423T042837Z
DESCRIPTION:3/3 Demlova - S V B C 3:0 (21\,17\,25)
DTSTART;TZID=Europe/Berlin:20231104T160000
DTEND;TZID=Europe/Berlin:20231104T180000
LOCATION:ZŠ Oskara Nedbala České Budějovice\, O. Nedbala 882 České Budějovi
 ce - České Budějovice 2
SUMMARY:EX-U18Z-3B: Demlova-S V B C
END:VEVENT
BEGIN:VEVENT
UID:62366464-3261-4262-b032-613936623338
DTSTAMP:20260423T042837Z
DESCRIPTION:4/2 S V B C - Olymp 2:3 (23\,21\,-15\,-22\,-9)
DTSTART;TZID=Europe/Berlin:20231125T120000
DTEND;TZID=Europe/Berlin:20231125T140000
LOCATION:Sportovní gymnázium Ludvíka Daňka\, Botanická 63 Brno - Ponava
SUMMARY:EX-U18Z-4B: S V B C-Olymp
END:VEVENT
BEGIN:VEVENT
UID:62336262-3961-4330-b038-663463323064
DTSTAMP:20260423T042837Z
DESCRIPTION:4/5 S V B C - České Budějovice 1:3 (-22\,-11\,24\,-20)\nNH: Vod
 ova\, Brno       .
DTSTART;TZID=Europe/Berlin:20231126T120000
DTEND;TZID=Europe/Berlin:20231126T140000
LOCATION:Sportovní gymnázium Ludvíka Daňka\, Botanická 63 Brno - Ponava
SUMMARY:EX-U18Z-4B: S V B C-České Budějovice
END:VEVENT
BEGIN:VEVENT
UID:64356135-6562-4239-b461-393233386331
DTSTAMP:20260423T042837Z
DESCRIPTION:4/4 Kr. Pole - S V B C 3:2 (19\,-17\,-14\,18\,15)
DTSTART;TZID=Europe/Berlin:20231125T180000
DTEND;TZID=Europe/Berlin:20231125T200000
LOCATION:Sportovní gymnázium Ludvíka Daňka\, Botanická 63 Brno - Ponava
SUMMARY:EX-U18Z-4B: Kr. Pole-S V B C
END:VEVENT
BEGIN:VEVENT
UID:38663263-3132-4334-a238-303237613038
DTSTAMP:20260423T042837Z
DESCRIPTION:5/3 S V B C - Prostějov 2:3 (-20\,-15\,22\,22\,-12)\nNH: ZŠ Pra
 ha Ruzyně
DTSTART;TZID=Europe/Berlin:20240120T160000
DTEND;TZID=Europe/Berlin:20240120T180000
LOCATION:TJ Tatran Střešovice\, Sibeliova 368 Praha - Střešovice
SUMMARY:EX-U18Z-5C: S V B C-Prostějov
END:VEVENT
BEGIN:VEVENT
UID:62323135-3035-4430-b065-623737633138
DTSTAMP:20260423T042837Z
DESCRIPTION:5/1 Střešovice - S V B C 3:2 (-21\,-27\,20\,27\,6)\nNH: ZŠ Prah
 a Ruzyně
DTSTART;TZID=Europe/Berlin:20240120T100000
DTEND;TZID=Europe/Berlin:20240120T120000
LOCATION:TJ Tatran Střešovice\, Sibeliova 368 Praha - Střešovice
SUMMARY:EX-U18Z-5C: Střešovice-S V B C
END:VEVENT
BEGIN:VEVENT
UID:33323630-3630-4036-a536-336234666631
DTSTAMP:20260423T042837Z
DESCRIPTION:5/5 Šternberk - S V B C 1:3 (21\,-23\,-22\,-21)
DTSTART;TZID=Europe/Berlin:20240121T100000
DTEND;TZID=Europe/Berlin:20240121T120000
LOCATION:TJ Tatran Střešovice\, Sibeliova 368 Praha - Střešovice
SUMMARY:EX-U18Z-5C: Šternberk-S V B C
END:VEVENT
BEGIN:VEVENT
UID:38376661-3133-4663-b230-643864376430
DTSTAMP:20260423T042837Z
DESCRIPTION:6/3 S V B C - Střešovice 3:0 (14\,12\,21)
DTSTART;TZID=Europe/Berlin:20240210T160000
DTEND;TZID=Europe/Berlin:20240210T180000
LOCATION:Sportovní hala Litvínovice\, U Střelnice 107 Litvínovice - Šindlov
 y Dvory
SUMMARY:EX-U18Z-6C: S V B C-Střešovice
END:VEVENT
BEGIN:VEVENT
UID:35663462-3665-4138-b333-373131333435
DTSTAMP:20260423T042837Z
DESCRIPTION:6/1 České Budějovice - S V B C 0:3 (-24\,-19\,-23)
DTSTART;TZID=Europe/Berlin:20240210T100000
DTEND;TZID=Europe/Berlin:20240210T120000
LOCATION:Sportovní hala Litvínovice\, U Střelnice 107 Litvínovice - Šindlov
 y Dvory
SUMMARY:EX-U18Z-6C: České Budějovice-S V B C
END:VEVENT
BEGIN:VEVENT
UID:39633534-3735-4263-b265-666464303332
DTSTAMP:20260423T042837Z
DESCRIPTION:6/5 Frýdek - Místek - S V B C 0:3 (-21\,-22\,-20)
DTSTART;TZID=Europe/Berlin:20240211T100000
DTEND;TZID=Europe/Berlin:20240211T120000
LOCATION:Sportovní hala Litvínovice\, U Střelnice 107 Litvínovice - Šindlov
 y Dvory
SUMMARY:EX-U18Z-6C: Frýdek - Místek-S V B C
END:VEVENT
BEGIN:VEVENT
UID:63633132-3832-4233-b136-623232386638
DTSTAMP:20260423T042837Z
DESCRIPTION:7/3 S V B C - Havlíčkův Brod 3:1 (20\,27\,-24\,19)
DTSTART;TZID=Europe/Berlin:20240302T160000
DTEND;TZID=Europe/Berlin:20240302T180000
LOCATION:TJ KRALUPY\, z.s.\, Gen. Klapálka 1029 Kralupy nad Vltavou
SUMMARY:EX-U18Z-7B: S V B C-Havlíčkův Brod
END:VEVENT
BEGIN:VEVENT
UID:33626632-3339-4439-b231-303361363830
DTSTAMP:20260423T042837Z
DESCRIPTION:7/1 Kralupy - S V B C 3:1 (-18\,19\,12\,24)
DTSTART;TZID=Europe/Berlin:20240302T100000
DTEND;TZID=Europe/Berlin:20240302T120000
LOCATION:TJ KRALUPY\, z.s.\, Gen. Klapálka 1029 Kralupy nad Vltavou
SUMMARY:EX-U18Z-7B: Kralupy-S V B C
END:VEVENT
BEGIN:VEVENT
UID:63356364-6561-4662-b136-616464353436
DTSTAMP:20260423T042837Z
DESCRIPTION:7/5 Prostějov - S V B C 0:3 (-21\,-21\,-24)
DTSTART;TZID=Europe/Berlin:20240303T100000
DTEND;TZID=Europe/Berlin:20240303T120000
LOCATION:TJ KRALUPY\, z.s.\, Gen. Klapálka 1029 Kralupy nad Vltavou
SUMMARY:EX-U18Z-7B: Prostějov-S V B C
END:VEVENT
BEGIN:VEVENT
UID:66666463-3431-4538-b536-636664336232
DTSTAMP:20260423T042837Z
DESCRIPTION:8/6 S V B C - Prostějov 3:1 (-19\,22\,15\,23)
DTSTART;TZID=Europe/Berlin:20240428T120000
DTEND;TZID=Europe/Berlin:20240428T140000
LOCATION:Národní sportovní centrum\, Za velodromem 4187 Prostějov
SUMMARY:EX-U18Z-8B: S V B C-Prostějov
END:VEVENT
BEGIN:VEVENT
UID:36346633-3335-4330-a438-663132656335
DTSTAMP:20260423T042837Z
DESCRIPTION:8/2 Ostrava - S V B C 1:3 (-19\,-16\,21\,-13)
DTSTART;TZID=Europe/Berlin:20240427T120000
DTEND;TZID=Europe/Berlin:20240427T140000
LOCATION:Národní sportovní centrum\, Za velodromem 4187 Prostějov
SUMMARY:EX-U18Z-8B: Ostrava-S V B C
END:VEVENT
BEGIN:VEVENT
UID:66383536-6261-4361-b065-313730653538
DTSTAMP:20260423T042837Z
DESCRIPTION:8/3 Kr. Pole - S V B C 3:1 (6\,-18\,19\,17)
DTSTART;TZID=Europe/Berlin:20240427T160000
DTEND;TZID=Europe/Berlin:20240427T180000
LOCATION:Národní sportovní centrum\, Za velodromem 4187 Prostějov
SUMMARY:EX-U18Z-8B: Kr. Pole-S V B C
END:VEVENT
END:VCALENDAR
