BEGIN:VCALENDAR
VERSION:2.0
PRODID:-//Volejbal Plzeň82499//NONSGML kigkonsult.se iCalcreator 2.41.80//
CALSCALE:GREGORIAN
UID:39393166-6231-4638-b337-353432386630
BEGIN:VEVENT
UID:65656365-6339-4935-b238-613561313939
DTSTAMP:20260423T042855Z
DESCRIPTION:1/2 Plzeň - Frýdek - Místek 2:3 (-22\,-22\,15\,24\,-4)
DTSTART;TZID=Europe/Berlin:20230916T120000
DTEND;TZID=Europe/Berlin:20230916T140000
LOCATION:Městská sportovní hala\, U Přehrady 4747 Jablonec nad Nisou
SUMMARY:EX-U18Z-1A: Plzeň-Frýdek - Místek
END:VEVENT
BEGIN:VEVENT
UID:32626239-6338-4636-b862-356236623533
DTSTAMP:20260423T042855Z
DESCRIPTION:1/5 Plzeň - Demlova 0:3 (-11\,-22\,-15)
DTSTART;TZID=Europe/Berlin:20230917T100000
DTEND;TZID=Europe/Berlin:20230917T120000
LOCATION:Městská sportovní hala\, U Přehrady 4747 Jablonec nad Nisou
SUMMARY:EX-U18Z-1A: Plzeň-Demlova
END:VEVENT
BEGIN:VEVENT
UID:34656533-3436-4530-b164-313531313332
DTSTAMP:20260423T042855Z
DESCRIPTION:1/4 Liberec - Plzeň 3:0 (16\,16\,21)
DTSTART;TZID=Europe/Berlin:20230916T180000
DTEND;TZID=Europe/Berlin:20230916T200000
LOCATION:Městská sportovní hala\, U Přehrady 4747 Jablonec nad Nisou
SUMMARY:EX-U18Z-1A: Liberec-Plzeň
END:VEVENT
BEGIN:VEVENT
UID:37646234-6633-4037-a463-356239373162
DTSTAMP:20260423T042855Z
DESCRIPTION:2/1 Plzeň - Střešovice 3:2 (-21\,23\,21\,-23\,16)
DTSTART;TZID=Europe/Berlin:20231007T100000
DTEND;TZID=Europe/Berlin:20231007T120000
LOCATION:Sportovní hala - SG Plzeň\, Vejprnická 663 Plzeň - Skvrňany
SUMMARY:EX-U18Z-2D: Plzeň-Střešovice
END:VEVENT
BEGIN:VEVENT
UID:35353636-3730-4161-b630-326266643162
DTSTAMP:20260423T042855Z
DESCRIPTION:2/4 Plzeň - Prostějov 1:3 (-15\,22\,-7\,-17)
DTSTART;TZID=Europe/Berlin:20231007T180000
DTEND;TZID=Europe/Berlin:20231007T200000
LOCATION:Sportovní hala - SG Plzeň\, Vejprnická 663 Plzeň - Skvrňany
SUMMARY:EX-U18Z-2D: Plzeň-Prostějov
END:VEVENT
BEGIN:VEVENT
UID:65333732-3932-4430-a365-646535313734
DTSTAMP:20260423T042855Z
DESCRIPTION:2/6 Přerov - Plzeň 0:3 (-24\,-22\,-19)
DTSTART;TZID=Europe/Berlin:20231008T120000
DTEND;TZID=Europe/Berlin:20231008T140000
LOCATION:Sportovní hala - SG Plzeň\, Vejprnická 663 Plzeň - Skvrňany
SUMMARY:EX-U18Z-2D: Přerov-Plzeň
END:VEVENT
BEGIN:VEVENT
UID:31623732-3862-4562-b263-333235333465
DTSTAMP:20260423T042855Z
DESCRIPTION:3/2 Plzeň - Střešovice 0:3 (-13\,-20\,-17)
DTSTART;TZID=Europe/Berlin:20231105T100000
DTEND;TZID=Europe/Berlin:20231105T120000
LOCATION:ZŠ 1.máje 1700 Frýdek-Místek\, 1. máje 1700 Frýdek-Místek - Místek
SUMMARY:EX-U18Z-3D: Plzeň-Střešovice
END:VEVENT
BEGIN:VEVENT
UID:35333939-6137-4464-b639-393438303661
DTSTAMP:20260423T042855Z
DESCRIPTION:3/5 Plzeň - Přerov 2:3 (-17\,-19\,9\,17\,-11)
DTSTART;TZID=Europe/Berlin:20231104T120000
DTEND;TZID=Europe/Berlin:20231104T140000
LOCATION:ZŠ 1.máje 1700 Frýdek-Místek\, 1. máje 1700 Frýdek-Místek - Místek
SUMMARY:EX-U18Z-3D: Plzeň-Přerov
END:VEVENT
BEGIN:VEVENT
UID:38313134-6562-4934-b733-653132386334
DTSTAMP:20260423T042855Z
DESCRIPTION:3/4 Frýdek - Místek - Plzeň 1:3 (17\,-18\,-18\,-20)
DTSTART;TZID=Europe/Berlin:20231104T180000
DTEND;TZID=Europe/Berlin:20231104T200000
LOCATION:ZŠ 1.máje 1700 Frýdek-Místek\, 1. máje 1700 Frýdek-Místek - Místek
SUMMARY:EX-U18Z-3D: Frýdek - Místek-Plzeň
END:VEVENT
BEGIN:VEVENT
UID:65626562-3566-4261-b537-646565336366
DTSTAMP:20260423T042855Z
DESCRIPTION:4/2 Plzeň - Frýdek - Místek 0:3 (-20\,-19\,-20)
DTSTART;TZID=Europe/Berlin:20231125T120000
DTEND;TZID=Europe/Berlin:20231125T140000
LOCATION:Městská sportovní hala\, Petřivalského 2884 Přerov - Přerov I-Měst
 o
SUMMARY:EX-U18Z-4D: Plzeň-Frýdek - Místek
END:VEVENT
BEGIN:VEVENT
UID:62613666-3539-4937-b733-633338373365
DTSTAMP:20260423T042855Z
DESCRIPTION:4/5 Plzeň - Šternberk 1:3 (-22\,24\,-16\,-20)
DTSTART;TZID=Europe/Berlin:20231126T090000
DTEND;TZID=Europe/Berlin:20231126T110000
LOCATION:Městská sportovní hala\, Petřivalského 2884 Přerov - Přerov I-Měst
 o
SUMMARY:EX-U18Z-4D: Plzeň-Šternberk
END:VEVENT
BEGIN:VEVENT
UID:35326539-3837-4265-a139-663036303531
DTSTAMP:20260423T042855Z
DESCRIPTION:4/4 Přerov - Plzeň 3:1 (-22\,17\,19\,24)
DTSTART;TZID=Europe/Berlin:20231125T180000
DTEND;TZID=Europe/Berlin:20231125T200000
LOCATION:Městská sportovní hala\, Petřivalského 2884 Přerov - Přerov I-Měst
 o
SUMMARY:EX-U18Z-4D: Přerov-Plzeň
END:VEVENT
BEGIN:VEVENT
UID:62383163-6134-4665-b636-613132336331
DTSTAMP:20260423T042855Z
DESCRIPTION:5/3 Plzeň - Přerov 0:3 (-17\,-20\,-15)
DTSTART;TZID=Europe/Berlin:20240120T160000
DTEND;TZID=Europe/Berlin:20240120T180000
LOCATION:ZŠ Jihlava Demlova\, Demlova 4178 Jihlava
SUMMARY:EX-U18Z-5D: Plzeň-Přerov
END:VEVENT
BEGIN:VEVENT
UID:64646638-3264-4037-b661-633161633562
DTSTAMP:20260423T042855Z
DESCRIPTION:5/1 Demlova - Plzeň 3:0 (22\,16\,23)
DTSTART;TZID=Europe/Berlin:20240120T100000
DTEND;TZID=Europe/Berlin:20240120T120000
LOCATION:ZŠ Jihlava Demlova\, Demlova 4178 Jihlava
SUMMARY:EX-U18Z-5D: Demlova-Plzeň
END:VEVENT
BEGIN:VEVENT
UID:30633132-3265-4039-b163-323063633639
DTSTAMP:20260423T042855Z
DESCRIPTION:5/5 Frýdek - Místek - Plzeň 3:2 (20\,-19\,21\,-15\,12)
DTSTART;TZID=Europe/Berlin:20240121T100000
DTEND;TZID=Europe/Berlin:20240121T120000
LOCATION:ZŠ Jihlava Demlova\, Demlova 4178 Jihlava
SUMMARY:EX-U18Z-5D: Frýdek - Místek-Plzeň
END:VEVENT
BEGIN:VEVENT
UID:63383538-3933-4365-b863-346164313237
DTSTAMP:20260423T042855Z
DESCRIPTION:6/2 Plzeň - Demlova 2:3 (-17\,-23\,25\,25\,-5)
DTSTART;TZID=Europe/Berlin:20240210T120000
DTEND;TZID=Europe/Berlin:20240210T140000
LOCATION:Hala ZŠ Dr. Hrubého\, Dr. Hrubého 319 Šternberk
SUMMARY:EX-U18Z-6D: Plzeň-Demlova
END:VEVENT
BEGIN:VEVENT
UID:38623264-3964-4633-b133-326366316136
DTSTAMP:20260423T042855Z
DESCRIPTION:6/5 Plzeň - Přerov 3:2 (-21\,15\,-21\,17\,11)
DTSTART;TZID=Europe/Berlin:20240211T100000
DTEND;TZID=Europe/Berlin:20240211T120000
LOCATION:Hala ZŠ Dr. Hrubého\, Dr. Hrubého 319 Šternberk
SUMMARY:EX-U18Z-6D: Plzeň-Přerov
END:VEVENT
BEGIN:VEVENT
UID:36343862-3537-4763-b463-633432306639
DTSTAMP:20260423T042855Z
DESCRIPTION:6/4 Šternberk - Plzeň 3:0 (22\,16\,20)
DTSTART;TZID=Europe/Berlin:20240210T180000
DTEND;TZID=Europe/Berlin:20240210T200000
LOCATION:Hala ZŠ Dr. Hrubého\, Dr. Hrubého 319 Šternberk
SUMMARY:EX-U18Z-6D: Šternberk-Plzeň
END:VEVENT
BEGIN:VEVENT
UID:36653235-3734-4764-a561-626161343032
DTSTAMP:20260423T042855Z
DESCRIPTION:7/3 Plzeň - Demlova 0:3 (-16\,-12\,-22)
DTSTART;TZID=Europe/Berlin:20240302T160000
DTEND;TZID=Europe/Berlin:20240302T180000
LOCATION:Sportovní hala ZŠ\, náměstí Českého povstání 511 Praha - Ruzyně
SUMMARY:EX-U18Z-7D: Plzeň-Demlova
END:VEVENT
BEGIN:VEVENT
UID:37336562-6130-4864-a564-636534393732
DTSTAMP:20260423T042855Z
DESCRIPTION:7/1 Střešovice - Plzeň 3:1 (17\,-19\,18\,16)
DTSTART;TZID=Europe/Berlin:20240302T100000
DTEND;TZID=Europe/Berlin:20240302T120000
LOCATION:Sportovní hala ZŠ\, náměstí Českého povstání 511 Praha - Ruzyně
SUMMARY:EX-U18Z-7D: Střešovice-Plzeň
END:VEVENT
BEGIN:VEVENT
UID:35333137-3161-4336-a232-666563656639
DTSTAMP:20260423T042855Z
DESCRIPTION:7/5 Přerov - Plzeň 0:3 (-20\,-22\,-15)
DTSTART;TZID=Europe/Berlin:20240303T100000
DTEND;TZID=Europe/Berlin:20240303T120000
LOCATION:Sportovní hala ZŠ\, náměstí Českého povstání 511 Praha - Ruzyně
SUMMARY:EX-U18Z-7D: Přerov-Plzeň
END:VEVENT
BEGIN:VEVENT
UID:34363064-3964-4466-b638-616138646136
DTSTAMP:20260423T042855Z
DESCRIPTION:8/1 Plzeň - České Budějovice 0:3 (-17\,-19\,-21)
DTSTART;TZID=Europe/Berlin:20240427T100000
DTEND;TZID=Europe/Berlin:20240427T120000
LOCATION:Sportovní hala - SG Plzeň\, Vejprnická 663 Plzeň - Skvrňany
SUMMARY:EX-U18Z-8D: Plzeň-České Budějovice
END:VEVENT
BEGIN:VEVENT
UID:30383430-3232-4637-a166-393663393731
DTSTAMP:20260423T042855Z
DESCRIPTION:8/4 Plzeň - Přerov 3:2 (24\,-28\,-17\,16\,8)
DTSTART;TZID=Europe/Berlin:20240427T180000
DTEND;TZID=Europe/Berlin:20240427T200000
LOCATION:Sportovní hala - SG Plzeň\, Vejprnická 663 Plzeň - Skvrňany
SUMMARY:EX-U18Z-8D: Plzeň-Přerov
END:VEVENT
BEGIN:VEVENT
UID:64356463-6333-4334-b566-383166383532
DTSTAMP:20260423T042855Z
DESCRIPTION:8/6 Střešovice - Plzeň 0:3 (-19\,-8\,-12)
DTSTART;TZID=Europe/Berlin:20240428T120000
DTEND;TZID=Europe/Berlin:20240428T140000
LOCATION:Sportovní hala - SG Plzeň\, Vejprnická 663 Plzeň - Skvrňany
SUMMARY:EX-U18Z-8D: Střešovice-Plzeň
END:VEVENT
END:VCALENDAR
