BEGIN:VCALENDAR
VERSION:2.0
PRODID:-//TJ Sokol Nové Veselí82509//NONSGML kigkonsult.se iCalcreator 2.41.80//
CALSCALE:GREGORIAN
UID:62393765-3935-4739-b664-356139383866
BEGIN:VEVENT
UID:35376138-3531-4362-a431-623032613535
DTSTAMP:20260422T191338Z
DESCRIPTION:1/2 Nové Veselí - Hradec Králové 0:3 (-23\,-13\,-1)
DTSTART;TZID=Europe/Berlin:20231015T100000
DTEND;TZID=Europe/Berlin:20231015T120000
LOCATION:Víceúčelová sportovní hala Nové Veselí\, Žďárská 356 Nové Veselí
SUMMARY:1-U18Z-B: Nové Veselí-Hradec Králové
END:VEVENT
BEGIN:VEVENT
UID:66613762-3939-4363-a131-643164303664
DTSTAMP:20260422T191338Z
DESCRIPTION:2/5 Nové Veselí - Hradec Králové 0:3 (-14\,-14\,-14)
DTSTART;TZID=Europe/Berlin:20231015T140000
DTEND;TZID=Europe/Berlin:20231015T160000
LOCATION:Víceúčelová sportovní hala Nové Veselí\, Žďárská 356 Nové Veselí
SUMMARY:1-U18Z-B: Nové Veselí-Hradec Králové
END:VEVENT
BEGIN:VEVENT
UID:35626631-6636-4531-b539-363831663562
DTSTAMP:20260422T191338Z
DESCRIPTION:5/13 Nové Veselí - Olomouc 3:0 (13\,21\,19)
DTSTART;TZID=Europe/Berlin:20231119T100000
DTEND;TZID=Europe/Berlin:20231119T120000
LOCATION:Víceúčelová sportovní hala Nové Veselí\, Žďárská 356 Nové Veselí
SUMMARY:1-U18Z-B: Nové Veselí-Olomouc
END:VEVENT
BEGIN:VEVENT
UID:31316362-3130-4437-b731-323437303939
DTSTAMP:20260422T191338Z
DESCRIPTION:6/16 Nové Veselí - Olomouc 2:3 (26\,-23\,-13\,16\,-13)
DTSTART;TZID=Europe/Berlin:20231119T140000
DTEND;TZID=Europe/Berlin:20231119T160000
LOCATION:Víceúčelová sportovní hala Nové Veselí\, Žďárská 356 Nové Veselí
SUMMARY:1-U18Z-B: Nové Veselí-Olomouc
END:VEVENT
BEGIN:VEVENT
UID:64653530-6638-4335-a334-656461663838
DTSTAMP:20260422T191338Z
DESCRIPTION:7/21 Nové Veselí - Bedřichov 0:3 (-6\,-20\,-26)
DTSTART;TZID=Europe/Berlin:20231028T100000
DTEND;TZID=Europe/Berlin:20231028T120000
LOCATION:Víceúčelová sportovní hala Nové Veselí\, Žďárská 356 Nové Veselí
SUMMARY:1-U18Z-B: Nové Veselí-Bedřichov
END:VEVENT
BEGIN:VEVENT
UID:34663962-3230-4266-b936-393230653933
DTSTAMP:20260422T191338Z
DESCRIPTION:8/24 Nové Veselí - Bedřichov 1:3 (21\,-14\,-21\,-26)
DTSTART;TZID=Europe/Berlin:20231028T140000
DTEND;TZID=Europe/Berlin:20231028T160000
LOCATION:Víceúčelová sportovní hala Nové Veselí\, Žďárská 356 Nové Veselí
SUMMARY:1-U18Z-B: Nové Veselí-Bedřichov
END:VEVENT
BEGIN:VEVENT
UID:37343566-6136-4539-b534-313630643430
DTSTAMP:20260422T191338Z
DESCRIPTION:9/26 Nové Veselí - Svitavy 3:0 (18\,21\,23)
DTSTART;TZID=Europe/Berlin:20231104T100000
DTEND;TZID=Europe/Berlin:20231104T120000
LOCATION:Víceúčelová sportovní hala Nové Veselí\, Žďárská 356 Nové Veselí
SUMMARY:1-U18Z-B: Nové Veselí-Svitavy
END:VEVENT
BEGIN:VEVENT
UID:36636333-6638-4534-a231-623137313464
DTSTAMP:20260422T191338Z
DESCRIPTION:10/29 Nové Veselí - Svitavy 3:1 (17\,13\,-12\,13)
DTSTART;TZID=Europe/Berlin:20231104T140000
DTEND;TZID=Europe/Berlin:20231104T160000
LOCATION:Víceúčelová sportovní hala Nové Veselí\, Žďárská 356 Nové Veselí
SUMMARY:1-U18Z-B: Nové Veselí-Svitavy
END:VEVENT
BEGIN:VEVENT
UID:66306537-3030-4530-b461-633432306330
DTSTAMP:20260422T191338Z
DESCRIPTION:11/32 Hradec Králové - Nové Veselí 3:0 (16\,14\,11)
DTSTART;TZID=Europe/Berlin:20231111T100000
DTEND;TZID=Europe/Berlin:20231111T120000
LOCATION:TJ Slavia Hradec Králové\, Víta Nejedlého 1216 Hradec Králové
SUMMARY:1-U18Z-B: Hradec Králové-Nové Veselí
END:VEVENT
BEGIN:VEVENT
UID:65383964-3933-4130-b438-346364656638
DTSTAMP:20260422T191338Z
DESCRIPTION:12/35 Hradec Králové - Nové Veselí 3:0 (7\,16\,15)
DTSTART;TZID=Europe/Berlin:20231111T140000
DTEND;TZID=Europe/Berlin:20231111T160000
LOCATION:TJ Slavia Hradec Králové\, Víta Nejedlého 1216 Hradec Králové
SUMMARY:1-U18Z-B: Hradec Králové-Nové Veselí
END:VEVENT
BEGIN:VEVENT
UID:65656133-3564-4637-b132-383863333733
DTSTAMP:20260422T191338Z
DESCRIPTION:15/43 Olomouc - Nové Veselí 3:1 (16\,21\,-16\,20)
DTSTART;TZID=Europe/Berlin:20231202T100000
DTEND;TZID=Europe/Berlin:20231202T120000
LOCATION:VOŠ a SPŠE Olomouc\, Božetěchova 755 Olomouc - Hodolany
SUMMARY:1-U18Z-B: Olomouc-Nové Veselí
END:VEVENT
BEGIN:VEVENT
UID:39383939-6565-4562-b465-653361343236
DTSTAMP:20260422T191338Z
DESCRIPTION:16/46 Olomouc - Nové Veselí 3:0 (13\,19\,10)
DTSTART;TZID=Europe/Berlin:20231202T140000
DTEND;TZID=Europe/Berlin:20231202T160000
LOCATION:VOŠ a SPŠE Olomouc\, Božetěchova 755 Olomouc - Hodolany
SUMMARY:1-U18Z-B: Olomouc-Nové Veselí
END:VEVENT
BEGIN:VEVENT
UID:63356663-3736-4134-b466-376630363564
DTSTAMP:20260422T191338Z
DESCRIPTION:17/51 Bedřichov - Nové Veselí 3:0 (19\,20\,15)
DTSTART;TZID=Europe/Berlin:20231216T100000
DTEND;TZID=Europe/Berlin:20231216T120000
LOCATION:TJ Sokol Bedřichov\, Jihlava\, Sokolovská 4656 Jihlava
SUMMARY:1-U18Z-B: Bedřichov-Nové Veselí
END:VEVENT
BEGIN:VEVENT
UID:37616439-3263-4231-b939-646334363138
DTSTAMP:20260422T191338Z
DESCRIPTION:18/54 Bedřichov - Nové Veselí 3:0 (14\,15\,17)
DTSTART;TZID=Europe/Berlin:20231216T140000
DTEND;TZID=Europe/Berlin:20231216T160000
LOCATION:TJ Sokol Bedřichov\, Jihlava\, Sokolovská 4656 Jihlava
SUMMARY:1-U18Z-B: Bedřichov-Nové Veselí
END:VEVENT
BEGIN:VEVENT
UID:63346237-3365-4165-b732-646435636336
DTSTAMP:20260422T191338Z
DESCRIPTION:19/56 Svitavy - Nové Veselí 3:1 (16\,19\,-12\,20)
DTSTART;TZID=Europe/Berlin:20240106T100000
DTEND;TZID=Europe/Berlin:20240106T120000
LOCATION:Sportovní hala Na Střelnici\, Pražská 2162 Svitavy - Předměstí
SUMMARY:1-U18Z-B: Svitavy-Nové Veselí
END:VEVENT
BEGIN:VEVENT
UID:61333238-6338-4336-a666-363362643133
DTSTAMP:20260422T191338Z
DESCRIPTION:20/59 Svitavy - Nové Veselí 3:1 (-12\,12\,18\,16)
DTSTART;TZID=Europe/Berlin:20240106T140000
DTEND;TZID=Europe/Berlin:20240106T160000
LOCATION:Sportovní hala Na Střelnici\, Pražská 2162 Svitavy - Předměstí
SUMMARY:1-U18Z-B: Svitavy-Nové Veselí
END:VEVENT
BEGIN:VEVENT
UID:39373737-6131-4962-b762-663034383735
DTSTAMP:20260422T191338Z
DESCRIPTION:3/8 Nové Veselí - Lvi Praha 3:2 (22\,-21\,20\,-21\,5)
DTSTART;TZID=Europe/Berlin:20240203T100000
DTEND;TZID=Europe/Berlin:20240203T120000
LOCATION:Víceúčelová sportovní hala Nové Veselí\, Žďárská 356 Nové Veselí
SUMMARY:1-U18Z-N: Nové Veselí-Lvi Praha
END:VEVENT
BEGIN:VEVENT
UID:34386234-3632-4234-a330-663235313761
DTSTAMP:20260422T191338Z
DESCRIPTION:4/11 Nové Veselí - Lvi Praha 0:3 (-23\,-21\,-13)
DTSTART;TZID=Europe/Berlin:20240203T140000
DTEND;TZID=Europe/Berlin:20240203T160000
LOCATION:Víceúčelová sportovní hala Nové Veselí\, Žďárská 356 Nové Veselí
SUMMARY:1-U18Z-N: Nové Veselí-Lvi Praha
END:VEVENT
BEGIN:VEVENT
UID:61346539-6237-4630-a431-643735656431
DTSTAMP:20260422T191338Z
DESCRIPTION:7/21 Nové Veselí - Ústí n. L. 3:0 (15\,19\,16)
DTSTART;TZID=Europe/Berlin:20240302T110000
DTEND;TZID=Europe/Berlin:20240302T130000
LOCATION:Tělocvična ZŠ a MŠ Radostín nad Oslavou\,  Radostín nad Oslavou136
SUMMARY:1-U18Z-N: Nové Veselí-Ústí n. L.
END:VEVENT
BEGIN:VEVENT
UID:61643434-3965-4435-b461-663764336539
DTSTAMP:20260422T191338Z
DESCRIPTION:8/24 Nové Veselí - Ústí n. L. 3:0 (15\,18\,20)
DTSTART;TZID=Europe/Berlin:20240302T150000
DTEND;TZID=Europe/Berlin:20240302T170000
LOCATION:Tělocvična ZŠ a MŠ Radostín nad Oslavou\,  Radostín nad Oslavou136
SUMMARY:1-U18Z-N: Nové Veselí-Ústí n. L.
END:VEVENT
BEGIN:VEVENT
UID:38356666-3437-4462-a261-353930643631
DTSTAMP:20260422T191338Z
DESCRIPTION:11/31 Nové Veselí - Mikulova 0:3 (-12\,-20\,-22)
DTSTART;TZID=Europe/Berlin:20240127T100000
DTEND;TZID=Europe/Berlin:20240127T120000
LOCATION:Víceúčelová sportovní hala Nové Veselí\, Žďárská 356 Nové Veselí
SUMMARY:1-U18Z-N: Nové Veselí-Mikulova
END:VEVENT
BEGIN:VEVENT
UID:34666466-3839-4135-a638-663033626130
DTSTAMP:20260422T191338Z
DESCRIPTION:12/34 Nové Veselí - Mikulova 0:3 (-16\,-13\,-14)
DTSTART;TZID=Europe/Berlin:20240127T140000
DTEND;TZID=Europe/Berlin:20240127T160000
LOCATION:Víceúčelová sportovní hala Nové Veselí\, Žďárská 356 Nové Veselí
SUMMARY:1-U18Z-N: Nové Veselí-Mikulova
END:VEVENT
BEGIN:VEVENT
UID:33396565-3638-4831-a332-643362386664
DTSTAMP:20260422T191338Z
DESCRIPTION:1/3 Ústí n. L. - Nové Veselí 1:3 (-21\,17\,-15\,-19)
DTSTART;TZID=Europe/Berlin:20240120T120000
DTEND;TZID=Europe/Berlin:20240120T140000
LOCATION:Tělocvična Gymnázia a Střední odborné školy dr. Václava Šmejkala\,
  Stará 3299 Ústí nad Labem - Severní Terasa
SUMMARY:1-U18Z-N: Ústí n. L.-Nové Veselí
END:VEVENT
BEGIN:VEVENT
UID:63343334-3833-4064-a163-346430663433
DTSTAMP:20260422T191338Z
DESCRIPTION:2/6 Ústí n. L. - Nové Veselí 3:2 (17\,22\,-21\,-20\,11)
DTSTART;TZID=Europe/Berlin:20240120T160000
DTEND;TZID=Europe/Berlin:20240120T180000
LOCATION:Tělocvična Gymnázia a Střední odborné školy dr. Václava Šmejkala\,
  Stará 3299 Ústí nad Labem - Severní Terasa
SUMMARY:1-U18Z-N: Ústí n. L.-Nové Veselí
END:VEVENT
BEGIN:VEVENT
UID:66633865-3133-4935-a236-643436326634
DTSTAMP:20260422T191338Z
DESCRIPTION:5/13 Mikulova - Nové Veselí 3:1 (21\,-23\,13\,13)
DTSTART;TZID=Europe/Berlin:20240317T130000
DTEND;TZID=Europe/Berlin:20240317T150000
LOCATION:Sportovní hala Čestlice\, Průhonická 305 Čestlice
SUMMARY:1-U18Z-N: Mikulova-Nové Veselí
END:VEVENT
BEGIN:VEVENT
UID:38396632-3965-4335-a165-616164353838
DTSTAMP:20260422T191338Z
DESCRIPTION:6/16 Mikulova - Nové Veselí 3:0 (13\,7\,25)
DTSTART;TZID=Europe/Berlin:20240317T170000
DTEND;TZID=Europe/Berlin:20240317T190000
LOCATION:Sportovní hala Čestlice\, Průhonická 305 Čestlice
SUMMARY:1-U18Z-N: Mikulova-Nové Veselí
END:VEVENT
BEGIN:VEVENT
UID:61643036-3237-4365-b637-326234646164
DTSTAMP:20260422T191338Z
DESCRIPTION:9/26 Lvi Praha - Nové Veselí 3:0 (23\,11\,21)
DTSTART;TZID=Europe/Berlin:20240309T100000
DTEND;TZID=Europe/Berlin:20240309T120000
LOCATION:ZŠ Balabenka\, náměstí Na Balabence 800 Praha - Libeň
SUMMARY:1-U18Z-N: Lvi Praha-Nové Veselí
END:VEVENT
BEGIN:VEVENT
UID:37386664-3037-4266-a162-306366336434
DTSTAMP:20260422T191338Z
DESCRIPTION:10/29 Lvi Praha - Nové Veselí 3:2 (-24\,23\,17\,-24\,12)
DTSTART;TZID=Europe/Berlin:20240309T140000
DTEND;TZID=Europe/Berlin:20240309T160000
LOCATION:ZŠ Balabenka\, náměstí Na Balabence 800 Praha - Libeň
SUMMARY:1-U18Z-N: Lvi Praha-Nové Veselí
END:VEVENT
END:VCALENDAR
