BEGIN:VCALENDAR
VERSION:2.0
PRODID:-//BVC Chodov82520//NONSGML kigkonsult.se iCalcreator 2.41.80//
CALSCALE:GREGORIAN
UID:65616435-3965-4664-a439-353762343164
BEGIN:VEVENT
UID:30656265-3435-4133-b630-303438343838
DTSTAMP:20260422T165920Z
DESCRIPTION:5/15 Chodov - Vejprnice 2:3 (23\,-23\,24\,-13\,-12)
DTSTART;TZID=Europe/Berlin:20231007T100000
DTEND;TZID=Europe/Berlin:20231007T120000
LOCATION:Městská sportovní hala Chodov\, Tyršova 1201 Chodov
SUMMARY:2-U18Z-B: Chodov-Vejprnice
END:VEVENT
BEGIN:VEVENT
UID:62356261-6133-4965-a463-643634663639
DTSTAMP:20260422T165920Z
DESCRIPTION:6/18 Chodov - Vejprnice 1:3 (-16\,-22\,23\,-17)
DTSTART;TZID=Europe/Berlin:20231007T140000
DTEND;TZID=Europe/Berlin:20231007T160000
LOCATION:Městská sportovní hala Chodov\, Tyršova 1201 Chodov
SUMMARY:2-U18Z-B: Chodov-Vejprnice
END:VEVENT
BEGIN:VEVENT
UID:39626561-3730-4132-a336-616536353561
DTSTAMP:20260422T165920Z
DESCRIPTION:9/26 Chodov - Příbram 0:3 (-13\,-17\,-18)
DTSTART;TZID=Europe/Berlin:20231104T100000
DTEND;TZID=Europe/Berlin:20231104T120000
LOCATION:Městská sportovní hala Chodov\, Tyršova 1201 Chodov
SUMMARY:2-U18Z-B: Chodov-Příbram
END:VEVENT
BEGIN:VEVENT
UID:66383463-6333-4931-b565-653434663162
DTSTAMP:20260422T165920Z
DESCRIPTION:10/29 Chodov - Příbram 0:3 (-16\,-18\,-20)
DTSTART;TZID=Europe/Berlin:20231104T140000
DTEND;TZID=Europe/Berlin:20231104T160000
LOCATION:Městská sportovní hala Chodov\, Tyršova 1201 Chodov
SUMMARY:2-U18Z-B: Chodov-Příbram
END:VEVENT
BEGIN:VEVENT
UID:36643663-3339-4430-b531-393466356237
DTSTAMP:20260422T165920Z
DESCRIPTION:11/33 Chodov - Český Krumlov 3:1 (-18\,15\,21\,21)
DTSTART;TZID=Europe/Berlin:20231111T100000
DTEND;TZID=Europe/Berlin:20231111T120000
LOCATION:Městská sportovní hala Chodov\, Tyršova 1201 Chodov
SUMMARY:2-U18Z-B: Chodov-Český Krumlov
END:VEVENT
BEGIN:VEVENT
UID:38646633-3136-4364-b163-653136646530
DTSTAMP:20260422T165920Z
DESCRIPTION:12/36 Chodov - Český Krumlov 3:2 (-20\,16\,23\,-17\,13)
DTSTART;TZID=Europe/Berlin:20231111T140000
DTEND;TZID=Europe/Berlin:20231111T160000
LOCATION:Městská sportovní hala Chodov\, Tyršova 1201 Chodov
SUMMARY:2-U18Z-B: Chodov-Český Krumlov
END:VEVENT
BEGIN:VEVENT
UID:66363933-6531-4262-a637-343538363762
DTSTAMP:20260422T165920Z
DESCRIPTION:13/37 Chodov - Kladno 3:1 (12\,24\,-17\,17)
DTSTART;TZID=Europe/Berlin:20231125T100000
DTEND;TZID=Europe/Berlin:20231125T120000
LOCATION:Městská sportovní hala Chodov\, Tyršova 1201 Chodov
SUMMARY:2-U18Z-B: Chodov-Kladno
END:VEVENT
BEGIN:VEVENT
UID:64383039-3866-4265-a163-396261633965
DTSTAMP:20260422T165920Z
DESCRIPTION:14/40 Chodov - Kladno 3:2 (-7\,15\,14\,-18\,13)
DTSTART;TZID=Europe/Berlin:20231125T140000
DTEND;TZID=Europe/Berlin:20231125T160000
LOCATION:Městská sportovní hala Chodov\, Tyršova 1201 Chodov
SUMMARY:2-U18Z-B: Chodov-Kladno
END:VEVENT
BEGIN:VEVENT
UID:32333134-3363-4035-b536-646364363331
DTSTAMP:20260422T165920Z
DESCRIPTION:17/50 Chodov - Sokolov 1:3 (23\,-21\,-18\,-23)
DTSTART;TZID=Europe/Berlin:20231216T100000
DTEND;TZID=Europe/Berlin:20231216T120000
LOCATION:Městská sportovní hala Chodov\, Tyršova 1201 Chodov
SUMMARY:2-U18Z-B: Chodov-Sokolov
END:VEVENT
BEGIN:VEVENT
UID:33646134-3861-4465-b563-376434663266
DTSTAMP:20260422T165920Z
DESCRIPTION:18/53 Chodov - Sokolov 3:1 (20\,23\,-19\,20)
DTSTART;TZID=Europe/Berlin:20231216T140000
DTEND;TZID=Europe/Berlin:20231216T160000
LOCATION:Městská sportovní hala Chodov\, Tyršova 1201 Chodov
SUMMARY:2-U18Z-B: Chodov-Sokolov
END:VEVENT
BEGIN:VEVENT
UID:30333434-3937-4766-a230-316534666438
DTSTAMP:20260422T165920Z
DESCRIPTION:1/3 Český Krumlov - Chodov 3:0 (24\,18\,23)
DTSTART;TZID=Europe/Berlin:20230916T100000
DTEND;TZID=Europe/Berlin:20230916T120000
LOCATION:ZŠ Za Nádražím Český Krumlov\, Za Nádražím 222 Český Krumlov - Nád
 ražní Předměstí
SUMMARY:2-U18Z-B: Český Krumlov-Chodov
END:VEVENT
BEGIN:VEVENT
UID:30306334-3035-4238-a635-393030383566
DTSTAMP:20260422T165920Z
DESCRIPTION:2/6 Český Krumlov - Chodov 2:3 (23\,-25\,20\,-26\,-4)
DTSTART;TZID=Europe/Berlin:20230916T140000
DTEND;TZID=Europe/Berlin:20230916T160000
LOCATION:ZŠ Za Nádražím Český Krumlov\, Za Nádražím 222 Český Krumlov - Nád
 ražní Předměstí
SUMMARY:2-U18Z-B: Český Krumlov-Chodov
END:VEVENT
BEGIN:VEVENT
UID:65386636-6566-4438-a338-326638666235
DTSTAMP:20260422T165920Z
DESCRIPTION:3/7 Kladno - Chodov 0:3 (-23\,-19\,-23)
DTSTART;TZID=Europe/Berlin:20230928T090000
DTEND;TZID=Europe/Berlin:20230928T110000
LOCATION:Kladenská sportovní hala\, Sportovců 817 Kladno - Rozdělov
SUMMARY:2-U18Z-B: Kladno-Chodov
END:VEVENT
BEGIN:VEVENT
UID:34366635-3463-4335-a237-626133323262
DTSTAMP:20260422T165920Z
DESCRIPTION:4/10 Kladno - Chodov 3:1 (20\,22\,-20\,15)
DTSTART;TZID=Europe/Berlin:20230928T130000
DTEND;TZID=Europe/Berlin:20230928T150000
LOCATION:Kladenská sportovní hala\, Sportovců 817 Kladno - Rozdělov
SUMMARY:2-U18Z-B: Kladno-Chodov
END:VEVENT
BEGIN:VEVENT
UID:62343530-3536-4930-b961-646332653134
DTSTAMP:20260422T165920Z
DESCRIPTION:7/20 Sokolov - Chodov 3:1 (22\,-11\,20\,19)
DTSTART;TZID=Europe/Berlin:20231028T100000
DTEND;TZID=Europe/Berlin:20231028T120000
LOCATION:Jiskra\, Maxima Gorkého 280 Sokolov
SUMMARY:2-U18Z-B: Sokolov-Chodov
END:VEVENT
BEGIN:VEVENT
UID:66353562-3661-4266-b165-663366333862
DTSTAMP:20260422T165920Z
DESCRIPTION:8/23 Sokolov - Chodov 3:2 (17\,-25\,-18\,16\,9)
DTSTART;TZID=Europe/Berlin:20231028T140000
DTEND;TZID=Europe/Berlin:20231028T160000
LOCATION:Jiskra\, Maxima Gorkého 280 Sokolov
SUMMARY:2-U18Z-B: Sokolov-Chodov
END:VEVENT
BEGIN:VEVENT
UID:37653461-6536-4930-b936-396662313063
DTSTAMP:20260422T165920Z
DESCRIPTION:15/45 Vejprnice - Chodov 3:2 (26\,-15\,-21\,8\,12)
DTSTART;TZID=Europe/Berlin:20231202T100000
DTEND;TZID=Europe/Berlin:20231202T120000
LOCATION:Tělocvična ZŠ Vejprnice\, Jakuba Husníka 527 Vejprnice
SUMMARY:2-U18Z-B: Vejprnice-Chodov
END:VEVENT
BEGIN:VEVENT
UID:66306433-3536-4762-b231-316435613137
DTSTAMP:20260422T165920Z
DESCRIPTION:16/48 Vejprnice - Chodov 3:1 (15\,-25\,24\,15)
DTSTART;TZID=Europe/Berlin:20231202T140000
DTEND;TZID=Europe/Berlin:20231202T160000
LOCATION:Tělocvična ZŠ Vejprnice\, Jakuba Husníka 527 Vejprnice
SUMMARY:2-U18Z-B: Vejprnice-Chodov
END:VEVENT
BEGIN:VEVENT
UID:30373435-6661-4834-a336-303037383966
DTSTAMP:20260422T165920Z
DESCRIPTION:19/56 Příbram - Chodov 3:0 (7\,19\,16)
DTSTART;TZID=Europe/Berlin:20240107T090000
DTEND;TZID=Europe/Berlin:20240107T110000
LOCATION:Tělocvična ZŠ Balbínova\, Balbínova 328 Příbram - Příbram II
SUMMARY:2-U18Z-B: Příbram-Chodov
END:VEVENT
BEGIN:VEVENT
UID:61656265-3361-4664-a264-643833623930
DTSTAMP:20260422T165920Z
DESCRIPTION:20/59 Příbram - Chodov 3:0 (22\,12\,10)
DTSTART;TZID=Europe/Berlin:20240107T130000
DTEND;TZID=Europe/Berlin:20240107T150000
LOCATION:Tělocvična ZŠ Balbínova\, Balbínova 328 Příbram - Příbram II
SUMMARY:2-U18Z-B: Příbram-Chodov
END:VEVENT
BEGIN:VEVENT
UID:65346265-3531-4930-b661-666132366130
DTSTAMP:20260422T165920Z
DESCRIPTION:3/7 Chodov - Mělník 3:2 (-19\,19\,-24\,23\,10)
DTSTART;TZID=Europe/Berlin:20240203T100000
DTEND;TZID=Europe/Berlin:20240203T120000
LOCATION:Městská sportovní hala Chodov\, Tyršova 1201 Chodov
SUMMARY:2-U18Z-N: Chodov-Mělník
END:VEVENT
BEGIN:VEVENT
UID:31366534-6666-4065-b034-633862626635
DTSTAMP:20260422T165920Z
DESCRIPTION:4/10 Chodov - Mělník 2:3 (-13\,-20\,24\,15\,-10)
DTSTART;TZID=Europe/Berlin:20240203T140000
DTEND;TZID=Europe/Berlin:20240203T160000
LOCATION:Městská sportovní hala Chodov\, Tyršova 1201 Chodov
SUMMARY:2-U18Z-N: Chodov-Mělník
END:VEVENT
BEGIN:VEVENT
UID:62653536-3731-4032-a164-613463383737
DTSTAMP:20260422T165920Z
DESCRIPTION:7/20 Chodov - Děčín 3:2 (-17\,20\,-16\,19\,14)
DTSTART;TZID=Europe/Berlin:20240302T100000
DTEND;TZID=Europe/Berlin:20240302T120000
LOCATION:Městská sportovní hala Chodov\, Tyršova 1201 Chodov
SUMMARY:2-U18Z-N: Chodov-Děčín
END:VEVENT
BEGIN:VEVENT
UID:31383166-6435-4938-b862-383437653836
DTSTAMP:20260422T165920Z
DESCRIPTION:8/23 Chodov - Děčín 0:3 (-24\,-12\,-16)
DTSTART;TZID=Europe/Berlin:20240302T140000
DTEND;TZID=Europe/Berlin:20240302T160000
LOCATION:Městská sportovní hala Chodov\, Tyršova 1201 Chodov
SUMMARY:2-U18Z-N: Chodov-Děčín
END:VEVENT
BEGIN:VEVENT
UID:36366333-6237-4039-b735-383863333633
DTSTAMP:20260422T165920Z
DESCRIPTION:11/33 Chodov - Teplice 3:0 (13\,13\,21)
DTSTART;TZID=Europe/Berlin:20240331T100000
DTEND;TZID=Europe/Berlin:20240331T120000
LOCATION:Městská sportovní hala Chodov\, Tyršova 1201 Chodov
SUMMARY:2-U18Z-N: Chodov-Teplice
END:VEVENT
BEGIN:VEVENT
UID:37613662-3366-4731-b961-313432646465
DTSTAMP:20260422T165920Z
DESCRIPTION:12/36 Chodov - Teplice 3:1 (22\,-23\,13\,16)
DTSTART;TZID=Europe/Berlin:20240331T140000
DTEND;TZID=Europe/Berlin:20240331T160000
LOCATION:Městská sportovní hala Chodov\, Tyršova 1201 Chodov
SUMMARY:2-U18Z-N: Chodov-Teplice
END:VEVENT
BEGIN:VEVENT
UID:31306239-3235-4139-b338-643533623235
DTSTAMP:20260422T165920Z
DESCRIPTION:1/2 Děčín - Chodov 3:2 (-21\,21\,24\,-18\,7)
DTSTART;TZID=Europe/Berlin:20240120T100000
DTEND;TZID=Europe/Berlin:20240120T120000
LOCATION:SH ZŠ Dr M. Tyrše\, Vrchlického 630 Děčín - Děčín II-Nové Město
SUMMARY:2-U18Z-N: Děčín-Chodov
END:VEVENT
BEGIN:VEVENT
UID:64303738-6466-4731-b964-383536356137
DTSTAMP:20260422T165920Z
DESCRIPTION:2/5 Děčín - Chodov 3:2 (-22\,-25\,22\,20\,11)
DTSTART;TZID=Europe/Berlin:20240120T140000
DTEND;TZID=Europe/Berlin:20240120T160000
LOCATION:SH ZŠ Dr M. Tyrše\, Vrchlického 630 Děčín - Děčín II-Nové Město
SUMMARY:2-U18Z-N: Děčín-Chodov
END:VEVENT
BEGIN:VEVENT
UID:66613936-3339-4733-a135-623661613632
DTSTAMP:20260422T165920Z
DESCRIPTION:5/15 Teplice - Chodov 1:3 (-13\,-11\,22\,-22)
DTSTART;TZID=Europe/Berlin:20240210T090000
DTEND;TZID=Europe/Berlin:20240210T110000
LOCATION:Hotelová škola\, Smetanovo náměstí 786 Teplice - Trnovany
SUMMARY:2-U18Z-N: Teplice-Chodov
END:VEVENT
BEGIN:VEVENT
UID:31373530-6663-4130-a664-663664313062
DTSTAMP:20260422T165920Z
DESCRIPTION:6/18 Teplice - Chodov 1:3 (-21\,-19\,17\,-8)
DTSTART;TZID=Europe/Berlin:20240210T130000
DTEND;TZID=Europe/Berlin:20240210T150000
LOCATION:Hotelová škola\, Smetanovo náměstí 786 Teplice - Trnovany
SUMMARY:2-U18Z-N: Teplice-Chodov
END:VEVENT
BEGIN:VEVENT
UID:34373434-3038-4362-b763-303632373261
DTSTAMP:20260422T165920Z
DESCRIPTION:9/25 Mělník - Chodov 3:2 (-19\,13\,-19\,23\,1)
DTSTART;TZID=Europe/Berlin:20240309T090000
DTEND;TZID=Europe/Berlin:20240309T110000
LOCATION:Hala SPŠS - Koktánek\, Pražská 416 Mělník
SUMMARY:2-U18Z-N: Mělník-Chodov
END:VEVENT
BEGIN:VEVENT
UID:34303435-6461-4465-b533-356165366131
DTSTAMP:20260422T165920Z
DESCRIPTION:10/28 Mělník - Chodov 3:2 (17\,-19\,18\,-22\,11)
DTSTART;TZID=Europe/Berlin:20240309T130000
DTEND;TZID=Europe/Berlin:20240309T150000
LOCATION:Hala SPŠS - Koktánek\, Pražská 416 Mělník
SUMMARY:2-U18Z-N: Mělník-Chodov
END:VEVENT
END:VCALENDAR
