BEGIN:VCALENDAR
VERSION:2.0
PRODID:-//TJ Energetik Chvaletice z.s.82560//NONSGML kigkonsult.se iCalcreator 2.41.80//
CALSCALE:GREGORIAN
UID:61336331-3937-4336-a264-613763333635
BEGIN:VEVENT
UID:35303038-3732-4466-b139-363766373136
DTSTAMP:20260422T150340Z
DESCRIPTION:1/2 TJ Energetik Chvaletice z.s. - Tělocvičná jednota Sokol Par
 dubice I. 2:1 (-20\,19\,11)
DTSTART;TZID=Europe/Berlin:20230917T090000
DTEND;TZID=Europe/Berlin:20230917T110000
LOCATION:ZŠ Chvaletice\, Spojovací 431 Chvaletice
SUMMARY:PA-U16Z-KVAL-A: TJ Energetik Chvaletice z.s.-Tělocvičná jednota Sok
 ol Pardubice I.
END:VEVENT
BEGIN:VEVENT
UID:30326637-3331-4038-b631-656361643434
DTSTAMP:20260422T150340Z
DESCRIPTION:1/5 TJ Energetik Chvaletice z.s. - TJ Žichlínek\, z.s. 2:1 (-18
 \,14\,8)
DTSTART;TZID=Europe/Berlin:20230917T090000
DTEND;TZID=Europe/Berlin:20230917T110000
LOCATION:ZŠ Chvaletice\, Spojovací 431 Chvaletice
SUMMARY:PA-U16Z-KVAL-A: TJ Energetik Chvaletice z.s.-TJ Žichlínek\, z.s.
END:VEVENT
BEGIN:VEVENT
UID:35393435-3761-4732-b062-326661363161
DTSTAMP:20260422T150340Z
DESCRIPTION:1/4 Letohrad - TJ Energetik Chvaletice z.s. 2:0 (10\,13)
DTSTART;TZID=Europe/Berlin:20230917T090000
DTEND;TZID=Europe/Berlin:20230917T110000
LOCATION:ZŠ U Dvora\, U Dvora 745 Letohrad
SUMMARY:PA-U16Z-KVAL-A: Letohrad-TJ Energetik Chvaletice z.s.
END:VEVENT
BEGIN:VEVENT
UID:36373730-6663-4232-b534-653930616431
DTSTAMP:20260422T150340Z
DESCRIPTION:1/1 TJ Energetik Chvaletice z.s. - TJ Spartak Polička\, z.s. 1:
 2 (15\,-18\,-14)
DTSTART;TZID=Europe/Berlin:20231008T090000
DTEND;TZID=Europe/Berlin:20231008T110000
LOCATION:ZŠ Chvaletice\, Spojovací 431 Chvaletice
SUMMARY:PA-U16Z-B-1KOLO: TJ Energetik Chvaletice z.s.-TJ Spartak Polička\, 
 z.s.
END:VEVENT
BEGIN:VEVENT
UID:66316134-6464-4436-a238-306663366337
DTSTAMP:20260422T150340Z
DESCRIPTION:1/3 TJ Energetik Chvaletice z.s. - Uničov 0:2 (-10\,-22)
DTSTART;TZID=Europe/Berlin:20231008T100000
DTEND;TZID=Europe/Berlin:20231008T120000
LOCATION:ZŠ Chvaletice\, Spojovací 431 Chvaletice
SUMMARY:PA-U16Z-B-1KOLO: TJ Energetik Chvaletice z.s.-Uničov
END:VEVENT
BEGIN:VEVENT
UID:36313236-3239-4233-b138-643132616561
DTSTAMP:20260422T150340Z
DESCRIPTION:1/5 TJ Energetik Chvaletice z.s. - Volejbalový oddíl TJ Lanškro
 un\, z.s. 2:0 (17\,30)
DTSTART;TZID=Europe/Berlin:20231008T113000
DTEND;TZID=Europe/Berlin:20231008T133000
LOCATION:ZŠ Chvaletice\, Spojovací 431 Chvaletice
SUMMARY:PA-U16Z-B-1KOLO: TJ Energetik Chvaletice z.s.-Volejbalový oddíl TJ 
 Lanškroun\, z.s.
END:VEVENT
BEGIN:VEVENT
UID:33636663-6237-4537-b662-313037346464
DTSTAMP:20260422T150340Z
DESCRIPTION:1/3 TJ Energetik Chvaletice z.s. - Volejbalový oddíl TJ Lanškro
 un\, z.s. 0:2 (-11\,-19)
DTSTART;TZID=Europe/Berlin:20231022T103000
DTEND;TZID=Europe/Berlin:20231022T123000
LOCATION:ZŠ Chvaletice\, Spojovací 431 Chvaletice
SUMMARY:PA-U16Z-C-2KOLO: TJ Energetik Chvaletice z.s.-Volejbalový oddíl TJ 
 Lanškroun\, z.s.
END:VEVENT
BEGIN:VEVENT
UID:33356538-3338-4366-b735-373231316538
DTSTAMP:20260422T150340Z
DESCRIPTION:1/5 TJ Energetik Chvaletice z.s. - TJ Žichlínek\, z.s. 1:1 (-21
 \,13)
DTSTART;TZID=Europe/Berlin:20231022T120000
DTEND;TZID=Europe/Berlin:20231022T140000
LOCATION:ZŠ Chvaletice\, Spojovací 431 Chvaletice
SUMMARY:PA-U16Z-C-2KOLO: TJ Energetik Chvaletice z.s.-TJ Žichlínek\, z.s.
END:VEVENT
BEGIN:VEVENT
UID:61383466-3532-4338-b263-363863643430
DTSTAMP:20260422T150340Z
DESCRIPTION:1/1 Tělocvičná jednota Sokol Pardubice I. - TJ Energetik Chvale
 tice z.s. 2:0 (19\,21)
DTSTART;TZID=Europe/Berlin:20231022T090000
DTEND;TZID=Europe/Berlin:20231022T110000
LOCATION:Sokolovna\, Jiráskova 29 Pardubice - Zelené Předměstí
SUMMARY:PA-U16Z-C-2KOLO: Tělocvičná jednota Sokol Pardubice I.-TJ Energetik
  Chvaletice z.s.
END:VEVENT
BEGIN:VEVENT
UID:37346434-3865-4166-b664-666262346234
DTSTAMP:20260422T150340Z
DESCRIPTION:1/8 Tělocvičná jednota Sokol Česká Třebová - TJ Energetik Chval
 etice z.s. 0:2 (-9\,-14)
DTSTART;TZID=Europe/Berlin:20231022T124500
DTEND;TZID=Europe/Berlin:20231022T144500
LOCATION:VDA u Billy\, Habrmanova 2096 Česká Třebová
SUMMARY:PA-U16Z-C-2KOLO: Tělocvičná jednota Sokol Česká Třebová-TJ Energeti
 k Chvaletice z.s.
END:VEVENT
BEGIN:VEVENT
UID:35363334-6166-4933-b932-373138356631
DTSTAMP:20260422T150340Z
DESCRIPTION:1/5 TJ Energetik Chvaletice z.s. - TJ Svitavy B 2:0 (14\,24)
DTSTART;TZID=Europe/Berlin:20231105T110000
DTEND;TZID=Europe/Berlin:20231105T130000
LOCATION:Hala VDA\, Na Skále 573 Česká Třebová
SUMMARY:PA-U16Z-C-3KOLO: TJ Energetik Chvaletice z.s.-TJ Svitavy B
END:VEVENT
BEGIN:VEVENT
UID:63343532-6234-4562-b634-333139323834
DTSTAMP:20260422T150340Z
DESCRIPTION:1/3 Tělocvičná jednota Sokol Česká Třebová - TJ Energetik Chval
 etice z.s. 0:2 (-15\,-8)
DTSTART;TZID=Europe/Berlin:20231105T100000
DTEND;TZID=Europe/Berlin:20231105T120000
LOCATION:Hala VDA\, Na Skále 573 Česká Třebová
SUMMARY:PA-U16Z-C-3KOLO: Tělocvičná jednota Sokol Česká Třebová-TJ Energeti
 k Chvaletice z.s.
END:VEVENT
BEGIN:VEVENT
UID:63663933-6536-4339-b664-383266376234
DTSTAMP:20260422T150340Z
DESCRIPTION:1/8 TJ Žichlínek\, z.s. - TJ Energetik Chvaletice z.s. 0:2 (-15
 \,-20)
DTSTART;TZID=Europe/Berlin:20231105T120000
DTEND;TZID=Europe/Berlin:20231105T140000
LOCATION:Hala VDA\, Na Skále 573 Česká Třebová
SUMMARY:PA-U16Z-C-3KOLO: TJ Žichlínek\, z.s.-TJ Energetik Chvaletice z.s.
END:VEVENT
BEGIN:VEVENT
UID:33613231-3634-4536-a632-626635633866
DTSTAMP:20260422T150340Z
DESCRIPTION:1/10 TJ Slovan Moravská Třebová\, z.s. - TJ Energetik Chvaletic
 e z.s. 2:0 (22\,9)
DTSTART;TZID=Europe/Berlin:20231105T130000
DTEND;TZID=Europe/Berlin:20231105T150000
LOCATION:Hala VDA\, Na Skále 573 Česká Třebová
SUMMARY:PA-U16Z-C-3KOLO: TJ Slovan Moravská Třebová\, z.s.-TJ Energetik Chv
 aletice z.s.
END:VEVENT
BEGIN:VEVENT
UID:32346365-3236-4666-a639-626132343138
DTSTAMP:20260422T150340Z
DESCRIPTION:1/1 TJ Energetik Chvaletice z.s. - Letohrad 0:2 (-14\,-10)\nJir
 áskova 431\, Chvaletice
DTSTART;TZID=Europe/Berlin:20231126T090000
DTEND;TZID=Europe/Berlin:20231126T110000
LOCATION:ZŠ Chvaletice\, Spojovací 431 Chvaletice
SUMMARY:PA-U16Z-B-4KOLO: TJ Energetik Chvaletice z.s.-Letohrad
END:VEVENT
BEGIN:VEVENT
UID:65313861-6332-4635-b938-366165346565
DTSTAMP:20260422T150340Z
DESCRIPTION:1/4 TJ Energetik Chvaletice z.s. - Volejbalový oddíl TJ Lanškro
 un\, z.s. 0:2 (-22\,-21)\nJiráskova 431\, Chvaletice
DTSTART;TZID=Europe/Berlin:20231126T100000
DTEND;TZID=Europe/Berlin:20231126T120000
LOCATION:ZŠ Chvaletice\, Spojovací 431 Chvaletice
SUMMARY:PA-U16Z-B-4KOLO: TJ Energetik Chvaletice z.s.-Volejbalový oddíl TJ 
 Lanškroun\, z.s.
END:VEVENT
BEGIN:VEVENT
UID:61633935-3935-4934-b263-656166303665
DTSTAMP:20260422T150340Z
DESCRIPTION:1/6 TJ Slovan Moravská Třebová\, z.s. - TJ Energetik Chvaletice
  z.s. 1:2 (23\,-23\,-13)\nJiráskova 431\, Chvaletice
DTSTART;TZID=Europe/Berlin:20231126T113000
DTEND;TZID=Europe/Berlin:20231126T133000
LOCATION:Sportovní hala SOŠ OU\, J. K. Tyla 1275 Moravská Třebová - Předměs
 tí
SUMMARY:PA-U16Z-B-4KOLO: TJ Slovan Moravská Třebová\, z.s.-TJ Energetik Chv
 aletice z.s.
END:VEVENT
BEGIN:VEVENT
UID:38653438-3261-4837-b931-646135613434
DTSTAMP:20260422T150340Z
DESCRIPTION:1/6 TJ Energetik Chvaletice z.s. - Tělocvičná jednota Sokol Čes
 ká Třebová 1:1 (11\,-21)
DTSTART;TZID=Europe/Berlin:20231210T090000
DTEND;TZID=Europe/Berlin:20231210T110000
LOCATION:ZŠ Chvaletice\, Spojovací 431 Chvaletice
SUMMARY:PA-U16Z-C-5KOLO: TJ Energetik Chvaletice z.s.-Tělocvičná jednota So
 kol Česká Třebová
END:VEVENT
BEGIN:VEVENT
UID:35616439-6262-4362-b235-323531356366
DTSTAMP:20260422T150340Z
DESCRIPTION:1/9 TJ Energetik Chvaletice z.s. - TJ Žichlínek\, z.s. 2:0 (14\
 ,7)
DTSTART;TZID=Europe/Berlin:20231210T090000
DTEND;TZID=Europe/Berlin:20231210T110000
LOCATION:ZŠ Chvaletice\, Spojovací 431 Chvaletice
SUMMARY:PA-U16Z-C-5KOLO: TJ Energetik Chvaletice z.s.-TJ Žichlínek\, z.s.
END:VEVENT
BEGIN:VEVENT
UID:62626230-3164-4066-a135-623333363638
DTSTAMP:20260422T150340Z
DESCRIPTION:1/2 TJ Svitavy B - TJ Energetik Chvaletice z.s. 0:2 (-14\,-21)
DTSTART;TZID=Europe/Berlin:20231210T090000
DTEND;TZID=Europe/Berlin:20231210T110000
LOCATION:Sportovní hala Na Střelnici\, Pražská 2162 Svitavy - Předměstí
SUMMARY:PA-U16Z-C-5KOLO: TJ Svitavy B-TJ Energetik Chvaletice z.s.
END:VEVENT
BEGIN:VEVENT
UID:66326665-6432-4464-b062-663833353439
DTSTAMP:20260422T150340Z
DESCRIPTION:1/7 TJ Slovan Moravská Třebová\, z.s. - TJ Energetik Chvaletice
  z.s. 1:1 (15\,-18)
DTSTART;TZID=Europe/Berlin:20231210T090000
DTEND;TZID=Europe/Berlin:20231210T110000
LOCATION:Sportovní hala SOŠ OU\, J. K. Tyla 1275 Moravská Třebová - Předměs
 tí
SUMMARY:PA-U16Z-C-5KOLO: TJ Slovan Moravská Třebová\, z.s.-TJ Energetik Chv
 aletice z.s.
END:VEVENT
BEGIN:VEVENT
UID:35636137-6631-4461-a165-363933326265
DTSTAMP:20260422T150340Z
DESCRIPTION:1/6 TJ Energetik Chvaletice z.s. - TJ Žichlínek\, z.s. 2:0 (25\
 ,7)
DTSTART;TZID=Europe/Berlin:20240114T090000
DTEND;TZID=Europe/Berlin:20240114T110000
LOCATION:ZŠ Chvaletice\, Spojovací 431 Chvaletice
SUMMARY:PA-U16Z-C-6KOLO: TJ Energetik Chvaletice z.s.-TJ Žichlínek\, z.s.
END:VEVENT
BEGIN:VEVENT
UID:61313632-6537-4662-b335-643261613933
DTSTAMP:20260422T150340Z
DESCRIPTION:1/2 TJ Svitavy B - TJ Energetik Chvaletice z.s. 2:1 (-22\,13\,1
 5)
DTSTART;TZID=Europe/Berlin:20240114T090000
DTEND;TZID=Europe/Berlin:20240114T110000
LOCATION:Sportovní hala Na Střelnici\, Pražská 2162 Svitavy - Předměstí
SUMMARY:PA-U16Z-C-6KOLO: TJ Svitavy B-TJ Energetik Chvaletice z.s.
END:VEVENT
BEGIN:VEVENT
UID:32323465-6264-4866-b066-316361383238
DTSTAMP:20260422T150340Z
DESCRIPTION:1/3 Tělocvičná jednota Sokol Česká Třebová - TJ Energetik Chval
 etice z.s. 0:2 (-15\,-22)
DTSTART;TZID=Europe/Berlin:20240114T090000
DTEND;TZID=Europe/Berlin:20240114T110000
LOCATION:VDA u Billy\, Habrmanova 2096 Česká Třebová
SUMMARY:PA-U16Z-C-6KOLO: Tělocvičná jednota Sokol Česká Třebová-TJ Energeti
 k Chvaletice z.s.
END:VEVENT
BEGIN:VEVENT
UID:63326163-6465-4164-b830-336232306134
DTSTAMP:20260422T150340Z
DESCRIPTION:1/4 TJ Energetik Chvaletice z.s. - TJ Spartak Polička\, z.s. 0:
 2 (-0\,-0)
DTSTART;TZID=Europe/Berlin:20240211T090000
DTEND;TZID=Europe/Berlin:20240211T110000
LOCATION:ZŠ Chvaletice\, Spojovací 431 Chvaletice
SUMMARY:PA-U16Z-B-7KOLO: TJ Energetik Chvaletice z.s.-TJ Spartak Polička\, 
 z.s.
END:VEVENT
BEGIN:VEVENT
UID:30333430-6538-4263-a233-363431383134
DTSTAMP:20260422T150340Z
DESCRIPTION:1/7 TJ Energetik Chvaletice z.s. - TJ Svitavy B 0:2 (-0\,-0)
DTSTART;TZID=Europe/Berlin:20240211T090000
DTEND;TZID=Europe/Berlin:20240211T110000
LOCATION:ZŠ Chvaletice\, Spojovací 431 Chvaletice
SUMMARY:PA-U16Z-B-7KOLO: TJ Energetik Chvaletice z.s.-TJ Svitavy B
END:VEVENT
BEGIN:VEVENT
UID:32616138-6665-4264-b536-393166346434
DTSTAMP:20260422T150340Z
DESCRIPTION:1/5 TJ Slovan Moravská Třebová\, z.s. - TJ Energetik Chvaletice
  z.s. 2:0 (0\,0)
DTSTART;TZID=Europe/Berlin:20240211T090000
DTEND;TZID=Europe/Berlin:20240211T110000
LOCATION:Sportovní hala SOŠ OU\, J. K. Tyla 1275 Moravská Třebová - Předměs
 tí
SUMMARY:PA-U16Z-B-7KOLO: TJ Slovan Moravská Třebová\, z.s.-TJ Energetik Chv
 aletice z.s.
END:VEVENT
BEGIN:VEVENT
UID:31363039-3062-4535-b335-326532663230
DTSTAMP:20260422T150340Z
DESCRIPTION:1/10 Uničov - TJ Energetik Chvaletice z.s. 2:0 (0\,0)
DTSTART;TZID=Europe/Berlin:20240211T090000
DTEND;TZID=Europe/Berlin:20240211T110000
LOCATION:tělocvična\, U Stadionu 849 Uničov
SUMMARY:PA-U16Z-B-7KOLO: Uničov-TJ Energetik Chvaletice z.s.
END:VEVENT
BEGIN:VEVENT
UID:65646331-3663-4266-b865-366563366330
DTSTAMP:20260422T150340Z
DESCRIPTION:1/2 TJ Energetik Chvaletice z.s. - Volejbalový oddíl TJ Lanškro
 un\, z.s. 1:3 (22\,-13\,-23\,-17)
DTSTART;TZID=Europe/Berlin:20240303T103000
DTEND;TZID=Europe/Berlin:20240303T123000
LOCATION:Tělocvična ZŠ\, Felberova 669 Svitavy - Lány
SUMMARY:PA-U16Z-C-8KOLO: TJ Energetik Chvaletice z.s.-Volejbalový oddíl TJ 
 Lanškroun\, z.s.
END:VEVENT
BEGIN:VEVENT
UID:33316530-3262-4732-b661-313565383062
DTSTAMP:20260422T150340Z
DESCRIPTION:1/3 TJ Energetik Chvaletice z.s. - TJ Svitavy B 0:3 (-13\,-25\,
 -23)
DTSTART;TZID=Europe/Berlin:20240303T120000
DTEND;TZID=Europe/Berlin:20240303T140000
LOCATION:Tělocvična ZŠ\, Felberova 669 Svitavy - Lány
SUMMARY:PA-U16Z-C-8KOLO: TJ Energetik Chvaletice z.s.-TJ Svitavy B
END:VEVENT
BEGIN:VEVENT
UID:64646366-3137-4934-b834-333762376332
DTSTAMP:20260422T150340Z
DESCRIPTION:1/2 TJ Energetik Chvaletice z.s. - Tělocvičná jednota Sokol Čes
 ká Třebová 3:0 (12\,23\,12)
DTSTART;TZID=Europe/Berlin:20240317T110000
DTEND;TZID=Europe/Berlin:20240317T130000
LOCATION:ZŠ Chvaletice\, Spojovací 431 Chvaletice
SUMMARY:PA-U16Z-D-9KOLO: TJ Energetik Chvaletice z.s.-Tělocvičná jednota So
 kol Česká Třebová
END:VEVENT
BEGIN:VEVENT
UID:30306335-6137-4832-a565-333836626365
DTSTAMP:20260422T150340Z
DESCRIPTION:1/1 TJ Žichlínek\, z.s. - TJ Energetik Chvaletice z.s. 0:3 (-11
 \,-14\,-17)
DTSTART;TZID=Europe/Berlin:20240317T122000
DTEND;TZID=Europe/Berlin:20240317T142000
LOCATION:Tělocvična Žichlínek\,  Žichlínek65
SUMMARY:PA-U16Z-D-9KOLO: TJ Žichlínek\, z.s.-TJ Energetik Chvaletice z.s.
END:VEVENT
END:VCALENDAR
