BEGIN:VCALENDAR
VERSION:2.0
PRODID:-//T.J. Sokol Dolní Újezd_U20Z82562//NONSGML kigkonsult.se iCalcreator 2.41.80//
CALSCALE:GREGORIAN
UID:32323237-3463-4637-b533-356231303665
BEGIN:VEVENT
UID:30323537-6361-4166-b330-313864653339
DTSTAMP:20260425T133008Z
DESCRIPTION:1/1 T.J. Sokol Dolní Újezd_U20Z - TJ Slovan Moravská Třebová_U1
 8Z 3:0 (12\,6\,4)
DTSTART;TZID=Europe/Berlin:20230916T100000
DTEND;TZID=Europe/Berlin:20230916T120000
LOCATION:tělocvična Základní školy\,  Dolní Újezd342
SUMMARY:PA-U20Z: T.J. Sokol Dolní Újezd_U20Z-TJ Slovan Moravská Třebová_U18
 Z
END:VEVENT
BEGIN:VEVENT
UID:35356663-3166-4236-b764-323463356165
DTSTAMP:20260425T133008Z
DESCRIPTION:2/6 T.J. Sokol Dolní Újezd_U20Z - TJ Slovan Moravská Třebová_U1
 8Z 3:0 (4\,14\,6)
DTSTART;TZID=Europe/Berlin:20230916T130000
DTEND;TZID=Europe/Berlin:20230916T150000
LOCATION:tělocvična Základní školy\,  Dolní Újezd342
SUMMARY:PA-U20Z: T.J. Sokol Dolní Újezd_U20Z-TJ Slovan Moravská Třebová_U18
 Z
END:VEVENT
BEGIN:VEVENT
UID:30353337-6465-4963-a436-626135396334
DTSTAMP:20260425T133008Z
DESCRIPTION:3/15 T.J. Sokol Dolní Újezd_U20Z - Choceň 3:0 (28\,25\,25)
DTSTART;TZID=Europe/Berlin:20231001T100000
DTEND;TZID=Europe/Berlin:20231001T120000
LOCATION:tělocvična Základní školy\,  Dolní Újezd342
SUMMARY:PA-U20Z: T.J. Sokol Dolní Újezd_U20Z-Choceň
END:VEVENT
BEGIN:VEVENT
UID:34643766-3633-4861-a461-633863323066
DTSTAMP:20260425T133008Z
DESCRIPTION:4/20 T.J. Sokol Dolní Újezd_U20Z - Choceň 3:2 (-24\,22\,-14\,24
 \,14)
DTSTART;TZID=Europe/Berlin:20231001T130000
DTEND;TZID=Europe/Berlin:20231001T150000
LOCATION:tělocvična Základní školy\,  Dolní Újezd342
SUMMARY:PA-U20Z: T.J. Sokol Dolní Újezd_U20Z-Choceň
END:VEVENT
BEGIN:VEVENT
UID:66613331-3530-4534-a365-663031366365
DTSTAMP:20260425T133008Z
DESCRIPTION:7/34 T.J. Sokol Dolní Újezd_U20Z - TJ Spartak Polička_U20Z 3:1 
 (14\,20\,-20\,19)
DTSTART;TZID=Europe/Berlin:20231014T100000
DTEND;TZID=Europe/Berlin:20231014T120000
LOCATION:tělocvična Základní školy\,  Dolní Újezd342
SUMMARY:PA-U20Z: T.J. Sokol Dolní Újezd_U20Z-TJ Spartak Polička_U20Z
END:VEVENT
BEGIN:VEVENT
UID:62353430-3462-4065-b561-636361383935
DTSTAMP:20260425T133008Z
DESCRIPTION:8/39 T.J. Sokol Dolní Újezd_U20Z - TJ Spartak Polička_U20Z 2:3 
 (-23\,-23\,24\,25\,-12)
DTSTART;TZID=Europe/Berlin:20231014T130000
DTEND;TZID=Europe/Berlin:20231014T150000
LOCATION:tělocvična Základní školy\,  Dolní Újezd342
SUMMARY:PA-U20Z: T.J. Sokol Dolní Újezd_U20Z-TJ Spartak Polička_U20Z
END:VEVENT
BEGIN:VEVENT
UID:66343533-6337-4636-a562-303532313638
DTSTAMP:20260425T133008Z
DESCRIPTION:11/53 T.J. Sokol Dolní Újezd_U20Z - TJ Svitavy_U20Z 3:0 (17\,12
 \,12)
DTSTART;TZID=Europe/Berlin:20231112T100000
DTEND;TZID=Europe/Berlin:20231112T120000
LOCATION:tělocvična Základní školy\,  Dolní Újezd342
SUMMARY:PA-U20Z: T.J. Sokol Dolní Újezd_U20Z-TJ Svitavy_U20Z
END:VEVENT
BEGIN:VEVENT
UID:33633938-3837-4430-b661-653632383964
DTSTAMP:20260425T133008Z
DESCRIPTION:12/58 T.J. Sokol Dolní Újezd_U20Z - TJ Svitavy_U20Z 3:0 (18\,10
 \,19)
DTSTART;TZID=Europe/Berlin:20231112T130000
DTEND;TZID=Europe/Berlin:20231112T150000
LOCATION:tělocvična Základní školy\,  Dolní Újezd342
SUMMARY:PA-U20Z: T.J. Sokol Dolní Újezd_U20Z-TJ Svitavy_U20Z
END:VEVENT
BEGIN:VEVENT
UID:35393539-3933-4336-b938-383136626333
DTSTAMP:20260425T133008Z
DESCRIPTION:23/112 T.J. Sokol Dolní Újezd_U20Z - VK Litomyšl_U20Z 3:0 (17\,
 23\,19)
DTSTART;TZID=Europe/Berlin:20231008T100000
DTEND;TZID=Europe/Berlin:20231008T120000
LOCATION:tělocvična Základní školy\,  Dolní Újezd342
SUMMARY:PA-U20Z: T.J. Sokol Dolní Újezd_U20Z-VK Litomyšl_U20Z
END:VEVENT
BEGIN:VEVENT
UID:32643433-3961-4738-b764-613638363265
DTSTAMP:20260425T133008Z
DESCRIPTION:24/117 T.J. Sokol Dolní Újezd_U20Z - VK Litomyšl_U20Z 3:2 (21\,
 16\,-19\,-25\,6)
DTSTART;TZID=Europe/Berlin:20231008T130000
DTEND;TZID=Europe/Berlin:20231008T150000
LOCATION:tělocvična Základní školy\,  Dolní Újezd342
SUMMARY:PA-U20Z: T.J. Sokol Dolní Újezd_U20Z-VK Litomyšl_U20Z
END:VEVENT
BEGIN:VEVENT
UID:61613863-3338-4764-a230-383066643462
DTSTAMP:20260425T133008Z
DESCRIPTION:27/133 T.J. Sokol Dolní Újezd_U20Z - TJ Pardubičky_U20Z 3:0 (10
 \,3\,10)
DTSTART;TZID=Europe/Berlin:20240127T100000
DTEND;TZID=Europe/Berlin:20240127T120000
LOCATION:tělocvična Základní školy\,  Dolní Újezd342
SUMMARY:PA-U20Z: T.J. Sokol Dolní Újezd_U20Z-TJ Pardubičky_U20Z
END:VEVENT
BEGIN:VEVENT
UID:63663163-3739-4035-b330-653139336539
DTSTAMP:20260425T133008Z
DESCRIPTION:28/138 T.J. Sokol Dolní Újezd_U20Z - TJ Pardubičky_U20Z 3:0 (8\
 ,10\,9)
DTSTART;TZID=Europe/Berlin:20240127T130000
DTEND;TZID=Europe/Berlin:20240127T150000
LOCATION:tělocvična Základní školy\,  Dolní Újezd342
SUMMARY:PA-U20Z: T.J. Sokol Dolní Újezd_U20Z-TJ Pardubičky_U20Z
END:VEVENT
BEGIN:VEVENT
UID:30653463-3632-4736-b839-393033303038
DTSTAMP:20260425T133008Z
DESCRIPTION:31/154 T.J. Sokol Dolní Újezd_U20Z - T.J. Sokol Česká Třebová_U
 18Z 3:0 (16\,17\,9)
DTSTART;TZID=Europe/Berlin:20240217T100000
DTEND;TZID=Europe/Berlin:20240217T120000
LOCATION:tělocvična Základní školy\,  Dolní Újezd342
SUMMARY:PA-U20Z: T.J. Sokol Dolní Újezd_U20Z-T.J. Sokol Česká Třebová_U18Z
END:VEVENT
BEGIN:VEVENT
UID:62666234-6161-4361-b265-393831323634
DTSTAMP:20260425T133008Z
DESCRIPTION:32/159 T.J. Sokol Dolní Újezd_U20Z - T.J. Sokol Česká Třebová_U
 18Z 3:0 (12\,16\,19)
DTSTART;TZID=Europe/Berlin:20240217T130000
DTEND;TZID=Europe/Berlin:20240217T150000
LOCATION:tělocvična Základní školy\,  Dolní Újezd342
SUMMARY:PA-U20Z: T.J. Sokol Dolní Újezd_U20Z-T.J. Sokol Česká Třebová_U18Z
END:VEVENT
BEGIN:VEVENT
UID:65316236-6330-4238-b734-663363643865
DTSTAMP:20260425T133008Z
DESCRIPTION:35/175 T.J. Sokol Dolní Újezd_U20Z - VK Choceň _U18Z 3:0 (12\,1
 1\,18)
DTSTART;TZID=Europe/Berlin:20240406T100000
DTEND;TZID=Europe/Berlin:20240406T120000
LOCATION:tělocvična Základní školy\,  Dolní Újezd342
SUMMARY:PA-U20Z: T.J. Sokol Dolní Újezd_U20Z-VK Choceň _U18Z
END:VEVENT
BEGIN:VEVENT
UID:39376633-3332-4430-b338-366664626366
DTSTAMP:20260425T133008Z
DESCRIPTION:36/180 T.J. Sokol Dolní Újezd_U20Z - VK Choceň _U18Z 3:0 (22\,7
 \,19)
DTSTART;TZID=Europe/Berlin:20240406T130000
DTEND;TZID=Europe/Berlin:20240406T150000
LOCATION:tělocvična Základní školy\,  Dolní Újezd342
SUMMARY:PA-U20Z: T.J. Sokol Dolní Újezd_U20Z-VK Choceň _U18Z
END:VEVENT
BEGIN:VEVENT
UID:35666563-3961-4434-b364-303835636662
DTSTAMP:20260425T133008Z
DESCRIPTION:5/22 VK Litomyšl_U20Z - T.J. Sokol Dolní Újezd_U20Z 1:3 (22\,-1
 4\,-18\,-10)
DTSTART;TZID=Europe/Berlin:20240303T100000
DTEND;TZID=Europe/Berlin:20240303T120000
LOCATION:Městská sportovní hala\, T. G. Masaryka 1145 Litomyšl - Litomyšl-M
 ěsto
SUMMARY:PA-U20Z: VK Litomyšl_U20Z-T.J. Sokol Dolní Újezd_U20Z
END:VEVENT
BEGIN:VEVENT
UID:63343638-3034-4339-b435-383939383934
DTSTAMP:20260425T133008Z
DESCRIPTION:6/27 VK Litomyšl_U20Z - T.J. Sokol Dolní Újezd_U20Z 1:3 (-18\,-
 17\,18\,-13)
DTSTART;TZID=Europe/Berlin:20240303T130000
DTEND;TZID=Europe/Berlin:20240303T150000
LOCATION:Městská sportovní hala\, T. G. Masaryka 1145 Litomyšl - Litomyšl-M
 ěsto
SUMMARY:PA-U20Z: VK Litomyšl_U20Z-T.J. Sokol Dolní Újezd_U20Z
END:VEVENT
BEGIN:VEVENT
UID:66643462-3263-4463-a233-323335383239
DTSTAMP:20260425T133008Z
DESCRIPTION:9/43 TJ Pardubičky_U20Z - T.J. Sokol Dolní Újezd_U20Z 0:3 (-12\
 ,-10\,-13)
DTSTART;TZID=Europe/Berlin:20231105T100000
DTEND;TZID=Europe/Berlin:20231105T120000
LOCATION:Tělocvična TJ Pardubičky\, Bokova 364 Pardubice - Pardubičky
SUMMARY:PA-U20Z: TJ Pardubičky_U20Z-T.J. Sokol Dolní Újezd_U20Z
END:VEVENT
BEGIN:VEVENT
UID:39636632-3235-4430-a534-326539323539
DTSTAMP:20260425T133008Z
DESCRIPTION:10/48 TJ Pardubičky_U20Z - T.J. Sokol Dolní Újezd_U20Z 0:3 (-15
 \,-16\,-20)
DTSTART;TZID=Europe/Berlin:20231105T130000
DTEND;TZID=Europe/Berlin:20231105T150000
LOCATION:Tělocvična TJ Pardubičky\, Bokova 364 Pardubice - Pardubičky
SUMMARY:PA-U20Z: TJ Pardubičky_U20Z-T.J. Sokol Dolní Újezd_U20Z
END:VEVENT
BEGIN:VEVENT
UID:39656566-3237-4162-b366-316434376165
DTSTAMP:20260425T133008Z
DESCRIPTION:13/64 T.J. Sokol Česká Třebová_U18Z - T.J. Sokol Dolní Újezd_U2
 0Z 0:3 (-14\,-29\,-15)
DTSTART;TZID=Europe/Berlin:20231117T100000
DTEND;TZID=Europe/Berlin:20231117T120000
LOCATION:Hala VDA\, Na Skále 573 Česká Třebová
SUMMARY:PA-U20Z: T.J. Sokol Česká Třebová_U18Z-T.J. Sokol Dolní Újezd_U20Z
END:VEVENT
BEGIN:VEVENT
UID:31306164-3838-4531-a635-383463306262
DTSTAMP:20260425T133008Z
DESCRIPTION:14/69 T.J. Sokol Česká Třebová_U18Z - T.J. Sokol Dolní Újezd_U2
 0Z 0:3 (-18\,-17\,-13)
DTSTART;TZID=Europe/Berlin:20231117T130000
DTEND;TZID=Europe/Berlin:20231117T150000
LOCATION:Hala VDA\, Na Skále 573 Česká Třebová
SUMMARY:PA-U20Z: T.J. Sokol Česká Třebová_U18Z-T.J. Sokol Dolní Újezd_U20Z
END:VEVENT
BEGIN:VEVENT
UID:33623261-3165-4364-b864-373966373532
DTSTAMP:20260425T133008Z
DESCRIPTION:17/85 VK Choceň _U18Z - T.J. Sokol Dolní Újezd_U20Z 0:3 (-16\,-
 17\,-13)
DTSTART;TZID=Europe/Berlin:20231203T100000
DTEND;TZID=Europe/Berlin:20231203T120000
LOCATION:Volejbalová hala \, U Koupaliště 1734 Choceň
SUMMARY:PA-U20Z: VK Choceň _U18Z-T.J. Sokol Dolní Újezd_U20Z
END:VEVENT
BEGIN:VEVENT
UID:64336131-3735-4935-b966-396237363363
DTSTAMP:20260425T133008Z
DESCRIPTION:18/90 VK Choceň _U18Z - T.J. Sokol Dolní Újezd_U20Z 0:3 (-22\,-
 12\,-19)
DTSTART;TZID=Europe/Berlin:20231203T130000
DTEND;TZID=Europe/Berlin:20231203T150000
LOCATION:Volejbalová hala \, U Koupaliště 1734 Choceň
SUMMARY:PA-U20Z: VK Choceň _U18Z-T.J. Sokol Dolní Újezd_U20Z
END:VEVENT
BEGIN:VEVENT
UID:63303564-3464-4461-b465-383233303335
DTSTAMP:20260425T133008Z
DESCRIPTION:19/91 TJ Slovan Moravská Třebová_U18Z - T.J. Sokol Dolní Újezd_
 U20Z 0:3 (-15\,-17\,-17)
DTSTART;TZID=Europe/Berlin:20231217T100000
DTEND;TZID=Europe/Berlin:20231217T120000
LOCATION:Sportovní hala SOŠ OU\, J. K. Tyla 1275 Moravská Třebová - Předměs
 tí
SUMMARY:PA-U20Z: TJ Slovan Moravská Třebová_U18Z-T.J. Sokol Dolní Újezd_U20
 Z
END:VEVENT
BEGIN:VEVENT
UID:39393165-6130-4934-a664-346633623164
DTSTAMP:20260425T133008Z
DESCRIPTION:20/96 TJ Slovan Moravská Třebová_U18Z - T.J. Sokol Dolní Újezd_
 U20Z 0:3 (-10\,-17\,-16)
DTSTART;TZID=Europe/Berlin:20231217T130000
DTEND;TZID=Europe/Berlin:20231217T150000
LOCATION:Sportovní hala SOŠ OU\, J. K. Tyla 1275 Moravská Třebová - Předměs
 tí
SUMMARY:PA-U20Z: TJ Slovan Moravská Třebová_U18Z-T.J. Sokol Dolní Újezd_U20
 Z
END:VEVENT
BEGIN:VEVENT
UID:65663765-3430-4135-b035-643966313437
DTSTAMP:20260425T133008Z
DESCRIPTION:21/105 Choceň - T.J. Sokol Dolní Újezd_U20Z 3:1 (21\,11\,-21\,2
 1)
DTSTART;TZID=Europe/Berlin:20231210T100000
DTEND;TZID=Europe/Berlin:20231210T120000
LOCATION:Volejbalová hala \, U Koupaliště 1734 Choceň
SUMMARY:PA-U20Z: Choceň-T.J. Sokol Dolní Újezd_U20Z
END:VEVENT
BEGIN:VEVENT
UID:32336535-3937-4339-a630-623335316162
DTSTAMP:20260425T133008Z
DESCRIPTION:22/110 Choceň - T.J. Sokol Dolní Újezd_U20Z 3:0 (21\,11\,14)
DTSTART;TZID=Europe/Berlin:20231210T130000
DTEND;TZID=Europe/Berlin:20231210T150000
LOCATION:Volejbalová hala \, U Koupaliště 1734 Choceň
SUMMARY:PA-U20Z: Choceň-T.J. Sokol Dolní Újezd_U20Z
END:VEVENT
BEGIN:VEVENT
UID:65613735-6565-4865-a564-306439353138
DTSTAMP:20260425T133008Z
DESCRIPTION:25/124 TJ Spartak Polička_U20Z - T.J. Sokol Dolní Újezd_U20Z 3:
 2 (10\,23\,-20\,-26\,11)
DTSTART;TZID=Europe/Berlin:20240120T100000
DTEND;TZID=Europe/Berlin:20240120T120000
LOCATION:TJ Spartak Polička\, z.s. \, nábř. Svobody 447 Polička - Horní Pře
 dměstí
SUMMARY:PA-U20Z: TJ Spartak Polička_U20Z-T.J. Sokol Dolní Újezd_U20Z
END:VEVENT
BEGIN:VEVENT
UID:64363234-3664-4863-b363-386462356466
DTSTAMP:20260425T133008Z
DESCRIPTION:26/129 TJ Spartak Polička_U20Z - T.J. Sokol Dolní Újezd_U20Z 3:
 0 (19\,23\,18)
DTSTART;TZID=Europe/Berlin:20240120T130000
DTEND;TZID=Europe/Berlin:20240120T150000
LOCATION:TJ Spartak Polička\, z.s. \, nábř. Svobody 447 Polička - Horní Pře
 dměstí
SUMMARY:PA-U20Z: TJ Spartak Polička_U20Z-T.J. Sokol Dolní Újezd_U20Z
END:VEVENT
BEGIN:VEVENT
UID:63393031-3636-4264-b635-396361656230
DTSTAMP:20260425T133008Z
DESCRIPTION:29/143 TJ Svitavy_U20Z - T.J. Sokol Dolní Újezd_U20Z 0:3 (-13\,
 -10\,-11)
DTSTART;TZID=Europe/Berlin:20240317T100000
DTEND;TZID=Europe/Berlin:20240317T120000
LOCATION:Sportovní hala Na Střelnici\, Pražská 2162 Svitavy - Předměstí
SUMMARY:PA-U20Z: TJ Svitavy_U20Z-T.J. Sokol Dolní Újezd_U20Z
END:VEVENT
BEGIN:VEVENT
UID:66653135-6166-4539-b663-623631353734
DTSTAMP:20260425T133008Z
DESCRIPTION:30/148 TJ Svitavy_U20Z - T.J. Sokol Dolní Újezd_U20Z 0:3 (-16\,
 -13\,-13)
DTSTART;TZID=Europe/Berlin:20240317T130000
DTEND;TZID=Europe/Berlin:20240317T150000
LOCATION:Sportovní hala Na Střelnici\, Pražská 2162 Svitavy - Předměstí
SUMMARY:PA-U20Z: TJ Svitavy_U20Z-T.J. Sokol Dolní Újezd_U20Z
END:VEVENT
END:VCALENDAR
